BEGIN:VCALENDAR
VERSION:2.0
PRODID:-//Adas Israel Congregation - ECPv6.2.9//NONSGML v1.0//EN
CALSCALE:GREGORIAN
METHOD:PUBLISH
X-WR-CALNAME:Adas Israel Congregation
X-ORIGINAL-URL:https://calendar.adasisrael.org
X-WR-CALDESC:Events for Adas Israel Congregation
REFRESH-INTERVAL;VALUE=DURATION:PT1H
X-Robots-Tag:noindex
X-PUBLISHED-TTL:PT1H
BEGIN:VTIMEZONE
TZID:America/New_York
BEGIN:DAYLIGHT
TZOFFSETFROM:-0500
TZOFFSETTO:-0400
TZNAME:EDT
DTSTART:20240310T070000
END:DAYLIGHT
BEGIN:STANDARD
TZOFFSETFROM:-0400
TZOFFSETTO:-0500
TZNAME:EST
DTSTART:20241103T060000
END:STANDARD
BEGIN:DAYLIGHT
TZOFFSETFROM:-0500
TZOFFSETTO:-0400
TZNAME:EDT
DTSTART:20250309T070000
END:DAYLIGHT
BEGIN:STANDARD
TZOFFSETFROM:-0400
TZOFFSETTO:-0500
TZNAME:EST
DTSTART:20251102T060000
END:STANDARD
END:VTIMEZONE
BEGIN:VEVENT
DTSTART;TZID=America/New_York:20250215T131500
DTEND;TZID=America/New_York:20250215T140000
DTSTAMP:20260421T094324
CREATED:20250207T012504Z
LAST-MODIFIED:20250215T182002Z
UID:10007030-1739625300-1739628000@calendar.adasisrael.org
SUMMARY:Shabbat Mincha Service
DESCRIPTION:
URL:https://calendar.adasisrael.org/event/shabbat-mincha-service-83/
LOCATION:Smith Sanctuary
CATEGORIES:Shabbat
ATTACH;FMTTYPE=image/jpeg:https://calendar.adasisrael.org/wp-content/uploads/2023/07/minchaservice600x400-sc8WO8.tmp_.jpg
END:VEVENT
BEGIN:VEVENT
DTSTART;TZID=America/New_York:20250215T093000
DTEND;TZID=America/New_York:20250215T120000
DTSTAMP:20260421T094324
CREATED:20250207T012504Z
LAST-MODIFIED:20250215T165501Z
UID:10007026-1739611800-1739620800@calendar.adasisrael.org
SUMMARY:Shabbat Smith Service
DESCRIPTION:Click Here To Livestream \nShabbat morning services in the Charles E. Smith Sanctuary\, the synagogue’s largest worship space\, are led by our inspiring Rabbis and Cantor. The service includes a D’var Torah and sermon by the Rabbi and often includes participation by members and B’nai Mitzvah. \nShabbat Service Links: \nSiddur Lev Shalem: Kabbalat Shabbat | Click Here to DownloadSiddur Lev Shalem: Shabbat Morning | Click Here to Download
URL:https://calendar.adasisrael.org/event/shabbat-smith-service-77/
LOCATION:Smith Sanctuary
CATEGORIES:Shabbat
ATTACH;FMTTYPE=image/jpeg:https://calendar.adasisrael.org/wp-content/uploads/2024/03/AdasShabbat-YxiwDc.tmp_.jpg
END:VEVENT
BEGIN:VEVENT
DTSTART;TZID=America/New_York:20250208T093000
DTEND;TZID=America/New_York:20250208T120000
DTSTAMP:20260421T094324
CREATED:20250207T012502Z
LAST-MODIFIED:20250208T164002Z
UID:10006994-1739007000-1739016000@calendar.adasisrael.org
SUMMARY:Shabbat Smith Service
DESCRIPTION:Click Here To Livestream \nShabbat morning services in the Charles E. Smith Sanctuary\, the synagogue’s largest worship space\, are led by our inspiring Rabbis and Cantor. The service includes a D’var Torah and sermon by the Rabbi and often includes participation by members and B’nai Mitzvah. \nShabbat Service Links: \nSiddur Lev Shalem: Kabbalat Shabbat | Click Here to DownloadSiddur Lev Shalem: Shabbat Morning | Click Here to Download
URL:https://calendar.adasisrael.org/event/shabbat-smith-service-71/
LOCATION:Smith Sanctuary
CATEGORIES:Shabbat
ATTACH;FMTTYPE=image/jpeg:https://calendar.adasisrael.org/wp-content/uploads/2024/03/AdasShabbat-YxiwDc.tmp_.jpg
END:VEVENT
BEGIN:VEVENT
DTSTART;TZID=America/New_York:20250201T093000
DTEND;TZID=America/New_York:20250201T120000
DTSTAMP:20260421T094324
CREATED:20241124T134523Z
LAST-MODIFIED:20250201T155502Z
UID:10006507-1738402200-1738411200@calendar.adasisrael.org
SUMMARY:Shabbat Smith Service
DESCRIPTION:Come be inspired by Teen Shabbat in the Smith Sanctuary – Shabbat morning Feb. 1st!  We’ll be led in Torah\, Haftarah\, Divrei Torah\, and Prayers by our teenagers\, and all teens will receive group aliyot to the Torah.  Catch up with friends and make new ones at Kiddush lunch including an ice cream sundae bar celebrating International Ice Cream for Breakfast Day! \nClick Here To Livestream \nShabbat Service Links: \nSiddur Lev Shalem: Kabbalat Shabbat | Click Here to DownloadSiddur Lev Shalem: Shabbat Morning | Click Here to Download
URL:https://calendar.adasisrael.org/event/shabbat-smith-service-76/
LOCATION:Smith Sanctuary
CATEGORIES:Shabbat
ATTACH;FMTTYPE=image/jpeg:https://calendar.adasisrael.org/wp-content/uploads/2024/03/AdasShabbat-YxiwDc.tmp_.jpg
END:VEVENT
BEGIN:VEVENT
DTSTART;TZID=America/New_York:20250125T093000
DTEND;TZID=America/New_York:20250125T120000
DTSTAMP:20260421T094324
CREATED:20241124T134520Z
LAST-MODIFIED:20250125T170002Z
UID:10006475-1737797400-1737806400@calendar.adasisrael.org
SUMMARY:Shabbat Smith Service
DESCRIPTION:Click Here To Livestream \nShabbat morning services in the Charles E. Smith Sanctuary\, the synagogue’s largest worship space\, are led by our inspiring Rabbis and Cantor. The service includes a D’var Torah and sermon by the Rabbi and often includes participation by members and B’nai Mitzvah. \nShabbat Service Links: \nSiddur Lev Shalem: Kabbalat Shabbat | Click Here to DownloadSiddur Lev Shalem: Shabbat Morning | Click Here to Download
URL:https://calendar.adasisrael.org/event/shabbat-smith-service-75/
LOCATION:Smith Sanctuary
CATEGORIES:Shabbat
ATTACH;FMTTYPE=image/jpeg:https://calendar.adasisrael.org/wp-content/uploads/2024/03/AdasShabbat-YxiwDc.tmp_.jpg
END:VEVENT
BEGIN:VEVENT
DTSTART;TZID=America/New_York:20250124T180000
DTEND;TZID=America/New_York:20250124T190000
DTSTAMP:20260421T094324
CREATED:20241124T134520Z
LAST-MODIFIED:20250124T225501Z
UID:10006473-1737741600-1737745200@calendar.adasisrael.org
SUMMARY:Lechu Neranana Service
DESCRIPTION:Come sing! Join us for a spirited musical community service on Friday night at 6:00pm in the Smith Sanctuary. Rabbi Solomon\, Cantor Brown\, and Adas musicians create an inclusive and joyful atmosphere engaging children and offering adults an uplifting experience of t’filah (prayer). We will feature participation of our students in this multi-generation Kabbalat Shabbat service. Services are followed by an informal\, Shabbat dinner\, pre-registration for dinner required. \nRegister
URL:https://calendar.adasisrael.org/event/lechu-neranana-service-7/
LOCATION:Smith Sanctuary
ATTACH;FMTTYPE=image/jpeg:https://calendar.adasisrael.org/wp-content/uploads/2023/07/Front-Professional.jpg
END:VEVENT
BEGIN:VEVENT
DTSTART;TZID=America/New_York:20250118T093000
DTEND;TZID=America/New_York:20250118T120000
DTSTAMP:20260421T094324
CREATED:20241124T134518Z
LAST-MODIFIED:20250118T164001Z
UID:10006448-1737192600-1737201600@calendar.adasisrael.org
SUMMARY:Shabbat Smith Service
DESCRIPTION:Click Here To Livestream \nShabbat morning services in the Charles E. Smith Sanctuary\, the synagogue’s largest worship space\, are led by our inspiring Rabbis and Cantor. The service includes a D’var Torah and sermon by the Rabbi and often includes participation by members and B’nai Mitzvah. \nShabbat Service Links: \nSiddur Lev Shalem: Kabbalat Shabbat | Click Here to DownloadSiddur Lev Shalem: Shabbat Morning | Click Here to Download
URL:https://calendar.adasisrael.org/event/shabbat-smith-service-74/
LOCATION:Smith Sanctuary
CATEGORIES:Shabbat
ATTACH;FMTTYPE=image/jpeg:https://calendar.adasisrael.org/wp-content/uploads/2024/03/AdasShabbat-YxiwDc.tmp_.jpg
END:VEVENT
BEGIN:VEVENT
DTSTART;TZID=America/New_York:20250117T183000
DTEND;TZID=America/New_York:20250117T203000
DTSTAMP:20260421T094324
CREATED:20241124T134518Z
LAST-MODIFIED:20250118T013002Z
UID:10006444-1737138600-1737145800@calendar.adasisrael.org
SUMMARY:MLK Kabbalat Shabbat
DESCRIPTION:Come together as a community to celebrate and reflect on the wisdom\, courage\, and lasting legacy of the Reverend Dr. Martin Luther King\, Jr. The weekend will include Shabbat services with guest speakers\, a communal dinner\, and engaging study sessions and discussions led by the Social Action Committee and community leaders\, exploring the connections between Dr. King’s teachings and Jewish texts. \nJoin us for a vibrant Kabbalat Shabbat filled with soulful song\, deep intention\, and meaningful prayer\, featuring talented musicians.
URL:https://calendar.adasisrael.org/event/mlk-kabbalat-shabbat/
LOCATION:Smith Sanctuary
CATEGORIES:Shabbat
ATTACH;FMTTYPE=image/jpeg:https://calendar.adasisrael.org/wp-content/uploads/2025/01/600x400-mlk1-JvjEdI.tmp_.jpg
END:VEVENT
BEGIN:VEVENT
DTSTART;TZID=America/New_York:20250111T093000
DTEND;TZID=America/New_York:20250111T120000
DTSTAMP:20260421T094324
CREATED:20241124T134516Z
LAST-MODIFIED:20250111T160002Z
UID:10006410-1736587800-1736596800@calendar.adasisrael.org
SUMMARY:Shabbat Smith Service
DESCRIPTION:Click Here To Livestream \nShabbat morning services in the Charles E. Smith Sanctuary\, the synagogue’s largest worship space\, are led by our inspiring Rabbis and Cantor. The service includes a D’var Torah and sermon by the Rabbi and often includes participation by members and B’nai Mitzvah. \nShabbat Service Links: \nSiddur Lev Shalem: Kabbalat Shabbat | Click Here to DownloadSiddur Lev Shalem: Shabbat Morning | Click Here to Download
URL:https://calendar.adasisrael.org/event/shabbat-smith-service-73/
LOCATION:Smith Sanctuary
CATEGORIES:Shabbat
ATTACH;FMTTYPE=image/jpeg:https://calendar.adasisrael.org/wp-content/uploads/2024/03/AdasShabbat-YxiwDc.tmp_.jpg
END:VEVENT
BEGIN:VEVENT
DTSTART;TZID=America/New_York:20250104T093000
DTEND;TZID=America/New_York:20250104T120000
DTSTAMP:20260421T094324
CREATED:20241124T134513Z
LAST-MODIFIED:20250104T162502Z
UID:10006375-1735983000-1735992000@calendar.adasisrael.org
SUMMARY:Shabbat Smith Service
DESCRIPTION:Click Here To Livestream \nShabbat morning services in the Charles E. Smith Sanctuary\, the synagogue’s largest worship space\, are led by our inspiring Rabbis and Cantor. The service includes a D’var Torah and sermon by the Rabbi and often includes participation by members and B’nai Mitzvah. \nShabbat Service Links: \nSiddur Lev Shalem: Kabbalat Shabbat | Click Here to DownloadSiddur Lev Shalem: Shabbat Morning | Click Here to Download
URL:https://calendar.adasisrael.org/event/shabbat-smith-service-72/
LOCATION:Smith Sanctuary
CATEGORIES:Shabbat
ATTACH;FMTTYPE=image/jpeg:https://calendar.adasisrael.org/wp-content/uploads/2024/03/AdasShabbat-YxiwDc.tmp_.jpg
END:VEVENT
BEGIN:VEVENT
DTSTART;TZID=America/New_York:20241221T093000
DTEND;TZID=America/New_York:20241221T120000
DTSTAMP:20260421T094324
CREATED:20241124T134510Z
LAST-MODIFIED:20241221T160002Z
UID:10006338-1734773400-1734782400@calendar.adasisrael.org
SUMMARY:Shabbat Smith Service
DESCRIPTION:Click Here To Livestream \nShabbat morning services in the Charles E. Smith Sanctuary\, the synagogue’s largest worship space\, are led by our inspiring Rabbis and Cantor. The service includes a D’var Torah and sermon by the Rabbi and often includes participation by members and B’nai Mitzvah. \nShabbat Service Links: \nSiddur Lev Shalem: Kabbalat Shabbat | Click Here to DownloadSiddur Lev Shalem: Shabbat Morning | Click Here to Download
URL:https://calendar.adasisrael.org/event/shabbat-smith-service-70/
LOCATION:Smith Sanctuary
CATEGORIES:Shabbat
ATTACH;FMTTYPE=image/jpeg:https://calendar.adasisrael.org/wp-content/uploads/2024/03/AdasShabbat-YxiwDc.tmp_.jpg
END:VEVENT
BEGIN:VEVENT
DTSTART;TZID=America/New_York:20241214T093000
DTEND;TZID=America/New_York:20241214T120000
DTSTAMP:20260421T094324
CREATED:20241124T134508Z
LAST-MODIFIED:20241214T162502Z
UID:10006297-1734168600-1734177600@calendar.adasisrael.org
SUMMARY:Shabbat Smith Service
DESCRIPTION:Click Here To Livestream \nShabbat morning services in the Charles E. Smith Sanctuary\, the synagogue’s largest worship space\, are led by our inspiring Rabbis and Cantor. The service includes a D’var Torah and sermon by the Rabbi and often includes participation by members and B’nai Mitzvah. \nShabbat Service Links: \nSiddur Lev Shalem: Kabbalat Shabbat | Click Here to DownloadSiddur Lev Shalem: Shabbat Morning | Click Here to Download
URL:https://calendar.adasisrael.org/event/shabbat-smith-service-69/
LOCATION:Smith Sanctuary
CATEGORIES:Shabbat
ATTACH;FMTTYPE=image/jpeg:https://calendar.adasisrael.org/wp-content/uploads/2024/03/AdasShabbat-YxiwDc.tmp_.jpg
END:VEVENT
BEGIN:VEVENT
DTSTART;TZID=America/New_York:20241207T093000
DTEND;TZID=America/New_York:20241207T120000
DTSTAMP:20260421T094324
CREATED:20241124T134505Z
LAST-MODIFIED:20241207T161002Z
UID:10006252-1733563800-1733572800@calendar.adasisrael.org
SUMMARY:Shabbat Smith Service
DESCRIPTION:Click Here To Livestream \nShabbat morning services in the Charles E. Smith Sanctuary\, the synagogue’s largest worship space\, are led by our inspiring Rabbis and Cantor. The service includes a D’var Torah and sermon by the Rabbi and often includes participation by members and B’nai Mitzvah. \nShabbat Service Links: \nSiddur Lev Shalem: Kabbalat Shabbat | Click Here to DownloadSiddur Lev Shalem: Shabbat Morning | Click Here to Download
URL:https://calendar.adasisrael.org/event/shabbat-smith-service-62/
LOCATION:Smith Sanctuary
CATEGORIES:Shabbat
ATTACH;FMTTYPE=image/jpeg:https://calendar.adasisrael.org/wp-content/uploads/2024/03/AdasShabbat-YxiwDc.tmp_.jpg
END:VEVENT
BEGIN:VEVENT
DTSTART;TZID=America/New_York:20241123T093000
DTEND;TZID=America/New_York:20241123T120000
DTSTAMP:20260421T094324
CREATED:20241103T052218Z
LAST-MODIFIED:20241123T165501Z
UID:10005919-1732354200-1732363200@calendar.adasisrael.org
SUMMARY:Shabbat Smith Service
DESCRIPTION:Click Here To Livestream \nShabbat morning services in the Charles E. Smith Sanctuary\, the synagogue’s largest worship space\, are led by our inspiring Rabbis and Cantor. The service includes a D’var Torah and sermon by the Rabbi and often includes participation by members and B’nai Mitzvah. \nShabbat Service Links: \nSiddur Lev Shalem: Kabbalat Shabbat | Click Here to DownloadSiddur Lev Shalem: Shabbat Morning | Click Here to Download
URL:https://calendar.adasisrael.org/event/shabbat-smith-service-68/
LOCATION:Smith Sanctuary
CATEGORIES:Shabbat
ATTACH;FMTTYPE=image/jpeg:https://calendar.adasisrael.org/wp-content/uploads/2024/03/AdasShabbat-YxiwDc.tmp_.jpg
END:VEVENT
BEGIN:VEVENT
DTSTART;TZID=America/New_York:20241116T093000
DTEND;TZID=America/New_York:20241116T120000
DTSTAMP:20260421T094324
CREATED:20241103T052131Z
LAST-MODIFIED:20241116T164502Z
UID:10005882-1731749400-1731758400@calendar.adasisrael.org
SUMMARY:Shabbat Smith Service
DESCRIPTION:Click Here To Livestream \nShabbat morning services in the Charles E. Smith Sanctuary\, the synagogue’s largest worship space\, are led by our inspiring Rabbis and Cantor. The service includes a D’var Torah and sermon by the Rabbi and often includes participation by members and B’nai Mitzvah. \nShabbat Service Links: \nSiddur Lev Shalem: Kabbalat Shabbat | Click Here to DownloadSiddur Lev Shalem: Shabbat Morning | Click Here to Download
URL:https://calendar.adasisrael.org/event/shabbat-smith-service-67/
LOCATION:Smith Sanctuary
CATEGORIES:Shabbat
ATTACH;FMTTYPE=image/jpeg:https://calendar.adasisrael.org/wp-content/uploads/2024/03/AdasShabbat-YxiwDc.tmp_.jpg
END:VEVENT
BEGIN:VEVENT
DTSTART;TZID=America/New_York:20241115T180000
DTEND;TZID=America/New_York:20241115T190000
DTSTAMP:20260421T094324
CREATED:20241103T052131Z
LAST-MODIFIED:20241115T234502Z
UID:10005878-1731693600-1731697200@calendar.adasisrael.org
SUMMARY:Lechu Neranana Service
DESCRIPTION:Come sing! Join us for a spirited musical community service on Friday night at 6:00pm in the Smith Sanctuary. Rabbi Solomon\, Cantor Brown\, and Adas musicians create an inclusive and joyful atmosphere engaging children and offering adults an uplifting experience of t’filah (prayer). We will feature participation of our students in this multi-generation Kabbalat Shabbat service. Services are followed by an informal\, Shabbat dinner\, pre-registration for dinner required. \nRegister
URL:https://calendar.adasisrael.org/event/lechu-neranana-service-6/
LOCATION:Smith Sanctuary
ATTACH;FMTTYPE=image/jpeg:https://calendar.adasisrael.org/wp-content/uploads/2023/07/Front-Professional.jpg
END:VEVENT
BEGIN:VEVENT
DTSTART;TZID=America/New_York:20241109T093000
DTEND;TZID=America/New_York:20241109T120000
DTSTAMP:20260421T094324
CREATED:20241103T052054Z
LAST-MODIFIED:20241109T163002Z
UID:10005846-1731144600-1731153600@calendar.adasisrael.org
SUMMARY:Shabbat Smith Service
DESCRIPTION:Click Here To Livestream \nShabbat morning services in the Charles E. Smith Sanctuary\, the synagogue’s largest worship space\, are led by our inspiring Rabbis and Cantor. The service includes a D’var Torah and sermon by the Rabbi and often includes participation by members and B’nai Mitzvah. \n \nJoin us this week as we present the Shem Tov Award 5785 to Herlene Nagler!The Shem Tov award is Adas Israel’s highest honor\, celebrating those who have given of themselves in so many ways for the betterment of our whole community. Join us for this very special presentation.
URL:https://calendar.adasisrael.org/event/shabbat-smith-service-66/
LOCATION:Smith Sanctuary
CATEGORIES:Shabbat
ATTACH;FMTTYPE=image/jpeg:https://calendar.adasisrael.org/wp-content/uploads/2024/11/253823_orig-uJoRJJ.tmp_.jpg
END:VEVENT
BEGIN:VEVENT
DTSTART;TZID=America/New_York:20241102T131500
DTEND;TZID=America/New_York:20241102T140000
DTSTAMP:20260421T094324
CREATED:20240803T052512Z
LAST-MODIFIED:20241102T175502Z
UID:10005341-1730553300-1730556000@calendar.adasisrael.org
SUMMARY:Shabbat Mincha Service
DESCRIPTION:Join us for a Saturday afternoon of prayer and Torah. The content of the mincha prayers reflects the essential goal of menucha (rest) on the Sabbath day.
URL:https://calendar.adasisrael.org/event/shabbat-mincha-service-68/
LOCATION:Smith Sanctuary
CATEGORIES:Shabbat
ATTACH;FMTTYPE=image/jpeg:https://calendar.adasisrael.org/wp-content/uploads/2023/07/minchaservice600x400-sc8WO8.tmp_.jpg
END:VEVENT
BEGIN:VEVENT
DTSTART;TZID=America/New_York:20241102T093000
DTEND;TZID=America/New_York:20241102T120000
DTSTAMP:20260421T094324
CREATED:20240803T052511Z
LAST-MODIFIED:20241102T155502Z
UID:10005338-1730539800-1730548800@calendar.adasisrael.org
SUMMARY:Shabbat Smith Service
DESCRIPTION:Click Here To Livestream \nShabbat morning services in the Charles E. Smith Sanctuary\, the synagogue’s largest worship space\, are led by our inspiring Rabbis and Cantor. The service includes a D’var Torah and sermon by the Rabbi and often includes participation by members and B’nai Mitzvah. \nShabbat Service Links: \nSiddur Lev Shalem: Kabbalat Shabbat | Click Here to DownloadSiddur Lev Shalem: Shabbat Morning | Click Here to Download
URL:https://calendar.adasisrael.org/event/shabbat-smith-service-63/
LOCATION:Smith Sanctuary
CATEGORIES:Shabbat
ATTACH;FMTTYPE=image/jpeg:https://calendar.adasisrael.org/wp-content/uploads/2024/03/AdasShabbat-YxiwDc.tmp_.jpg
END:VEVENT
BEGIN:VEVENT
DTSTART;TZID=America/New_York:20241026T093000
DTEND;TZID=America/New_York:20241026T120000
DTSTAMP:20260421T094324
CREATED:20240727T054514Z
LAST-MODIFIED:20241026T154001Z
UID:10005300-1729935000-1729944000@calendar.adasisrael.org
SUMMARY:Shabbat Smith Service
DESCRIPTION:Click Here To Livestream \nShabbat morning services in the Charles E. Smith Sanctuary\, the synagogue’s largest worship space\, are led by our inspiring Rabbis and Cantor. The service includes a D’var Torah and sermon by the Rabbi and often includes participation by members and B’nai Mitzvah. \nShabbat Service Links: \nSiddur Lev Shalem: Kabbalat Shabbat | Click Here to DownloadSiddur Lev Shalem: Shabbat Morning | Click Here to Download
URL:https://calendar.adasisrael.org/event/shabbat-smith-service-65/
LOCATION:Smith Sanctuary
CATEGORIES:Shabbat
ATTACH;FMTTYPE=image/jpeg:https://calendar.adasisrael.org/wp-content/uploads/2024/03/AdasShabbat-YxiwDc.tmp_.jpg
END:VEVENT
BEGIN:VEVENT
DTSTART;TZID=America/New_York:20241019T091500
DTEND;TZID=America/New_York:20241019T114500
DTSTAMP:20260421T094324
CREATED:20240720T060957Z
LAST-MODIFIED:20241019T154002Z
UID:10005207-1729329300-1729338300@calendar.adasisrael.org
SUMMARY:Shabbat Smith Service
DESCRIPTION:Livestream Here: adasisrael.org/shabbat-services-livestream \nShabbat morning services in the Charles E. Smith Sanctuary\, the synagogue’s largest worship space\, are led by our inspiring Rabbis and Cantor. The service includes a D’var Torah and sermon by the Rabbi and often includes participation by members and B’nai Mitzvah. \nShabbat Service Links: \nSiddur Lev Shalem: Kabbalat Shabbat | Click Here to DownloadSiddur Lev Shalem: Shabbat Morning | Click Here to Download
URL:https://calendar.adasisrael.org/event/shabbat-smith-service-64/
LOCATION:Smith Sanctuary
CATEGORIES:Shabbat
ATTACH;FMTTYPE=image/jpeg:https://calendar.adasisrael.org/wp-content/uploads/2024/03/AdasShabbat-YxiwDc.tmp_.jpg
END:VEVENT
BEGIN:VEVENT
DTSTART;TZID=America/New_York:20241011T183000
DTEND;TZID=America/New_York:20241011T213000
DTSTAMP:20260421T094324
CREATED:20240730T195503Z
LAST-MODIFIED:20241012T002501Z
UID:10005318-1728671400-1728682200@calendar.adasisrael.org
SUMMARY:Kol Nidre Services
DESCRIPTION:L’Shana Tova Tikatevu! \nTzur Yisrael – Everlasting Foundation\, May our prayers and open hearts be heard\, be received\, and be enough for You. \nRegister
URL:https://calendar.adasisrael.org/event/kol-nidre-services-2/
LOCATION:Smith Sanctuary
CATEGORIES:Holiday
ATTACH;FMTTYPE=image/png:https://calendar.adasisrael.org/wp-content/uploads/2024/07/hhd-h8noJn.tmp_.png
END:VEVENT
BEGIN:VEVENT
DTSTART;TZID=America/New_York:20240921T131500
DTEND;TZID=America/New_York:20240921T140000
DTSTAMP:20260421T094324
CREATED:20240622T052456Z
LAST-MODIFIED:20240921T171001Z
UID:10005120-1726924500-1726927200@calendar.adasisrael.org
SUMMARY:Shabbat Mincha Service
DESCRIPTION:Join us for a Saturday afternoon of prayer and Torah. The content of the mincha prayers reflects the essential goal of menucha (rest) on the Sabbath day.
URL:https://calendar.adasisrael.org/event/shabbat-mincha-service-63/
LOCATION:Smith Sanctuary
CATEGORIES:Shabbat
ATTACH;FMTTYPE=image/jpeg:https://calendar.adasisrael.org/wp-content/uploads/2023/07/minchaservice600x400-sc8WO8.tmp_.jpg
END:VEVENT
BEGIN:VEVENT
DTSTART;TZID=America/New_York:20240921T093000
DTEND;TZID=America/New_York:20240921T120000
DTSTAMP:20260421T094324
CREATED:20240622T052445Z
LAST-MODIFIED:20240921T155501Z
UID:10005117-1726911000-1726920000@calendar.adasisrael.org
SUMMARY:Shabbat Smith Service
DESCRIPTION:Livestream Here: adasisrael.org/shabbat-services-livestream \nShabbat morning services in the Charles E. Smith Sanctuary\, the synagogue’s largest worship space\, are led by our inspiring Rabbis and Cantor. The service includes a D’var Torah and sermon by the Rabbi and often includes participation by members and B’nai Mitzvah. \nShabbat Service Links: \nSiddur Lev Shalem: Kabbalat Shabbat | Click Here to DownloadSiddur Lev Shalem: Shabbat Morning | Click Here to Download
URL:https://calendar.adasisrael.org/event/shabbat-smith-service-60/
LOCATION:Smith Sanctuary
CATEGORIES:Shabbat
ATTACH;FMTTYPE=image/jpeg:https://calendar.adasisrael.org/wp-content/uploads/2024/03/AdasShabbat-YxiwDc.tmp_.jpg
END:VEVENT
BEGIN:VEVENT
DTSTART;TZID=America/New_York:20240914T093000
DTEND;TZID=America/New_York:20240914T120000
DTSTAMP:20260421T094324
CREATED:20240615T053939Z
LAST-MODIFIED:20240914T151001Z
UID:10005085-1726306200-1726315200@calendar.adasisrael.org
SUMMARY:Shabbat Smith Service
DESCRIPTION:Livestream Here: adasisrael.org/shabbat-services-livestream \nShabbat morning services in the Charles E. Smith Sanctuary\, the synagogue’s largest worship space\, are led by our inspiring Rabbis and Cantor. The service includes a D’var Torah and sermon by the Rabbi and often includes participation by members and B’nai Mitzvah. \nShabbat Service Links: \nSiddur Lev Shalem: Kabbalat Shabbat | Click Here to DownloadSiddur Lev Shalem: Shabbat Morning | Click Here to Download
URL:https://calendar.adasisrael.org/event/shabbat-smith-service-59/
LOCATION:Smith Sanctuary
CATEGORIES:Shabbat
ATTACH;FMTTYPE=image/jpeg:https://calendar.adasisrael.org/wp-content/uploads/2024/03/AdasShabbat-YxiwDc.tmp_.jpg
END:VEVENT
BEGIN:VEVENT
DTSTART;TZID=America/New_York:20240907T131500
DTEND;TZID=America/New_York:20240907T140000
DTSTAMP:20260421T094324
CREATED:20240613T165029Z
LAST-MODIFIED:20240907T172002Z
UID:10005071-1725714900-1725717600@calendar.adasisrael.org
SUMMARY:Shabbat Mincha Service
DESCRIPTION:Join us for a Saturday afternoon of prayer and Torah. The content of the mincha prayers reflects the essential goal of menucha (rest) on the Sabbath day.
URL:https://calendar.adasisrael.org/event/shabbat-mincha-service-61/
LOCATION:Smith Sanctuary
CATEGORIES:Shabbat
ATTACH;FMTTYPE=image/jpeg:https://calendar.adasisrael.org/wp-content/uploads/2023/07/minchaservice600x400-sc8WO8.tmp_.jpg
END:VEVENT
BEGIN:VEVENT
DTSTART;TZID=America/New_York:20240907T093000
DTEND;TZID=America/New_York:20240907T120000
DTSTAMP:20260421T094324
CREATED:20240608T052439Z
LAST-MODIFIED:20240907T160002Z
UID:10005052-1725701400-1725710400@calendar.adasisrael.org
SUMMARY:Shabbat Smith Service
DESCRIPTION:Livestream Here: adasisrael.org/shabbat-services-livestream \nShabbat morning services in the Charles E. Smith Sanctuary\, the synagogue’s largest worship space\, are led by our inspiring Rabbis and Cantor. The service includes a D’var Torah and sermon by the Rabbi and often includes participation by members and B’nai Mitzvah. \nShabbat Service Links: \nSiddur Lev Shalem: Kabbalat Shabbat | Click Here to DownloadSiddur Lev Shalem: Shabbat Morning | Click Here to Download
URL:https://calendar.adasisrael.org/event/shabbat-smith-service-58/
LOCATION:Smith Sanctuary
CATEGORIES:Shabbat
ATTACH;FMTTYPE=image/jpeg:https://calendar.adasisrael.org/wp-content/uploads/2024/03/AdasShabbat-YxiwDc.tmp_.jpg
END:VEVENT
BEGIN:VEVENT
DTSTART;TZID=America/New_York:20240903T200000
DTEND;TZID=America/New_York:20240903T213000
DTSTAMP:20260421T094324
CREATED:20240901T232007Z
LAST-MODIFIED:20240904T011502Z
UID:10005487-1725393600-1725399000@calendar.adasisrael.org
SUMMARY:National Vigil For the Hostages
DESCRIPTION:
URL:https://calendar.adasisrael.org/event/national-vigil-for-the-hostages/
LOCATION:Smith Sanctuary
CATEGORIES:Learn & Engage
ATTACH;FMTTYPE=image/jpeg:https://calendar.adasisrael.org/wp-content/uploads/2023/07/Front-Professional.jpg
END:VEVENT
BEGIN:VEVENT
DTSTART;TZID=America/New_York:20240831T093000
DTEND;TZID=America/New_York:20240831T120000
DTSTAMP:20260421T094324
CREATED:20240603T222411Z
LAST-MODIFIED:20240831T160002Z
UID:10005018-1725096600-1725105600@calendar.adasisrael.org
SUMMARY:Shabbat Smith Service
DESCRIPTION:Livestream Here: adasisrael.org/shabbat-services-livestream \nShabbat morning services in the Charles E. Smith Sanctuary\, the synagogue’s largest worship space\, are led by our inspiring Rabbis and Cantor. The service includes a D’var Torah and sermon by the Rabbi and often includes participation by members and B’nai Mitzvah. \nShabbat Service Links: \nSiddur Lev Shalem: Kabbalat Shabbat | Click Here to DownloadSiddur Lev Shalem: Shabbat Morning | Click Here to Download
URL:https://calendar.adasisrael.org/event/shabbat-smith-service-57/
LOCATION:Smith Sanctuary
CATEGORIES:Shabbat
ATTACH;FMTTYPE=image/jpeg:https://calendar.adasisrael.org/wp-content/uploads/2024/03/AdasShabbat-YxiwDc.tmp_.jpg
END:VEVENT
BEGIN:VEVENT
DTSTART;TZID=America/New_York:20240824T093000
DTEND;TZID=America/New_York:20240824T120000
DTSTAMP:20260421T094324
CREATED:20240603T222359Z
LAST-MODIFIED:20240824T152501Z
UID:10005016-1724491800-1724500800@calendar.adasisrael.org
SUMMARY:Shabbat Smith Service
DESCRIPTION:Livestream Here: adasisrael.org/shabbat-services-livestream \nShabbat morning services in the Charles E. Smith Sanctuary\, the synagogue’s largest worship space\, are led by our inspiring Rabbis and Cantor. The service includes a D’var Torah and sermon by the Rabbi and often includes participation by members and B’nai Mitzvah. \nShabbat Service Links: \nSiddur Lev Shalem: Kabbalat Shabbat | Click Here to DownloadSiddur Lev Shalem: Shabbat Morning | Click Here to Download
URL:https://calendar.adasisrael.org/event/shabbat-smith-service-56/
LOCATION:Smith Sanctuary
CATEGORIES:Shabbat
ATTACH;FMTTYPE=image/jpeg:https://calendar.adasisrael.org/wp-content/uploads/2024/03/AdasShabbat-YxiwDc.tmp_.jpg
END:VEVENT
END:VCALENDAR