BEGIN:VCALENDAR
VERSION:2.0
PRODID:-//Adas Israel Congregation - ECPv6.2.9//NONSGML v1.0//EN
CALSCALE:GREGORIAN
METHOD:PUBLISH
X-WR-CALNAME:Adas Israel Congregation
X-ORIGINAL-URL:https://calendar.adasisrael.org
X-WR-CALDESC:Events for Adas Israel Congregation
REFRESH-INTERVAL;VALUE=DURATION:PT1H
X-Robots-Tag:noindex
X-PUBLISHED-TTL:PT1H
BEGIN:VTIMEZONE
TZID:America/New_York
BEGIN:DAYLIGHT
TZOFFSETFROM:-0500
TZOFFSETTO:-0400
TZNAME:EDT
DTSTART:20250309T070000
END:DAYLIGHT
BEGIN:STANDARD
TZOFFSETFROM:-0400
TZOFFSETTO:-0500
TZNAME:EST
DTSTART:20251102T060000
END:STANDARD
BEGIN:DAYLIGHT
TZOFFSETFROM:-0500
TZOFFSETTO:-0400
TZNAME:EDT
DTSTART:20260308T070000
END:DAYLIGHT
BEGIN:STANDARD
TZOFFSETFROM:-0400
TZOFFSETTO:-0500
TZNAME:EST
DTSTART:20261101T060000
END:STANDARD
END:VTIMEZONE
BEGIN:VEVENT
DTSTART;TZID=America/New_York:20260117T093000
DTEND;TZID=America/New_York:20260117T120000
DTSTAMP:20260421T054536
CREATED:20260113T234004Z
LAST-MODIFIED:20260117T170002Z
UID:10010335-1768642200-1768651200@calendar.adasisrael.org
SUMMARY:Shabbat Smith Service
DESCRIPTION:Click Here To Livestream \nLed by our inspiring Rabbis and Cantor\, this service includes a D’var Torah and sermon and often includes participation by members and B’nai Mitzvah. \nShabbat Service Links: \nSiddur Lev Shalem: Kabbalat Shabbat | Click Here to DownloadSiddur Lev Shalem: Shabbat Morning | Click Here to Download
URL:https://calendar.adasisrael.org/event/shabbat-smith-service-120/
LOCATION:Smith Sanctuary
CATEGORIES:Shabbat
ATTACH;FMTTYPE=image/jpeg:https://calendar.adasisrael.org/wp-content/uploads/2024/03/AdasShabbat-YxiwDc.tmp_.jpg
END:VEVENT
BEGIN:VEVENT
DTSTART;TZID=America/New_York:20260116T180000
DTEND;TZID=America/New_York:20260116T193000
DTSTAMP:20260421T054536
CREATED:20260113T234003Z
LAST-MODIFIED:20260116T235502Z
UID:10010330-1768586400-1768591800@calendar.adasisrael.org
SUMMARY:Shabbat Friday Night Musical Services
DESCRIPTION:
URL:https://calendar.adasisrael.org/event/shabbat-friday-night-musical-services-21/
LOCATION:Smith Sanctuary
CATEGORIES:Shabbat
ATTACH;FMTTYPE=image/jpeg:https://calendar.adasisrael.org/wp-content/uploads/2023/07/Front-Professional.jpg
END:VEVENT
BEGIN:VEVENT
DTSTART;TZID=America/New_York:20260111T130000
DTEND;TZID=America/New_York:20260111T150000
DTSTAMP:20260421T054536
CREATED:20251127T153018Z
LAST-MODIFIED:20260111T194002Z
UID:10009839-1768136400-1768143600@calendar.adasisrael.org
SUMMARY:Klezmer Workshop
DESCRIPTION:
URL:https://calendar.adasisrael.org/event/klezmer-workshop-4/
LOCATION:Smith Sanctuary
ATTACH;FMTTYPE=image/jpeg:https://calendar.adasisrael.org/wp-content/uploads/2023/07/Front-Professional.jpg
END:VEVENT
BEGIN:VEVENT
DTSTART;TZID=America/New_York:20251220T091500
DTEND;TZID=America/New_York:20251220T120000
DTSTAMP:20260421T054536
CREATED:20251127T153010Z
LAST-MODIFIED:20251220T160002Z
UID:10009759-1766222100-1766232000@calendar.adasisrael.org
SUMMARY:Shabbat Smith Service
DESCRIPTION:Click Here To Livestream \nLed by our inspiring Rabbis and Cantor\, this service includes a D’var Torah and sermon and often includes participation by members and B’nai Mitzvah. \nShabbat Service Links: \nSiddur Lev Shalem: Kabbalat Shabbat | Click Here to DownloadSiddur Lev Shalem: Shabbat Morning | Click Here to Download
URL:https://calendar.adasisrael.org/event/shabbat-smith-service-117/
LOCATION:Smith Sanctuary
CATEGORIES:Shabbat
ATTACH;FMTTYPE=image/jpeg:https://calendar.adasisrael.org/wp-content/uploads/2024/03/AdasShabbat-YxiwDc.tmp_.jpg
END:VEVENT
BEGIN:VEVENT
DTSTART;TZID=America/New_York:20251214T103000
DTEND;TZID=America/New_York:20251214T114500
DTSTAMP:20260421T054536
CREATED:20251127T153008Z
LAST-MODIFIED:20251214T155502Z
UID:10009733-1765708200-1765712700@calendar.adasisrael.org
SUMMARY:Six13 Hannukah Concert
DESCRIPTION:Celebrate Hanukkah at Adas Israel with Six13\, the award-winning Jewish a cappella sensation. Join us for a morning of soaring harmonies\, joyful energy\, and Hanukkah spirit for all ages. \nJuxtaposing the traditional and the contemporary\, Six13 is anchored by a strong Jewish identity\, fueled by soulful harmonies\, intricate arrangements and their signature dynamic\, full-band-like sound\, and driven by a mission to connect Jews around the world with their heritage through music. With viral hits reaching millions online\, and performances everywhere from the White House to Madison Square Garden\, these award-winning vocalists bring unmatched passion and ruach to every stage they grace. \nThis event is generously sponsored by Jessamyn Berniker and Itai Grinberg. \nThis concert is offered free of charge. In appreciation\, we invite you to support the Israel Children’s Cancer Foundation with a donation that helps bring healing and hope to children and families. To contribute\, click “Donate” and select your preferred option. Under “How did you hear about us?”\, please type “Adas.” \nRegister
URL:https://calendar.adasisrael.org/event/six13-hannukah-concert/
LOCATION:Smith Sanctuary
ATTACH;FMTTYPE=image/jpeg:https://calendar.adasisrael.org/wp-content/uploads/2025/11/Six13-Promo4-Street1-0qtUEF-scaled.jpg
END:VEVENT
BEGIN:VEVENT
DTSTART;TZID=America/New_York:20251213T131500
DTEND;TZID=America/New_York:20251213T143000
DTSTAMP:20260421T054536
CREATED:20251127T153008Z
LAST-MODIFIED:20251213T191002Z
UID:10009725-1765631700-1765636200@calendar.adasisrael.org
SUMMARY:Shabbat Mincha Service
DESCRIPTION:Join us for a Saturday afternoon of prayer and Torah. The content of the mincha prayers reflects the essential goal of menucha (rest) on the Sabbath day.
URL:https://calendar.adasisrael.org/event/shabbat-mincha-service-126/
LOCATION:Smith Sanctuary
CATEGORIES:Shabbat
ATTACH;FMTTYPE=image/jpeg:https://calendar.adasisrael.org/wp-content/uploads/2023/07/minchaservice600x400-sc8WO8.tmp_.jpg
END:VEVENT
BEGIN:VEVENT
DTSTART;TZID=America/New_York:20251213T093000
DTEND;TZID=America/New_York:20251213T120000
DTSTAMP:20260421T054536
CREATED:20251127T153007Z
LAST-MODIFIED:20251213T164002Z
UID:10009720-1765618200-1765627200@calendar.adasisrael.org
SUMMARY:Shabbat Smith Service
DESCRIPTION:Click Here To Livestream \nLed by our inspiring Rabbis and Cantor\, this service includes a D’var Torah and sermon and often includes participation by members and B’nai Mitzvah. \nShabbat Service Links: \nSiddur Lev Shalem: Kabbalat Shabbat | Click Here to DownloadSiddur Lev Shalem: Shabbat Morning | Click Here to Download
URL:https://calendar.adasisrael.org/event/shabbat-smith-service-116/
LOCATION:Smith Sanctuary
CATEGORIES:Shabbat
ATTACH;FMTTYPE=image/jpeg:https://calendar.adasisrael.org/wp-content/uploads/2024/03/AdasShabbat-YxiwDc.tmp_.jpg
END:VEVENT
BEGIN:VEVENT
DTSTART;TZID=America/New_York:20251206T131500
DTEND;TZID=America/New_York:20251206T143000
DTSTAMP:20260421T054536
CREATED:20251127T153004Z
LAST-MODIFIED:20251206T191502Z
UID:10009669-1765026900-1765031400@calendar.adasisrael.org
SUMMARY:Shabbat Mincha Service
DESCRIPTION:Join us for a Saturday afternoon of prayer and Torah. The content of the mincha prayers reflects the essential goal of menucha (rest) on the Sabbath day.
URL:https://calendar.adasisrael.org/event/shabbat-mincha-service-125/
LOCATION:Smith Sanctuary
CATEGORIES:Shabbat
ATTACH;FMTTYPE=image/jpeg:https://calendar.adasisrael.org/wp-content/uploads/2023/07/minchaservice600x400-sc8WO8.tmp_.jpg
END:VEVENT
BEGIN:VEVENT
DTSTART;TZID=America/New_York:20251206T093000
DTEND;TZID=America/New_York:20251206T120000
DTSTAMP:20260421T054536
CREATED:20251127T153004Z
LAST-MODIFIED:20251206T163001Z
UID:10009663-1765013400-1765022400@calendar.adasisrael.org
SUMMARY:Shabbat Smith Service
DESCRIPTION:Click Here To Livestream \nLed by our inspiring Rabbis and Cantor\, this service includes a D’var Torah and sermon and often includes participation by members and B’nai Mitzvah. \nShabbat Service Links: \nSiddur Lev Shalem: Kabbalat Shabbat | Click Here to DownloadSiddur Lev Shalem: Shabbat Morning | Click Here to Download
URL:https://calendar.adasisrael.org/event/shabbat-smith-service-115/
LOCATION:Smith Sanctuary
CATEGORIES:Shabbat
ATTACH;FMTTYPE=image/jpeg:https://calendar.adasisrael.org/wp-content/uploads/2024/03/AdasShabbat-YxiwDc.tmp_.jpg
END:VEVENT
BEGIN:VEVENT
DTSTART;TZID=America/New_York:20251122T093000
DTEND;TZID=America/New_York:20251122T120000
DTSTAMP:20260421T054536
CREATED:20250823T054018Z
LAST-MODIFIED:20251122T164002Z
UID:10009016-1763803800-1763812800@calendar.adasisrael.org
SUMMARY:Shabbat Smith Service
DESCRIPTION:Click Here To Livestream \nLed by our inspiring Rabbis and Cantor\, this service includes a D’var Torah and sermon and often includes participation by members and B’nai Mitzvah. \nShabbat Service Links: \nSiddur Lev Shalem: Kabbalat Shabbat | Click Here to DownloadSiddur Lev Shalem: Shabbat Morning | Click Here to Download
URL:https://calendar.adasisrael.org/event/shabbat-smith-service-114/
LOCATION:Smith Sanctuary
CATEGORIES:Shabbat
ATTACH;FMTTYPE=image/jpeg:https://calendar.adasisrael.org/wp-content/uploads/2024/03/AdasShabbat-YxiwDc.tmp_.jpg
END:VEVENT
BEGIN:VEVENT
DTSTART;TZID=America/New_York:20251115T093000
DTEND;TZID=America/New_York:20251115T120000
DTSTAMP:20260421T054536
CREATED:20250816T055519Z
LAST-MODIFIED:20251115T155501Z
UID:10008968-1763199000-1763208000@calendar.adasisrael.org
SUMMARY:Shabbat Smith Service
DESCRIPTION:Click Here To Livestream \nLed by our inspiring Rabbis and Cantor\, this service includes a D’var Torah and sermon and often includes participation by members and B’nai Mitzvah. \nShabbat Service Links: \nSiddur Lev Shalem: Kabbalat Shabbat | Click Here to DownloadSiddur Lev Shalem: Shabbat Morning | Click Here to Download
URL:https://calendar.adasisrael.org/event/shabbat-smith-service-113/
LOCATION:Smith Sanctuary
CATEGORIES:Shabbat
ATTACH;FMTTYPE=image/jpeg:https://calendar.adasisrael.org/wp-content/uploads/2024/03/AdasShabbat-YxiwDc.tmp_.jpg
END:VEVENT
BEGIN:VEVENT
DTSTART;TZID=America/New_York:20251108T093000
DTEND;TZID=America/New_York:20251108T120000
DTSTAMP:20260421T054536
CREATED:20250809T061018Z
LAST-MODIFIED:20251108T162502Z
UID:10008914-1762594200-1762603200@calendar.adasisrael.org
SUMMARY:Shabbat Smith Service
DESCRIPTION:Click Here To Livestream \nLed by our inspiring Rabbis and Cantor\, this service includes a D’var Torah and sermon and often includes participation by members and B’nai Mitzvah. \nShabbat Service Links: \nSiddur Lev Shalem: Kabbalat Shabbat | Click Here to DownloadSiddur Lev Shalem: Shabbat Morning | Click Here to Download
URL:https://calendar.adasisrael.org/event/shabbat-smith-service-112/
LOCATION:Smith Sanctuary
CATEGORIES:Shabbat
ATTACH;FMTTYPE=image/jpeg:https://calendar.adasisrael.org/wp-content/uploads/2024/03/AdasShabbat-YxiwDc.tmp_.jpg
END:VEVENT
BEGIN:VEVENT
DTSTART;TZID=America/New_York:20251101T093000
DTEND;TZID=America/New_York:20251101T120000
DTSTAMP:20260421T054536
CREATED:20250802T061017Z
LAST-MODIFIED:20251101T154001Z
UID:10008880-1761989400-1761998400@calendar.adasisrael.org
SUMMARY:Shabbat Smith Service
DESCRIPTION:Click Here To Livestream \nLed by our inspiring Rabbis and Cantor\, this service includes a D’var Torah and sermon and often includes participation by members and B’nai Mitzvah. \nShabbat Service Links: \nSiddur Lev Shalem: Kabbalat Shabbat | Click Here to DownloadSiddur Lev Shalem: Shabbat Morning | Click Here to Download
URL:https://calendar.adasisrael.org/event/shabbat-smith-service-111/
LOCATION:Smith Sanctuary
CATEGORIES:Shabbat
ATTACH;FMTTYPE=image/jpeg:https://calendar.adasisrael.org/wp-content/uploads/2024/03/AdasShabbat-YxiwDc.tmp_.jpg
END:VEVENT
BEGIN:VEVENT
DTSTART;TZID=America/New_York:20251029T190000
DTEND;TZID=America/New_York:20251029T210000
DTSTAMP:20260421T054536
CREATED:20250730T061521Z
LAST-MODIFIED:20251029T235502Z
UID:10008867-1761764400-1761771600@calendar.adasisrael.org
SUMMARY:Liat Screening
DESCRIPTION:
URL:https://calendar.adasisrael.org/event/liat-screening-hold/
LOCATION:Smith Sanctuary
ATTACH;FMTTYPE=image/jpeg:https://calendar.adasisrael.org/wp-content/uploads/2023/07/Front-Professional.jpg
END:VEVENT
BEGIN:VEVENT
DTSTART;TZID=America/New_York:20251025T093000
DTEND;TZID=America/New_York:20251025T120000
DTSTAMP:20260421T054536
CREATED:20250726T061017Z
LAST-MODIFIED:20251025T153502Z
UID:10008844-1761384600-1761393600@calendar.adasisrael.org
SUMMARY:Shabbat Smith Service
DESCRIPTION:Click Here To Livestream \nLed by our inspiring Rabbis and Cantor\, this service includes a D’var Torah and sermon and often includes participation by members and B’nai Mitzvah. \nShabbat Service Links: \nSiddur Lev Shalem: Kabbalat Shabbat | Click Here to DownloadSiddur Lev Shalem: Shabbat Morning | Click Here to Download
URL:https://calendar.adasisrael.org/event/shabbat-smith-service-110/
LOCATION:Smith Sanctuary
CATEGORIES:Shabbat
ATTACH;FMTTYPE=image/jpeg:https://calendar.adasisrael.org/wp-content/uploads/2024/03/AdasShabbat-YxiwDc.tmp_.jpg
END:VEVENT
BEGIN:VEVENT
DTSTART;TZID=America/New_York:20251018T093000
DTEND;TZID=America/New_York:20251018T120000
DTSTAMP:20260421T054536
CREATED:20250719T055516Z
LAST-MODIFIED:20251018T152502Z
UID:10008803-1760779800-1760788800@calendar.adasisrael.org
SUMMARY:Shabbat Smith Service
DESCRIPTION:Click Here To Livestream \nLed by our inspiring Rabbis and Cantor\, this service includes a D’var Torah and sermon and often includes participation by members and B’nai Mitzvah. \nShabbat Service Links: \nSiddur Lev Shalem: Kabbalat Shabbat | Click Here to DownloadSiddur Lev Shalem: Shabbat Morning | Click Here to Download
URL:https://calendar.adasisrael.org/event/shabbat-smith-service-109/
LOCATION:Smith Sanctuary
CATEGORIES:Shabbat
ATTACH;FMTTYPE=image/jpeg:https://calendar.adasisrael.org/wp-content/uploads/2024/03/AdasShabbat-YxiwDc.tmp_.jpg
END:VEVENT
BEGIN:VEVENT
DTSTART;TZID=America/New_York:20251015T091500
DTEND;TZID=America/New_York:20251015T120000
DTSTAMP:20260421T054536
CREATED:20251009T170545Z
LAST-MODIFIED:20251015T154002Z
UID:10009314-1760519700-1760529600@calendar.adasisrael.org
SUMMARY:Simchat Torah Services
DESCRIPTION:
URL:https://calendar.adasisrael.org/event/simchat-torah-services/
LOCATION:Smith Sanctuary
CATEGORIES:Holiday
ATTACH;FMTTYPE=image/jpeg:https://calendar.adasisrael.org/wp-content/uploads/2023/07/Front-Professional.jpg
END:VEVENT
BEGIN:VEVENT
DTSTART;TZID=America/New_York:20251014T091500
DTEND;TZID=America/New_York:20251014T120000
DTSTAMP:20260421T054536
CREATED:20251009T170533Z
LAST-MODIFIED:20251014T154502Z
UID:10009312-1760433300-1760443200@calendar.adasisrael.org
SUMMARY:Shmini Atzeret Services
DESCRIPTION:
URL:https://calendar.adasisrael.org/event/shmini-atzeret-services-2/
LOCATION:Smith Sanctuary
CATEGORIES:Holiday
ATTACH;FMTTYPE=image/jpeg:https://calendar.adasisrael.org/wp-content/uploads/2023/07/Front-Professional.jpg
END:VEVENT
BEGIN:VEVENT
DTSTART;TZID=America/New_York:20251011T091500
DTEND;TZID=America/New_York:20251011T120000
DTSTAMP:20260421T054536
CREATED:20250712T052516Z
LAST-MODIFIED:20251011T152002Z
UID:10008779-1760174100-1760184000@calendar.adasisrael.org
SUMMARY:Shabbat Smith Service
DESCRIPTION:Click Here To Livestream \nLed by our inspiring Rabbis and Cantor\, this service includes a D’var Torah and sermon and often includes participation by members and B’nai Mitzvah. \nShabbat Service Links: \nSiddur Lev Shalem: Kabbalat Shabbat | Click Here to DownloadSiddur Lev Shalem: Shabbat Morning | Click Here to Download
URL:https://calendar.adasisrael.org/event/shabbat-smith-service-108/
LOCATION:Smith Sanctuary
CATEGORIES:Shabbat
ATTACH;FMTTYPE=image/jpeg:https://calendar.adasisrael.org/wp-content/uploads/2024/03/AdasShabbat-YxiwDc.tmp_.jpg
END:VEVENT
BEGIN:VEVENT
DTSTART;TZID=America/New_York:20251004T093000
DTEND;TZID=America/New_York:20251004T120000
DTSTAMP:20260421T054536
CREATED:20250705T055516Z
LAST-MODIFIED:20251004T145502Z
UID:10008757-1759570200-1759579200@calendar.adasisrael.org
SUMMARY:Shabbat Smith Service
DESCRIPTION:Click Here To Livestream \nLed by our inspiring Rabbis and Cantor\, this service includes a D’var Torah and sermon and often includes participation by members and B’nai Mitzvah. \nShabbat Service Links: \nSiddur Lev Shalem: Kabbalat Shabbat | Click Here to DownloadSiddur Lev Shalem: Shabbat Morning | Click Here to Download
URL:https://calendar.adasisrael.org/event/shabbat-smith-service-107/
LOCATION:Smith Sanctuary
CATEGORIES:Shabbat
ATTACH;FMTTYPE=image/jpeg:https://calendar.adasisrael.org/wp-content/uploads/2024/03/AdasShabbat-YxiwDc.tmp_.jpg
END:VEVENT
BEGIN:VEVENT
DTSTART;TZID=America/New_York:20250923T180000
DTEND;TZID=America/New_York:20250923T190000
DTSTAMP:20260421T054536
CREATED:20250624T215537Z
LAST-MODIFIED:20250923T221502Z
UID:10008702-1758650400-1758654000@calendar.adasisrael.org
SUMMARY:Mincha/Maariv
DESCRIPTION:Register
URL:https://calendar.adasisrael.org/event/evening-minyan-559/
LOCATION:Smith Sanctuary
CATEGORIES:Daily Minyan,Holiday
ATTACH;FMTTYPE=image/jpeg:https://calendar.adasisrael.org/wp-content/uploads/2024/01/minyanheaderweb-XUfQxy.tmp_.jpg
END:VEVENT
BEGIN:VEVENT
DTSTART;TZID=America/New_York:20250920T093000
DTEND;TZID=America/New_York:20250920T120000
DTSTAMP:20260421T054536
CREATED:20250624T215536Z
LAST-MODIFIED:20250920T154502Z
UID:10008689-1758360600-1758369600@calendar.adasisrael.org
SUMMARY:Shabbat Smith Service
DESCRIPTION:Click Here To Livestream \nLed by our inspiring Rabbis and Cantor\, this service includes a D’var Torah and sermon and often includes participation by members and B’nai Mitzvah. \nShabbat Service Links: \nSiddur Lev Shalem: Kabbalat Shabbat | Click Here to DownloadSiddur Lev Shalem: Shabbat Morning | Click Here to Download
URL:https://calendar.adasisrael.org/event/shabbat-smith-service-106/
LOCATION:Smith Sanctuary
CATEGORIES:Shabbat
ATTACH;FMTTYPE=image/jpeg:https://calendar.adasisrael.org/wp-content/uploads/2024/03/AdasShabbat-YxiwDc.tmp_.jpg
END:VEVENT
BEGIN:VEVENT
DTSTART;TZID=America/New_York:20250913T093000
DTEND;TZID=America/New_York:20250913T120000
DTSTAMP:20260421T054536
CREATED:20250624T215532Z
LAST-MODIFIED:20250913T150502Z
UID:10008654-1757755800-1757764800@calendar.adasisrael.org
SUMMARY:Shabbat Smith Service
DESCRIPTION:Click Here To Livestream \nLed by our inspiring Rabbis and Cantor\, this service includes a D’var Torah and sermon and often includes participation by members and B’nai Mitzvah. \nShabbat Service Links: \nSiddur Lev Shalem: Kabbalat Shabbat | Click Here to DownloadSiddur Lev Shalem: Shabbat Morning | Click Here to Download
URL:https://calendar.adasisrael.org/event/shabbat-smith-service-105/
LOCATION:Smith Sanctuary
CATEGORIES:Shabbat
ATTACH;FMTTYPE=image/jpeg:https://calendar.adasisrael.org/wp-content/uploads/2024/03/AdasShabbat-YxiwDc.tmp_.jpg
END:VEVENT
BEGIN:VEVENT
DTSTART;TZID=America/New_York:20250906T131500
DTEND;TZID=America/New_York:20250906T143000
DTSTAMP:20260421T054536
CREATED:20250624T215529Z
LAST-MODIFIED:20250906T182515Z
UID:10008625-1757164500-1757169000@calendar.adasisrael.org
SUMMARY:Shabbat Mincha Service
DESCRIPTION:Join us for a Saturday afternoon of prayer and Torah. The content of the mincha prayers reflects the essential goal of menucha (rest) on the Sabbath day.
URL:https://calendar.adasisrael.org/event/shabbat-mincha-service-112/
LOCATION:Smith Sanctuary
CATEGORIES:Shabbat
ATTACH;FMTTYPE=image/jpeg:https://calendar.adasisrael.org/wp-content/uploads/2023/07/minchaservice600x400-sc8WO8.tmp_.jpg
END:VEVENT
BEGIN:VEVENT
DTSTART;TZID=America/New_York:20250906T093000
DTEND;TZID=America/New_York:20250906T120000
DTSTAMP:20260421T054536
CREATED:20250624T215529Z
LAST-MODIFIED:20250906T160002Z
UID:10008622-1757151000-1757160000@calendar.adasisrael.org
SUMMARY:Shabbat Smith Service
DESCRIPTION:Click Here To Livestream \nLed by our inspiring Rabbis and Cantor\, this service includes a D’var Torah and sermon and often includes participation by members and B’nai Mitzvah. \nShabbat Service Links: \nSiddur Lev Shalem: Kabbalat Shabbat | Click Here to DownloadSiddur Lev Shalem: Shabbat Morning | Click Here to Download
URL:https://calendar.adasisrael.org/event/shabbat-smith-service-104/
LOCATION:Smith Sanctuary
CATEGORIES:Shabbat
ATTACH;FMTTYPE=image/jpeg:https://calendar.adasisrael.org/wp-content/uploads/2024/03/AdasShabbat-YxiwDc.tmp_.jpg
END:VEVENT
BEGIN:VEVENT
DTSTART;TZID=America/New_York:20250830T093000
DTEND;TZID=America/New_York:20250830T120000
DTSTAMP:20260421T054536
CREATED:20250624T215526Z
LAST-MODIFIED:20250830T150502Z
UID:10008590-1756546200-1756555200@calendar.adasisrael.org
SUMMARY:Shabbat Smith Service
DESCRIPTION:Click Here To Livestream \nLed by our inspiring Rabbis and Cantor\, this service includes a D’var Torah and sermon and often includes participation by members and B’nai Mitzvah. \nShabbat Service Links: \nSiddur Lev Shalem: Kabbalat Shabbat | Click Here to DownloadSiddur Lev Shalem: Shabbat Morning | Click Here to Download
URL:https://calendar.adasisrael.org/event/shabbat-smith-service-103/
LOCATION:Smith Sanctuary
CATEGORIES:Shabbat
ATTACH;FMTTYPE=image/jpeg:https://calendar.adasisrael.org/wp-content/uploads/2024/03/AdasShabbat-YxiwDc.tmp_.jpg
END:VEVENT
BEGIN:VEVENT
DTSTART;TZID=America/New_York:20250823T093000
DTEND;TZID=America/New_York:20250823T120000
DTSTAMP:20260421T054536
CREATED:20250624T215523Z
LAST-MODIFIED:20250823T155501Z
UID:10008564-1755941400-1755950400@calendar.adasisrael.org
SUMMARY:Shabbat Smith Service
DESCRIPTION:Welcome celebration during Shabbat Morning Services for Rabbi Weissfeld & Rabbi Dassa\, with kiddush to follow — come say hi and help us welcome them! \nRabbi Weissfeld comes to us from Texas Hillel\, where he served as a Senior Jewish Educator and Rabbi Dassa joins us from B’nai Jeshurun in New York\, where she served as a Rabbinic Fellow and just received her ordination from JTS. \nClick Here To Livestream \nShabbat Service Links: \nSiddur Lev Shalem: Kabbalat Shabbat | Click Here to DownloadSiddur Lev Shalem: Shabbat Morning | Click Here to Download
URL:https://calendar.adasisrael.org/event/shabbat-smith-service-102/
LOCATION:Smith Sanctuary
CATEGORIES:Shabbat
ATTACH;FMTTYPE=image/jpeg:https://calendar.adasisrael.org/wp-content/uploads/2025/04/download-YICoSh.tmp_.jpg
END:VEVENT
BEGIN:VEVENT
DTSTART;TZID=America/New_York:20250809T093000
DTEND;TZID=America/New_York:20250809T120000
DTSTAMP:20260421T054536
CREATED:20250624T215518Z
LAST-MODIFIED:20250809T145502Z
UID:10008522-1754731800-1754740800@calendar.adasisrael.org
SUMMARY:Shabbat Smith Service
DESCRIPTION:Click Here To Livestream \nLed by our inspiring Rabbis and Cantor\, this service includes a D’var Torah and sermon and often includes participation by members and B’nai Mitzvah. \nShabbat Service Links: \nSiddur Lev Shalem: Kabbalat Shabbat | Click Here to DownloadSiddur Lev Shalem: Shabbat Morning | Click Here to Download
URL:https://calendar.adasisrael.org/event/shabbat-smith-service-100/
LOCATION:Smith Sanctuary
CATEGORIES:Shabbat
ATTACH;FMTTYPE=image/jpeg:https://calendar.adasisrael.org/wp-content/uploads/2024/03/AdasShabbat-YxiwDc.tmp_.jpg
END:VEVENT
BEGIN:VEVENT
DTSTART;TZID=America/New_York:20250802T093000
DTEND;TZID=America/New_York:20250802T120000
DTSTAMP:20260421T054536
CREATED:20250624T215516Z
LAST-MODIFIED:20250802T153502Z
UID:10008501-1754127000-1754136000@calendar.adasisrael.org
SUMMARY:Shabbat Smith Service
DESCRIPTION:Click Here To Livestream \nLed by our inspiring Rabbis and Cantor\, this service includes a D’var Torah and sermon and often includes participation by members and B’nai Mitzvah. \nShabbat Service Links: \nSiddur Lev Shalem: Kabbalat Shabbat | Click Here to DownloadSiddur Lev Shalem: Shabbat Morning | Click Here to Download
URL:https://calendar.adasisrael.org/event/shabbat-smith-service-99/
LOCATION:Smith Sanctuary
CATEGORIES:Shabbat
ATTACH;FMTTYPE=image/jpeg:https://calendar.adasisrael.org/wp-content/uploads/2024/03/AdasShabbat-YxiwDc.tmp_.jpg
END:VEVENT
BEGIN:VEVENT
DTSTART;TZID=America/New_York:20250726T093000
DTEND;TZID=America/New_York:20250726T120000
DTSTAMP:20260421T054536
CREATED:20250624T215513Z
LAST-MODIFIED:20250726T145502Z
UID:10008479-1753522200-1753531200@calendar.adasisrael.org
SUMMARY:Shabbat Smith Service
DESCRIPTION:Click Here To Livestream \nLed by our inspiring Rabbis and Cantor\, this service includes a D’var Torah and sermon and often includes participation by members and B’nai Mitzvah. \nShabbat Service Links: \nSiddur Lev Shalem: Kabbalat Shabbat | Click Here to DownloadSiddur Lev Shalem: Shabbat Morning | Click Here to Download
URL:https://calendar.adasisrael.org/event/shabbat-smith-service-98/
LOCATION:Smith Sanctuary
CATEGORIES:Shabbat
ATTACH;FMTTYPE=image/jpeg:https://calendar.adasisrael.org/wp-content/uploads/2024/03/AdasShabbat-YxiwDc.tmp_.jpg
END:VEVENT
END:VCALENDAR