BEGIN:VCALENDAR
VERSION:2.0
PRODID:-//Adas Israel Congregation - ECPv6.2.9//NONSGML v1.0//EN
CALSCALE:GREGORIAN
METHOD:PUBLISH
X-WR-CALNAME:Adas Israel Congregation
X-ORIGINAL-URL:https://calendar.adasisrael.org
X-WR-CALDESC:Events for Adas Israel Congregation
REFRESH-INTERVAL;VALUE=DURATION:PT1H
X-Robots-Tag:noindex
X-PUBLISHED-TTL:PT1H
BEGIN:VTIMEZONE
TZID:America/New_York
BEGIN:DAYLIGHT
TZOFFSETFROM:-0500
TZOFFSETTO:-0400
TZNAME:EDT
DTSTART:20230312T070000
END:DAYLIGHT
BEGIN:STANDARD
TZOFFSETFROM:-0400
TZOFFSETTO:-0500
TZNAME:EST
DTSTART:20231105T060000
END:STANDARD
END:VTIMEZONE
BEGIN:VEVENT
DTSTART;TZID=America/New_York:20231005T103000
DTEND;TZID=America/New_York:20231005T110000
DTSTAMP:20260421T163909
CREATED:20231004T162005Z
LAST-MODIFIED:20231005T143002Z
UID:10003169-1696501800-1696503600@calendar.adasisrael.org
SUMMARY:Gan: Showing the Torah
DESCRIPTION:
URL:https://calendar.adasisrael.org/event/gan-showing-the-torah/
LOCATION:Smith Sanctuary
ATTACH;FMTTYPE=image/jpeg:https://calendar.adasisrael.org/wp-content/uploads/2023/07/Front-Professional.jpg
END:VEVENT
BEGIN:VEVENT
DTSTART;TZID=America/New_York:20230930T091500
DTEND;TZID=America/New_York:20230930T114500
DTSTAMP:20260421T163909
CREATED:20230910T050004Z
LAST-MODIFIED:20230930T144502Z
UID:10002683-1696065300-1696074300@calendar.adasisrael.org
SUMMARY:Shabbat Smith Service
DESCRIPTION:Livestream Here: adasisrael.org/shabbat-services-livestream \nShabbat morning services in the Charles E. Smith Sanctuary\, the synagogue’s largest worship space\, are led by our inspiring Rabbis and Cantor. The service includes a D’var Torah and sermon by the Rabbi and often includes participation by members and B’nai Mitzvah. \nShabbat Service Links: \nSiddur Lev Shalem: Kabbalat Shabbat | Click Here to DownloadSiddur Lev Shalem: Shabbat Morning | Click Here to Download
URL:https://calendar.adasisrael.org/event/shabbat-smith-service-12/
LOCATION:Smith Sanctuary
CATEGORIES:Shabbat
ATTACH;FMTTYPE=image/jpeg:https://calendar.adasisrael.org/wp-content/uploads/2023/07/smith600x400-h1Bxsw.tmp_.jpg
END:VEVENT
BEGIN:VEVENT
DTSTART;TZID=America/New_York:20230919T180000
DTEND;TZID=America/New_York:20230919T220000
DTSTAMP:20260421T163909
CREATED:20230910T050003Z
LAST-MODIFIED:20230920T011002Z
UID:10002641-1695146400-1695160800@calendar.adasisrael.org
SUMMARY:Israel Policy Forum
DESCRIPTION:
URL:https://calendar.adasisrael.org/event/israel-policy-forum/
LOCATION:Smith Sanctuary
ATTACH;FMTTYPE=image/jpeg:https://calendar.adasisrael.org/wp-content/uploads/2023/07/Front-Professional.jpg
END:VEVENT
BEGIN:VEVENT
DTSTART;TZID=America/New_York:20230916T093000
DTEND;TZID=America/New_York:20230916T120000
DTSTAMP:20260421T163909
CREATED:20230910T050002Z
LAST-MODIFIED:20230916T151502Z
UID:10002629-1694856600-1694865600@calendar.adasisrael.org
SUMMARY:Shabbat Smith Service
DESCRIPTION:Livestream Here: adasisrael.org/shabbat-services-livestream \nShabbat morning services in the Charles E. Smith Sanctuary\, the synagogue’s largest worship space\, are led by our inspiring Rabbis and Cantor. The service includes a D’var Torah and sermon by the Rabbi and often includes participation by members and B’nai Mitzvah. \nShabbat Service Links: \nSiddur Lev Shalem: Kabbalat Shabbat | Click Here to DownloadSiddur Lev Shalem: Shabbat Morning | Click Here to Download
URL:https://calendar.adasisrael.org/event/shabbat-smith-service-10/
LOCATION:Smith Sanctuary
CATEGORIES:Shabbat
ATTACH;FMTTYPE=image/jpeg:https://calendar.adasisrael.org/wp-content/uploads/2023/07/smith600x400-h1Bxsw.tmp_.jpg
END:VEVENT
BEGIN:VEVENT
DTSTART;TZID=America/New_York:20230902T093000
DTEND;TZID=America/New_York:20230902T120000
DTSTAMP:20260421T163909
CREATED:20230712T211513Z
LAST-MODIFIED:20230902T154002Z
UID:10002086-1693647000-1693656000@calendar.adasisrael.org
SUMMARY:Shabbat Smith Service
DESCRIPTION:Livestream Here: adasisrael.org/shabbat-services-livestream \nShabbat morning services in the Charles E. Smith Sanctuary\, the synagogue’s largest worship space\, are led by our inspiring Rabbis and Cantor. The service includes a D’var Torah and sermon by the Rabbi and often includes participation by members and B’nai Mitzvah. \nShabbat Service Links: \nSiddur Lev Shalem: Kabbalat Shabbat | Click Here to DownloadSiddur Lev Shalem: Shabbat Morning | Click Here to Download
URL:https://calendar.adasisrael.org/event/shabbat-smith-service-8/
LOCATION:Smith Sanctuary
CATEGORIES:Shabbat
ATTACH;FMTTYPE=image/jpeg:https://calendar.adasisrael.org/wp-content/uploads/2023/07/smith600x400-h1Bxsw.tmp_.jpg
END:VEVENT
BEGIN:VEVENT
DTSTART;TZID=America/New_York:20230826T093000
DTEND;TZID=America/New_York:20230826T120000
DTSTAMP:20260421T163909
CREATED:20230712T211512Z
LAST-MODIFIED:20230826T150002Z
UID:10002048-1693042200-1693051200@calendar.adasisrael.org
SUMMARY:Shabbat Smith Service
DESCRIPTION:Livestream Here: adasisrael.org/shabbat-services-livestream \nShabbat morning services in the Charles E. Smith Sanctuary\, the synagogue’s largest worship space\, are led by our inspiring Rabbis and Cantor. The service includes a D’var Torah and sermon by the Rabbi and often includes participation by members and B’nai Mitzvah. \nShabbat Service Links: \nSiddur Lev Shalem: Kabbalat Shabbat | Click Here to DownloadSiddur Lev Shalem: Shabbat Morning | Click Here to Download
URL:https://calendar.adasisrael.org/event/shabbat-smith-service-7/
LOCATION:Smith Sanctuary
CATEGORIES:Shabbat
ATTACH;FMTTYPE=image/jpeg:https://calendar.adasisrael.org/wp-content/uploads/2023/07/smith600x400-h1Bxsw.tmp_.jpg
END:VEVENT
END:VCALENDAR