BEGIN:VCALENDAR
VERSION:2.0
PRODID:-//Adas Israel Congregation - ECPv6.2.9//NONSGML v1.0//EN
CALSCALE:GREGORIAN
METHOD:PUBLISH
X-ORIGINAL-URL:https://calendar.adasisrael.org
X-WR-CALDESC:Events for Adas Israel Congregation
REFRESH-INTERVAL;VALUE=DURATION:PT1H
X-Robots-Tag:noindex
X-PUBLISHED-TTL:PT1H
BEGIN:VTIMEZONE
TZID:America/New_York
BEGIN:DAYLIGHT
TZOFFSETFROM:-0500
TZOFFSETTO:-0400
TZNAME:EDT
DTSTART:20260308T070000
END:DAYLIGHT
BEGIN:STANDARD
TZOFFSETFROM:-0400
TZOFFSETTO:-0500
TZNAME:EST
DTSTART:20261101T060000
END:STANDARD
END:VTIMEZONE
BEGIN:VEVENT
DTSTART;TZID=America/New_York:20260616T100000
DTEND;TZID=America/New_York:20260616T140000
DTSTAMP:20260421T094508
CREATED:20260414T191328Z
LAST-MODIFIED:20260421T132018Z
UID:10012912-1781604000-1781618400@calendar.adasisrael.org
SUMMARY:Senior Lunch
DESCRIPTION:
URL:https://calendar.adasisrael.org/event/senior-lunch-597/
LOCATION:Sisterhood Hall
ATTACH;FMTTYPE=image/jpeg:https://calendar.adasisrael.org/wp-content/uploads/2023/07/Front-Professional.jpg
END:VEVENT
BEGIN:VEVENT
DTSTART;TZID=America/New_York:20260617T100000
DTEND;TZID=America/New_York:20260617T140000
DTSTAMP:20260421T094508
CREATED:20260414T191329Z
LAST-MODIFIED:20260421T132018Z
UID:10012916-1781690400-1781704800@calendar.adasisrael.org
SUMMARY:Senior Lunch
DESCRIPTION:
URL:https://calendar.adasisrael.org/event/senior-lunch-598/
LOCATION:Sisterhood Hall
ATTACH;FMTTYPE=image/jpeg:https://calendar.adasisrael.org/wp-content/uploads/2023/07/Front-Professional.jpg
END:VEVENT
BEGIN:VEVENT
DTSTART;TZID=America/New_York:20260618T100000
DTEND;TZID=America/New_York:20260618T140000
DTSTAMP:20260421T094508
CREATED:20260414T191329Z
LAST-MODIFIED:20260421T132019Z
UID:10012920-1781776800-1781791200@calendar.adasisrael.org
SUMMARY:Senior Lunch
DESCRIPTION:
URL:https://calendar.adasisrael.org/event/senior-lunch-599/
LOCATION:Sisterhood Hall
ATTACH;FMTTYPE=image/jpeg:https://calendar.adasisrael.org/wp-content/uploads/2023/07/Front-Professional.jpg
END:VEVENT
BEGIN:VEVENT
DTSTART;TZID=America/New_York:20260622T100000
DTEND;TZID=America/New_York:20260622T140000
DTSTAMP:20260421T094508
CREATED:20260414T191331Z
LAST-MODIFIED:20260421T132020Z
UID:10012936-1782122400-1782136800@calendar.adasisrael.org
SUMMARY:Senior Lunch
DESCRIPTION:
URL:https://calendar.adasisrael.org/event/senior-lunch-600/
LOCATION:Sisterhood Hall
ATTACH;FMTTYPE=image/jpeg:https://calendar.adasisrael.org/wp-content/uploads/2023/07/Front-Professional.jpg
END:VEVENT
BEGIN:VEVENT
DTSTART;TZID=America/New_York:20260623T100000
DTEND;TZID=America/New_York:20260623T140000
DTSTAMP:20260421T094508
CREATED:20260414T191332Z
LAST-MODIFIED:20260421T132020Z
UID:10012940-1782208800-1782223200@calendar.adasisrael.org
SUMMARY:Senior Lunch
DESCRIPTION:
URL:https://calendar.adasisrael.org/event/senior-lunch-601/
LOCATION:Sisterhood Hall
ATTACH;FMTTYPE=image/jpeg:https://calendar.adasisrael.org/wp-content/uploads/2023/07/Front-Professional.jpg
END:VEVENT
BEGIN:VEVENT
DTSTART;TZID=America/New_York:20260624T100000
DTEND;TZID=America/New_York:20260624T140000
DTSTAMP:20260421T094508
CREATED:20260414T191332Z
LAST-MODIFIED:20260421T132020Z
UID:10012944-1782295200-1782309600@calendar.adasisrael.org
SUMMARY:Senior Lunch
DESCRIPTION:
URL:https://calendar.adasisrael.org/event/senior-lunch-602/
LOCATION:Sisterhood Hall
ATTACH;FMTTYPE=image/jpeg:https://calendar.adasisrael.org/wp-content/uploads/2023/07/Front-Professional.jpg
END:VEVENT
BEGIN:VEVENT
DTSTART;TZID=America/New_York:20260625T100000
DTEND;TZID=America/New_York:20260625T140000
DTSTAMP:20260421T094508
CREATED:20260414T191333Z
LAST-MODIFIED:20260421T132020Z
UID:10012947-1782381600-1782396000@calendar.adasisrael.org
SUMMARY:Senior Lunch
DESCRIPTION:
URL:https://calendar.adasisrael.org/event/senior-lunch-603/
LOCATION:Sisterhood Hall
ATTACH;FMTTYPE=image/jpeg:https://calendar.adasisrael.org/wp-content/uploads/2023/07/Front-Professional.jpg
END:VEVENT
BEGIN:VEVENT
DTSTART;TZID=America/New_York:20260626T100000
DTEND;TZID=America/New_York:20260626T140000
DTSTAMP:20260421T094508
CREATED:20260414T191333Z
LAST-MODIFIED:20260421T132021Z
UID:10012952-1782468000-1782482400@calendar.adasisrael.org
SUMMARY:Senior Lunch
DESCRIPTION:
URL:https://calendar.adasisrael.org/event/senior-lunch-604/
LOCATION:Sisterhood Hall
ATTACH;FMTTYPE=image/jpeg:https://calendar.adasisrael.org/wp-content/uploads/2023/07/Front-Professional.jpg
END:VEVENT
BEGIN:VEVENT
DTSTART;TZID=America/New_York:20260629T100000
DTEND;TZID=America/New_York:20260629T140000
DTSTAMP:20260421T094508
CREATED:20260414T191334Z
LAST-MODIFIED:20260421T132021Z
UID:10012965-1782727200-1782741600@calendar.adasisrael.org
SUMMARY:Senior Lunch
DESCRIPTION:
URL:https://calendar.adasisrael.org/event/senior-lunch-605/
LOCATION:Sisterhood Hall
ATTACH;FMTTYPE=image/jpeg:https://calendar.adasisrael.org/wp-content/uploads/2023/07/Front-Professional.jpg
END:VEVENT
BEGIN:VEVENT
DTSTART;TZID=America/New_York:20260630T100000
DTEND;TZID=America/New_York:20260630T140000
DTSTAMP:20260421T094508
CREATED:20260414T191335Z
LAST-MODIFIED:20260421T132022Z
UID:10012970-1782813600-1782828000@calendar.adasisrael.org
SUMMARY:Senior Lunch
DESCRIPTION:
URL:https://calendar.adasisrael.org/event/senior-lunch-606/
LOCATION:Sisterhood Hall
ATTACH;FMTTYPE=image/jpeg:https://calendar.adasisrael.org/wp-content/uploads/2023/07/Front-Professional.jpg
END:VEVENT
BEGIN:VEVENT
DTSTART;TZID=America/New_York:20260701T100000
DTEND;TZID=America/New_York:20260701T140000
DTSTAMP:20260421T094508
CREATED:20260414T191336Z
LAST-MODIFIED:20260421T132022Z
UID:10012973-1782900000-1782914400@calendar.adasisrael.org
SUMMARY:Senior Lunch
DESCRIPTION:
URL:https://calendar.adasisrael.org/event/senior-lunch-607/
LOCATION:Sisterhood Hall
ATTACH;FMTTYPE=image/jpeg:https://calendar.adasisrael.org/wp-content/uploads/2023/07/Front-Professional.jpg
END:VEVENT
BEGIN:VEVENT
DTSTART;TZID=America/New_York:20260702T100000
DTEND;TZID=America/New_York:20260702T140000
DTSTAMP:20260421T094508
CREATED:20260414T191336Z
LAST-MODIFIED:20260421T132022Z
UID:10012976-1782986400-1783000800@calendar.adasisrael.org
SUMMARY:Senior Lunch
DESCRIPTION:
URL:https://calendar.adasisrael.org/event/senior-lunch-608/
LOCATION:Sisterhood Hall
ATTACH;FMTTYPE=image/jpeg:https://calendar.adasisrael.org/wp-content/uploads/2023/07/Front-Professional.jpg
END:VEVENT
BEGIN:VEVENT
DTSTART;TZID=America/New_York:20260703T100000
DTEND;TZID=America/New_York:20260703T140000
DTSTAMP:20260421T094508
CREATED:20260414T191337Z
LAST-MODIFIED:20260421T132023Z
UID:10012980-1783072800-1783087200@calendar.adasisrael.org
SUMMARY:Senior Lunch
DESCRIPTION:
URL:https://calendar.adasisrael.org/event/senior-lunch-609/
LOCATION:Sisterhood Hall
ATTACH;FMTTYPE=image/jpeg:https://calendar.adasisrael.org/wp-content/uploads/2023/07/Front-Professional.jpg
END:VEVENT
BEGIN:VEVENT
DTSTART;TZID=America/New_York:20260706T100000
DTEND;TZID=America/New_York:20260706T140000
DTSTAMP:20260421T094508
CREATED:20260414T191338Z
LAST-MODIFIED:20260421T132023Z
UID:10012986-1783332000-1783346400@calendar.adasisrael.org
SUMMARY:Senior Lunch
DESCRIPTION:
URL:https://calendar.adasisrael.org/event/senior-lunch-610/
LOCATION:Sisterhood Hall
ATTACH;FMTTYPE=image/jpeg:https://calendar.adasisrael.org/wp-content/uploads/2023/07/Front-Professional.jpg
END:VEVENT
BEGIN:VEVENT
DTSTART;TZID=America/New_York:20260707T100000
DTEND;TZID=America/New_York:20260707T140000
DTSTAMP:20260421T094508
CREATED:20260414T191338Z
LAST-MODIFIED:20260421T132023Z
UID:10012989-1783418400-1783432800@calendar.adasisrael.org
SUMMARY:Senior Lunch
DESCRIPTION:
URL:https://calendar.adasisrael.org/event/senior-lunch-611/
LOCATION:Sisterhood Hall
ATTACH;FMTTYPE=image/jpeg:https://calendar.adasisrael.org/wp-content/uploads/2023/07/Front-Professional.jpg
END:VEVENT
BEGIN:VEVENT
DTSTART;TZID=America/New_York:20260708T100000
DTEND;TZID=America/New_York:20260708T140000
DTSTAMP:20260421T094508
CREATED:20260414T191339Z
LAST-MODIFIED:20260421T132024Z
UID:10012993-1783504800-1783519200@calendar.adasisrael.org
SUMMARY:Senior Lunch
DESCRIPTION:
URL:https://calendar.adasisrael.org/event/senior-lunch-612/
LOCATION:Sisterhood Hall
ATTACH;FMTTYPE=image/jpeg:https://calendar.adasisrael.org/wp-content/uploads/2023/07/Front-Professional.jpg
END:VEVENT
BEGIN:VEVENT
DTSTART;TZID=America/New_York:20260709T100000
DTEND;TZID=America/New_York:20260709T140000
DTSTAMP:20260421T094508
CREATED:20260414T191339Z
LAST-MODIFIED:20260421T132024Z
UID:10012996-1783591200-1783605600@calendar.adasisrael.org
SUMMARY:Senior Lunch
DESCRIPTION:
URL:https://calendar.adasisrael.org/event/senior-lunch-613/
LOCATION:Sisterhood Hall
ATTACH;FMTTYPE=image/jpeg:https://calendar.adasisrael.org/wp-content/uploads/2023/07/Front-Professional.jpg
END:VEVENT
BEGIN:VEVENT
DTSTART;TZID=America/New_York:20260710T100000
DTEND;TZID=America/New_York:20260710T140000
DTSTAMP:20260421T094508
CREATED:20260414T191340Z
LAST-MODIFIED:20260421T132024Z
UID:10013000-1783677600-1783692000@calendar.adasisrael.org
SUMMARY:Senior Lunch
DESCRIPTION:
URL:https://calendar.adasisrael.org/event/senior-lunch-614/
LOCATION:Sisterhood Hall
ATTACH;FMTTYPE=image/jpeg:https://calendar.adasisrael.org/wp-content/uploads/2023/07/Front-Professional.jpg
END:VEVENT
BEGIN:VEVENT
DTSTART;TZID=America/New_York:20260713T100000
DTEND;TZID=America/New_York:20260713T140000
DTSTAMP:20260421T094508
CREATED:20260414T191341Z
LAST-MODIFIED:20260421T132024Z
UID:10013006-1783936800-1783951200@calendar.adasisrael.org
SUMMARY:Senior Lunch
DESCRIPTION:
URL:https://calendar.adasisrael.org/event/senior-lunch-615/
LOCATION:Sisterhood Hall
ATTACH;FMTTYPE=image/jpeg:https://calendar.adasisrael.org/wp-content/uploads/2023/07/Front-Professional.jpg
END:VEVENT
BEGIN:VEVENT
DTSTART;TZID=America/New_York:20260714T100000
DTEND;TZID=America/New_York:20260714T140000
DTSTAMP:20260421T094508
CREATED:20260415T045523Z
LAST-MODIFIED:20260421T132024Z
UID:10013010-1784023200-1784037600@calendar.adasisrael.org
SUMMARY:Senior Lunch
DESCRIPTION:
URL:https://calendar.adasisrael.org/event/senior-lunch-616/
LOCATION:Sisterhood Hall
ATTACH;FMTTYPE=image/jpeg:https://calendar.adasisrael.org/wp-content/uploads/2023/07/Front-Professional.jpg
END:VEVENT
BEGIN:VEVENT
DTSTART;TZID=America/New_York:20260715T100000
DTEND;TZID=America/New_York:20260715T140000
DTSTAMP:20260421T094508
CREATED:20260416T050022Z
LAST-MODIFIED:20260421T132025Z
UID:10013012-1784109600-1784124000@calendar.adasisrael.org
SUMMARY:Senior Lunch
DESCRIPTION:
URL:https://calendar.adasisrael.org/event/senior-lunch-617/
LOCATION:Sisterhood Hall
ATTACH;FMTTYPE=image/jpeg:https://calendar.adasisrael.org/wp-content/uploads/2023/07/Front-Professional.jpg
END:VEVENT
BEGIN:VEVENT
DTSTART;TZID=America/New_York:20260716T100000
DTEND;TZID=America/New_York:20260716T140000
DTSTAMP:20260421T094508
CREATED:20260417T042522Z
LAST-MODIFIED:20260421T132025Z
UID:10013022-1784196000-1784210400@calendar.adasisrael.org
SUMMARY:Senior Lunch
DESCRIPTION:
URL:https://calendar.adasisrael.org/event/senior-lunch-618/
LOCATION:Sisterhood Hall
ATTACH;FMTTYPE=image/jpeg:https://calendar.adasisrael.org/wp-content/uploads/2023/07/Front-Professional.jpg
END:VEVENT
BEGIN:VEVENT
DTSTART;TZID=America/New_York:20260717T100000
DTEND;TZID=America/New_York:20260717T140000
DTSTAMP:20260421T094508
CREATED:20260418T042520Z
LAST-MODIFIED:20260421T132025Z
UID:10013035-1784282400-1784296800@calendar.adasisrael.org
SUMMARY:Senior Lunch
DESCRIPTION:
URL:https://calendar.adasisrael.org/event/senior-lunch-619/
LOCATION:Sisterhood Hall
ATTACH;FMTTYPE=image/jpeg:https://calendar.adasisrael.org/wp-content/uploads/2023/07/Front-Professional.jpg
END:VEVENT
BEGIN:VEVENT
DTSTART;TZID=America/New_York:20260720T100000
DTEND;TZID=America/New_York:20260720T140000
DTSTAMP:20260421T094508
CREATED:20260421T043021Z
LAST-MODIFIED:20260421T132026Z
UID:10013041-1784541600-1784556000@calendar.adasisrael.org
SUMMARY:Senior Lunch
DESCRIPTION:
URL:https://calendar.adasisrael.org/event/senior-lunch-620/
LOCATION:Sisterhood Hall
ATTACH;FMTTYPE=image/jpeg:https://calendar.adasisrael.org/wp-content/uploads/2023/07/Front-Professional.jpg
END:VEVENT
END:VCALENDAR