BEGIN:VCALENDAR
VERSION:2.0
PRODID:-//Adas Israel Congregation - ECPv6.2.9//NONSGML v1.0//EN
CALSCALE:GREGORIAN
METHOD:PUBLISH
X-ORIGINAL-URL:https://calendar.adasisrael.org
X-WR-CALDESC:Events for Adas Israel Congregation
REFRESH-INTERVAL;VALUE=DURATION:PT1H
X-Robots-Tag:noindex
X-PUBLISHED-TTL:PT1H
BEGIN:VTIMEZONE
TZID:America/New_York
BEGIN:DAYLIGHT
TZOFFSETFROM:-0500
TZOFFSETTO:-0400
TZNAME:EDT
DTSTART:20250309T070000
END:DAYLIGHT
BEGIN:STANDARD
TZOFFSETFROM:-0400
TZOFFSETTO:-0500
TZNAME:EST
DTSTART:20251102T060000
END:STANDARD
BEGIN:DAYLIGHT
TZOFFSETFROM:-0500
TZOFFSETTO:-0400
TZNAME:EDT
DTSTART:20260308T070000
END:DAYLIGHT
BEGIN:STANDARD
TZOFFSETFROM:-0400
TZOFFSETTO:-0500
TZNAME:EST
DTSTART:20261101T060000
END:STANDARD
END:VTIMEZONE
BEGIN:VEVENT
DTSTART;TZID=America/New_York:20260205T090000
DTEND;TZID=America/New_York:20260205T140000
DTSTAMP:20260421T150043
CREATED:20260113T234018Z
LAST-MODIFIED:20260205T175002Z
UID:10010435-1770282000-1770300000@calendar.adasisrael.org
SUMMARY:Senior Lunch
DESCRIPTION:Adas-Behrend Senior Fellowship is a program that provides seniors from the DC metro area a kosher lunch\, social activities\, and Friday Shabbat celebrations. Social activities include games (such as bingo\, scrabble) group exercise classes\, entertainment (musicians\, sing-alongs\, movies)\, field trips to Theater J and museums\, art classes\, etc. \nFor a full calendar of events visit adasisrael.org/senior-fellowship or email akleban@jssa.org.
URL:https://calendar.adasisrael.org/event/senior-lunch-526/
LOCATION:Sisterhood Hall
ATTACH;FMTTYPE=image/jpeg:https://calendar.adasisrael.org/wp-content/uploads/2023/07/Front-Professional.jpg
END:VEVENT
BEGIN:VEVENT
DTSTART;TZID=America/New_York:20260204T090000
DTEND;TZID=America/New_York:20260204T140000
DTSTAMP:20260421T150043
CREATED:20260113T234017Z
LAST-MODIFIED:20260204T184002Z
UID:10010426-1770195600-1770213600@calendar.adasisrael.org
SUMMARY:Senior Lunch
DESCRIPTION:Adas-Behrend Senior Fellowship is a program that provides seniors from the DC metro area a kosher lunch\, social activities\, and Friday Shabbat celebrations. Social activities include games (such as bingo\, scrabble) group exercise classes\, entertainment (musicians\, sing-alongs\, movies)\, field trips to Theater J and museums\, art classes\, etc. \nFor a full calendar of events visit adasisrael.org/senior-fellowship or email akleban@jssa.org.
URL:https://calendar.adasisrael.org/event/senior-lunch-525/
LOCATION:Sisterhood Hall
ATTACH;FMTTYPE=image/jpeg:https://calendar.adasisrael.org/wp-content/uploads/2023/07/Front-Professional.jpg
END:VEVENT
BEGIN:VEVENT
DTSTART;TZID=America/New_York:20260203T090000
DTEND;TZID=America/New_York:20260203T140000
DTSTAMP:20260421T150043
CREATED:20260113T234016Z
LAST-MODIFIED:20260203T181502Z
UID:10010421-1770109200-1770127200@calendar.adasisrael.org
SUMMARY:Senior Lunch
DESCRIPTION:Adas-Behrend Senior Fellowship is a program that provides seniors from the DC metro area a kosher lunch\, social activities\, and Friday Shabbat celebrations. Social activities include games (such as bingo\, scrabble) group exercise classes\, entertainment (musicians\, sing-alongs\, movies)\, field trips to Theater J and museums\, art classes\, etc. \nFor a full calendar of events visit adasisrael.org/senior-fellowship or email akleban@jssa.org.
URL:https://calendar.adasisrael.org/event/senior-lunch-524/
LOCATION:Sisterhood Hall
ATTACH;FMTTYPE=image/jpeg:https://calendar.adasisrael.org/wp-content/uploads/2023/07/Front-Professional.jpg
END:VEVENT
BEGIN:VEVENT
DTSTART;TZID=America/New_York:20260202T090000
DTEND;TZID=America/New_York:20260202T140000
DTSTAMP:20260421T150043
CREATED:20260113T234015Z
LAST-MODIFIED:20260202T180002Z
UID:10010418-1770022800-1770040800@calendar.adasisrael.org
SUMMARY:Senior Lunch
DESCRIPTION:Adas-Behrend Senior Fellowship is a program that provides seniors from the DC metro area a kosher lunch\, social activities\, and Friday Shabbat celebrations. Social activities include games (such as bingo\, scrabble) group exercise classes\, entertainment (musicians\, sing-alongs\, movies)\, field trips to Theater J and museums\, art classes\, etc. \nFor a full calendar of events visit adasisrael.org/senior-fellowship or email akleban@jssa.org.
URL:https://calendar.adasisrael.org/event/senior-lunch-523/
LOCATION:Sisterhood Hall
ATTACH;FMTTYPE=image/jpeg:https://calendar.adasisrael.org/wp-content/uploads/2023/07/Front-Professional.jpg
END:VEVENT
BEGIN:VEVENT
DTSTART;TZID=America/New_York:20260130T090000
DTEND;TZID=America/New_York:20260130T140000
DTSTAMP:20260421T150043
CREATED:20260113T234013Z
LAST-MODIFIED:20260130T185512Z
UID:10010399-1769763600-1769781600@calendar.adasisrael.org
SUMMARY:Senior Lunch
DESCRIPTION:Adas-Behrend Senior Fellowship is a program that provides seniors from the DC metro area a kosher lunch\, social activities\, and Friday Shabbat celebrations. Social activities include games (such as bingo\, scrabble) group exercise classes\, entertainment (musicians\, sing-alongs\, movies)\, field trips to Theater J and museums\, art classes\, etc. \nFor a full calendar of events visit adasisrael.org/senior-fellowship or email akleban@jssa.org.
URL:https://calendar.adasisrael.org/event/senior-lunch-522/
LOCATION:Sisterhood Hall
ATTACH;FMTTYPE=image/jpeg:https://calendar.adasisrael.org/wp-content/uploads/2023/07/Front-Professional.jpg
END:VEVENT
BEGIN:VEVENT
DTSTART;TZID=America/New_York:20260129T090000
DTEND;TZID=America/New_York:20260129T140000
DTSTAMP:20260421T150043
CREATED:20260113T234012Z
LAST-MODIFIED:20260129T185502Z
UID:10010395-1769677200-1769695200@calendar.adasisrael.org
SUMMARY:Senior Lunch
DESCRIPTION:Adas-Behrend Senior Fellowship is a program that provides seniors from the DC metro area a kosher lunch\, social activities\, and Friday Shabbat celebrations. Social activities include games (such as bingo\, scrabble) group exercise classes\, entertainment (musicians\, sing-alongs\, movies)\, field trips to Theater J and museums\, art classes\, etc. \nFor a full calendar of events visit adasisrael.org/senior-fellowship or email akleban@jssa.org.
URL:https://calendar.adasisrael.org/event/senior-lunch-521/
LOCATION:Sisterhood Hall
ATTACH;FMTTYPE=image/jpeg:https://calendar.adasisrael.org/wp-content/uploads/2023/07/Front-Professional.jpg
END:VEVENT
BEGIN:VEVENT
DTSTART;TZID=America/New_York:20260128T090000
DTEND;TZID=America/New_York:20260128T140000
DTSTAMP:20260421T150043
CREATED:20260113T234011Z
LAST-MODIFIED:20260128T175502Z
UID:10010391-1769590800-1769608800@calendar.adasisrael.org
SUMMARY:Senior Lunch
DESCRIPTION:Adas-Behrend Senior Fellowship is a program that provides seniors from the DC metro area a kosher lunch\, social activities\, and Friday Shabbat celebrations. Social activities include games (such as bingo\, scrabble) group exercise classes\, entertainment (musicians\, sing-alongs\, movies)\, field trips to Theater J and museums\, art classes\, etc. \nFor a full calendar of events visit adasisrael.org/senior-fellowship or email akleban@jssa.org.
URL:https://calendar.adasisrael.org/event/senior-lunch-520/
LOCATION:Sisterhood Hall
ATTACH;FMTTYPE=image/jpeg:https://calendar.adasisrael.org/wp-content/uploads/2023/07/Front-Professional.jpg
END:VEVENT
BEGIN:VEVENT
DTSTART;TZID=America/New_York:20260127T090000
DTEND;TZID=America/New_York:20260127T140000
DTSTAMP:20260421T150043
CREATED:20260113T234010Z
LAST-MODIFIED:20260127T181502Z
UID:10010385-1769504400-1769522400@calendar.adasisrael.org
SUMMARY:Senior Lunch
DESCRIPTION:Adas-Behrend Senior Fellowship is a program that provides seniors from the DC metro area a kosher lunch\, social activities\, and Friday Shabbat celebrations. Social activities include games (such as bingo\, scrabble) group exercise classes\, entertainment (musicians\, sing-alongs\, movies)\, field trips to Theater J and museums\, art classes\, etc. \nFor a full calendar of events visit adasisrael.org/senior-fellowship or email akleban@jssa.org.
URL:https://calendar.adasisrael.org/event/senior-lunch-519/
LOCATION:Sisterhood Hall
ATTACH;FMTTYPE=image/jpeg:https://calendar.adasisrael.org/wp-content/uploads/2023/07/Front-Professional.jpg
END:VEVENT
BEGIN:VEVENT
DTSTART;TZID=America/New_York:20260126T090000
DTEND;TZID=America/New_York:20260126T140000
DTSTAMP:20260421T150043
CREATED:20260113T234010Z
LAST-MODIFIED:20260126T182502Z
UID:10010381-1769418000-1769436000@calendar.adasisrael.org
SUMMARY:Senior Lunch
DESCRIPTION:Adas-Behrend Senior Fellowship is a program that provides seniors from the DC metro area a kosher lunch\, social activities\, and Friday Shabbat celebrations. Social activities include games (such as bingo\, scrabble) group exercise classes\, entertainment (musicians\, sing-alongs\, movies)\, field trips to Theater J and museums\, art classes\, etc. \nFor a full calendar of events visit adasisrael.org/senior-fellowship or email akleban@jssa.org.
URL:https://calendar.adasisrael.org/event/senior-lunch-518/
LOCATION:Sisterhood Hall
ATTACH;FMTTYPE=image/jpeg:https://calendar.adasisrael.org/wp-content/uploads/2023/07/Front-Professional.jpg
END:VEVENT
BEGIN:VEVENT
DTSTART;TZID=America/New_York:20260123T090000
DTEND;TZID=America/New_York:20260123T140000
DTSTAMP:20260421T150043
CREATED:20260113T234008Z
LAST-MODIFIED:20260123T185502Z
UID:10010363-1769158800-1769176800@calendar.adasisrael.org
SUMMARY:Senior Lunch
DESCRIPTION:Adas-Behrend Senior Fellowship is a program that provides seniors from the DC metro area a kosher lunch\, social activities\, and Friday Shabbat celebrations. Social activities include games (such as bingo\, scrabble) group exercise classes\, entertainment (musicians\, sing-alongs\, movies)\, field trips to Theater J and museums\, art classes\, etc. \nFor a full calendar of events visit adasisrael.org/senior-fellowship or email akleban@jssa.org.
URL:https://calendar.adasisrael.org/event/senior-lunch-517/
LOCATION:Sisterhood Hall
ATTACH;FMTTYPE=image/jpeg:https://calendar.adasisrael.org/wp-content/uploads/2023/07/Front-Professional.jpg
END:VEVENT
BEGIN:VEVENT
DTSTART;TZID=America/New_York:20260122T090000
DTEND;TZID=America/New_York:20260122T140000
DTSTAMP:20260421T150043
CREATED:20260113T234007Z
LAST-MODIFIED:20260122T182502Z
UID:10010358-1769072400-1769090400@calendar.adasisrael.org
SUMMARY:Senior Lunch
DESCRIPTION:Adas-Behrend Senior Fellowship is a program that provides seniors from the DC metro area a kosher lunch\, social activities\, and Friday Shabbat celebrations. Social activities include games (such as bingo\, scrabble) group exercise classes\, entertainment (musicians\, sing-alongs\, movies)\, field trips to Theater J and museums\, art classes\, etc. \nFor a full calendar of events visit adasisrael.org/senior-fellowship or email akleban@jssa.org.
URL:https://calendar.adasisrael.org/event/senior-lunch-516/
LOCATION:Sisterhood Hall
ATTACH;FMTTYPE=image/jpeg:https://calendar.adasisrael.org/wp-content/uploads/2023/07/Front-Professional.jpg
END:VEVENT
BEGIN:VEVENT
DTSTART;TZID=America/New_York:20260121T090000
DTEND;TZID=America/New_York:20260121T140000
DTSTAMP:20260421T150043
CREATED:20260113T234007Z
LAST-MODIFIED:20260121T180002Z
UID:10010355-1768986000-1769004000@calendar.adasisrael.org
SUMMARY:Senior Lunch
DESCRIPTION:Adas-Behrend Senior Fellowship is a program that provides seniors from the DC metro area a kosher lunch\, social activities\, and Friday Shabbat celebrations. Social activities include games (such as bingo\, scrabble) group exercise classes\, entertainment (musicians\, sing-alongs\, movies)\, field trips to Theater J and museums\, art classes\, etc. \nFor a full calendar of events visit adasisrael.org/senior-fellowship or email akleban@jssa.org.
URL:https://calendar.adasisrael.org/event/senior-lunch-508/
LOCATION:Sisterhood Hall
ATTACH;FMTTYPE=image/jpeg:https://calendar.adasisrael.org/wp-content/uploads/2023/07/Front-Professional.jpg
END:VEVENT
BEGIN:VEVENT
DTSTART;TZID=America/New_York:20260120T090000
DTEND;TZID=America/New_York:20260120T140000
DTSTAMP:20260421T150043
CREATED:20260113T234006Z
LAST-MODIFIED:20260120T183502Z
UID:10010349-1768899600-1768917600@calendar.adasisrael.org
SUMMARY:Senior Lunch
DESCRIPTION:Adas-Behrend Senior Fellowship is a program that provides seniors from the DC metro area a kosher lunch\, social activities\, and Friday Shabbat celebrations. Social activities include games (such as bingo\, scrabble) group exercise classes\, entertainment (musicians\, sing-alongs\, movies)\, field trips to Theater J and museums\, art classes\, etc. \nFor a full calendar of events visit adasisrael.org/senior-fellowship or email akleban@jssa.org.
URL:https://calendar.adasisrael.org/event/senior-lunch-505/
LOCATION:Sisterhood Hall
ATTACH;FMTTYPE=image/jpeg:https://calendar.adasisrael.org/wp-content/uploads/2023/07/Front-Professional.jpg
END:VEVENT
BEGIN:VEVENT
DTSTART;TZID=America/New_York:20260116T090000
DTEND;TZID=America/New_York:20260116T140000
DTSTAMP:20260421T150043
CREATED:20260113T234003Z
LAST-MODIFIED:20260116T190002Z
UID:10010329-1768554000-1768572000@calendar.adasisrael.org
SUMMARY:Senior Lunch
DESCRIPTION:Adas-Behrend Senior Fellowship is a program that provides seniors from the DC metro area a kosher lunch\, social activities\, and Friday Shabbat celebrations. Social activities include games (such as bingo\, scrabble) group exercise classes\, entertainment (musicians\, sing-alongs\, movies)\, field trips to Theater J and museums\, art classes\, etc. \nFor a full calendar of events visit adasisrael.org/senior-fellowship or email akleban@jssa.org.
URL:https://calendar.adasisrael.org/event/senior-lunch-504/
LOCATION:Sisterhood Hall
ATTACH;FMTTYPE=image/jpeg:https://calendar.adasisrael.org/wp-content/uploads/2023/07/Front-Professional.jpg
END:VEVENT
BEGIN:VEVENT
DTSTART;TZID=America/New_York:20260115T090000
DTEND;TZID=America/New_York:20260115T140000
DTSTAMP:20260421T150043
CREATED:20260113T234003Z
LAST-MODIFIED:20260115T190002Z
UID:10010326-1768467600-1768485600@calendar.adasisrael.org
SUMMARY:Senior Lunch
DESCRIPTION:Adas-Behrend Senior Fellowship is a program that provides seniors from the DC metro area a kosher lunch\, social activities\, and Friday Shabbat celebrations. Social activities include games (such as bingo\, scrabble) group exercise classes\, entertainment (musicians\, sing-alongs\, movies)\, field trips to Theater J and museums\, art classes\, etc. \nFor a full calendar of events visit adasisrael.org/senior-fellowship or email akleban@jssa.org.
URL:https://calendar.adasisrael.org/event/senior-lunch-503/
LOCATION:Sisterhood Hall
ATTACH;FMTTYPE=image/jpeg:https://calendar.adasisrael.org/wp-content/uploads/2023/07/Front-Professional.jpg
END:VEVENT
BEGIN:VEVENT
DTSTART;TZID=America/New_York:20260114T090000
DTEND;TZID=America/New_York:20260114T140000
DTSTAMP:20260421T150043
CREATED:20260113T234002Z
LAST-MODIFIED:20260114T185002Z
UID:10010322-1768381200-1768399200@calendar.adasisrael.org
SUMMARY:Senior Lunch
DESCRIPTION:Adas-Behrend Senior Fellowship is a program that provides seniors from the DC metro area a kosher lunch\, social activities\, and Friday Shabbat celebrations. Social activities include games (such as bingo\, scrabble) group exercise classes\, entertainment (musicians\, sing-alongs\, movies)\, field trips to Theater J and museums\, art classes\, etc. \nFor a full calendar of events visit adasisrael.org/senior-fellowship or email akleban@jssa.org.
URL:https://calendar.adasisrael.org/event/senior-lunch-502/
LOCATION:Sisterhood Hall
ATTACH;FMTTYPE=image/jpeg:https://calendar.adasisrael.org/wp-content/uploads/2023/07/Front-Professional.jpg
END:VEVENT
BEGIN:VEVENT
DTSTART;TZID=America/New_York:20260113T090000
DTEND;TZID=America/New_York:20260113T140000
DTSTAMP:20260421T150043
CREATED:20251127T153018Z
LAST-MODIFIED:20260113T185002Z
UID:10009846-1768294800-1768312800@calendar.adasisrael.org
SUMMARY:Senior Lunch
DESCRIPTION:Adas-Behrend Senior Fellowship is a program that provides seniors from the DC metro area a kosher lunch\, social activities\, and Friday Shabbat celebrations. Social activities include games (such as bingo\, scrabble) group exercise classes\, entertainment (musicians\, sing-alongs\, movies)\, field trips to Theater J and museums\, art classes\, etc. \nFor a full calendar of events visit adasisrael.org/senior-fellowship or email akleban@jssa.org.
URL:https://calendar.adasisrael.org/event/senior-lunch-515/
LOCATION:Sisterhood Hall
ATTACH;FMTTYPE=image/jpeg:https://calendar.adasisrael.org/wp-content/uploads/2023/07/Front-Professional.jpg
END:VEVENT
BEGIN:VEVENT
DTSTART;TZID=America/New_York:20260112T090000
DTEND;TZID=America/New_York:20260112T140000
DTSTAMP:20260421T150043
CREATED:20251127T153018Z
LAST-MODIFIED:20260112T185502Z
UID:10009842-1768208400-1768226400@calendar.adasisrael.org
SUMMARY:Senior Lunch
DESCRIPTION:Adas-Behrend Senior Fellowship is a program that provides seniors from the DC metro area a kosher lunch\, social activities\, and Friday Shabbat celebrations. Social activities include games (such as bingo\, scrabble) group exercise classes\, entertainment (musicians\, sing-alongs\, movies)\, field trips to Theater J and museums\, art classes\, etc. \nFor a full calendar of events visit adasisrael.org/senior-fellowship or email akleban@jssa.org.
URL:https://calendar.adasisrael.org/event/senior-lunch-514/
LOCATION:Sisterhood Hall
ATTACH;FMTTYPE=image/jpeg:https://calendar.adasisrael.org/wp-content/uploads/2023/07/Front-Professional.jpg
END:VEVENT
BEGIN:VEVENT
DTSTART;TZID=America/New_York:20260109T090000
DTEND;TZID=America/New_York:20260109T140000
DTSTAMP:20260421T150043
CREATED:20251127T153017Z
LAST-MODIFIED:20260109T181002Z
UID:10009825-1767949200-1767967200@calendar.adasisrael.org
SUMMARY:Senior Lunch
DESCRIPTION:Adas-Behrend Senior Fellowship is a program that provides seniors from the DC metro area a kosher lunch\, social activities\, and Friday Shabbat celebrations. Social activities include games (such as bingo\, scrabble) group exercise classes\, entertainment (musicians\, sing-alongs\, movies)\, field trips to Theater J and museums\, art classes\, etc. \nFor a full calendar of events visit adasisrael.org/senior-fellowship or email akleban@jssa.org.
URL:https://calendar.adasisrael.org/event/senior-lunch-513/
LOCATION:Sisterhood Hall
ATTACH;FMTTYPE=image/jpeg:https://calendar.adasisrael.org/wp-content/uploads/2023/07/Front-Professional.jpg
END:VEVENT
BEGIN:VEVENT
DTSTART;TZID=America/New_York:20260108T090000
DTEND;TZID=America/New_York:20260108T140000
DTSTAMP:20260421T150043
CREATED:20251127T153016Z
LAST-MODIFIED:20260108T182002Z
UID:10009821-1767862800-1767880800@calendar.adasisrael.org
SUMMARY:Senior Lunch
DESCRIPTION:Adas-Behrend Senior Fellowship is a program that provides seniors from the DC metro area a kosher lunch\, social activities\, and Friday Shabbat celebrations. Social activities include games (such as bingo\, scrabble) group exercise classes\, entertainment (musicians\, sing-alongs\, movies)\, field trips to Theater J and museums\, art classes\, etc. \nFor a full calendar of events visit adasisrael.org/senior-fellowship or email akleban@jssa.org.
URL:https://calendar.adasisrael.org/event/senior-lunch-512/
LOCATION:Sisterhood Hall
ATTACH;FMTTYPE=image/jpeg:https://calendar.adasisrael.org/wp-content/uploads/2023/07/Front-Professional.jpg
END:VEVENT
BEGIN:VEVENT
DTSTART;TZID=America/New_York:20260107T090000
DTEND;TZID=America/New_York:20260107T140000
DTSTAMP:20260421T150043
CREATED:20251127T153016Z
LAST-MODIFIED:20260107T181502Z
UID:10009816-1767776400-1767794400@calendar.adasisrael.org
SUMMARY:Senior Lunch
DESCRIPTION:Adas-Behrend Senior Fellowship is a program that provides seniors from the DC metro area a kosher lunch\, social activities\, and Friday Shabbat celebrations. Social activities include games (such as bingo\, scrabble) group exercise classes\, entertainment (musicians\, sing-alongs\, movies)\, field trips to Theater J and museums\, art classes\, etc. \nFor a full calendar of events visit adasisrael.org/senior-fellowship or email akleban@jssa.org.
URL:https://calendar.adasisrael.org/event/senior-lunch-511/
LOCATION:Sisterhood Hall
ATTACH;FMTTYPE=image/jpeg:https://calendar.adasisrael.org/wp-content/uploads/2023/07/Front-Professional.jpg
END:VEVENT
BEGIN:VEVENT
DTSTART;TZID=America/New_York:20260106T090000
DTEND;TZID=America/New_York:20260106T140000
DTSTAMP:20260421T150043
CREATED:20251127T153015Z
LAST-MODIFIED:20260106T175502Z
UID:10009811-1767690000-1767708000@calendar.adasisrael.org
SUMMARY:Senior Lunch
DESCRIPTION:Adas-Behrend Senior Fellowship is a program that provides seniors from the DC metro area a kosher lunch\, social activities\, and Friday Shabbat celebrations. Social activities include games (such as bingo\, scrabble) group exercise classes\, entertainment (musicians\, sing-alongs\, movies)\, field trips to Theater J and museums\, art classes\, etc. \nFor a full calendar of events visit adasisrael.org/senior-fellowship or email akleban@jssa.org.
URL:https://calendar.adasisrael.org/event/senior-lunch-510/
LOCATION:Sisterhood Hall
ATTACH;FMTTYPE=image/jpeg:https://calendar.adasisrael.org/wp-content/uploads/2023/07/Front-Professional.jpg
END:VEVENT
BEGIN:VEVENT
DTSTART;TZID=America/New_York:20260105T090000
DTEND;TZID=America/New_York:20260105T140000
DTSTAMP:20260421T150043
CREATED:20251127T153015Z
LAST-MODIFIED:20260105T185513Z
UID:10009808-1767603600-1767621600@calendar.adasisrael.org
SUMMARY:Senior Lunch
DESCRIPTION:Adas-Behrend Senior Fellowship is a program that provides seniors from the DC metro area a kosher lunch\, social activities\, and Friday Shabbat celebrations. Social activities include games (such as bingo\, scrabble) group exercise classes\, entertainment (musicians\, sing-alongs\, movies)\, field trips to Theater J and museums\, art classes\, etc. \nFor a full calendar of events visit adasisrael.org/senior-fellowship or email akleban@jssa.org.
URL:https://calendar.adasisrael.org/event/senior-lunch-509/
LOCATION:Sisterhood Hall
ATTACH;FMTTYPE=image/jpeg:https://calendar.adasisrael.org/wp-content/uploads/2023/07/Front-Professional.jpg
END:VEVENT
BEGIN:VEVENT
DTSTART;TZID=America/New_York:20251230T090000
DTEND;TZID=America/New_York:20251230T140000
DTSTAMP:20260421T150043
CREATED:20251127T153013Z
LAST-MODIFIED:20251230T175502Z
UID:10009790-1767085200-1767103200@calendar.adasisrael.org
SUMMARY:Senior Lunch
DESCRIPTION:Adas-Behrend Senior Fellowship is a program that provides seniors from the DC metro area a kosher lunch\, social activities\, and Friday Shabbat celebrations. Social activities include games (such as bingo\, scrabble) group exercise classes\, entertainment (musicians\, sing-alongs\, movies)\, field trips to Theater J and museums\, art classes\, etc. \nFor a full calendar of events visit adasisrael.org/senior-fellowship or email akleban@jssa.org.
URL:https://calendar.adasisrael.org/event/senior-lunch-507/
LOCATION:Sisterhood Hall
ATTACH;FMTTYPE=image/jpeg:https://calendar.adasisrael.org/wp-content/uploads/2023/07/Front-Professional.jpg
END:VEVENT
BEGIN:VEVENT
DTSTART;TZID=America/New_York:20251229T090000
DTEND;TZID=America/New_York:20251229T140000
DTSTAMP:20260421T150043
CREATED:20251127T153013Z
LAST-MODIFIED:20251229T185002Z
UID:10009787-1766998800-1767016800@calendar.adasisrael.org
SUMMARY:Senior Lunch
DESCRIPTION:Adas-Behrend Senior Fellowship is a program that provides seniors from the DC metro area a kosher lunch\, social activities\, and Friday Shabbat celebrations. Social activities include games (such as bingo\, scrabble) group exercise classes\, entertainment (musicians\, sing-alongs\, movies)\, field trips to Theater J and museums\, art classes\, etc. \nFor a full calendar of events visit adasisrael.org/senior-fellowship or email akleban@jssa.org.
URL:https://calendar.adasisrael.org/event/senior-lunch-506/
LOCATION:Sisterhood Hall
ATTACH;FMTTYPE=image/jpeg:https://calendar.adasisrael.org/wp-content/uploads/2023/07/Front-Professional.jpg
END:VEVENT
BEGIN:VEVENT
DTSTART;TZID=America/New_York:20251219T090000
DTEND;TZID=America/New_York:20251219T140000
DTSTAMP:20260421T150043
CREATED:20251127T153010Z
LAST-MODIFIED:20251219T181002Z
UID:10009755-1766134800-1766152800@calendar.adasisrael.org
SUMMARY:Senior Lunch
DESCRIPTION:Adas-Behrend Senior Fellowship is a program that provides seniors from the DC metro area a kosher lunch\, social activities\, and Friday Shabbat celebrations. Social activities include games (such as bingo\, scrabble) group exercise classes\, entertainment (musicians\, sing-alongs\, movies)\, field trips to Theater J and museums\, art classes\, etc. \nFor a full calendar of events visit adasisrael.org/senior-fellowship or email akleban@jssa.org.
URL:https://calendar.adasisrael.org/event/senior-lunch-501/
LOCATION:Sisterhood Hall
ATTACH;FMTTYPE=image/jpeg:https://calendar.adasisrael.org/wp-content/uploads/2023/07/Front-Professional.jpg
END:VEVENT
BEGIN:VEVENT
DTSTART;TZID=America/New_York:20251218T090000
DTEND;TZID=America/New_York:20251218T140000
DTSTAMP:20260421T150043
CREATED:20251127T153009Z
LAST-MODIFIED:20251218T184002Z
UID:10009751-1766048400-1766066400@calendar.adasisrael.org
SUMMARY:Senior Lunch
DESCRIPTION:Adas-Behrend Senior Fellowship is a program that provides seniors from the DC metro area a kosher lunch\, social activities\, and Friday Shabbat celebrations. Social activities include games (such as bingo\, scrabble) group exercise classes\, entertainment (musicians\, sing-alongs\, movies)\, field trips to Theater J and museums\, art classes\, etc. \nFor a full calendar of events visit adasisrael.org/senior-fellowship or email akleban@jssa.org.
URL:https://calendar.adasisrael.org/event/senior-lunch-500/
LOCATION:Sisterhood Hall
ATTACH;FMTTYPE=image/jpeg:https://calendar.adasisrael.org/wp-content/uploads/2023/07/Front-Professional.jpg
END:VEVENT
BEGIN:VEVENT
DTSTART;TZID=America/New_York:20251217T090000
DTEND;TZID=America/New_York:20251217T140000
DTSTAMP:20260421T150043
CREATED:20251127T153009Z
LAST-MODIFIED:20251217T184502Z
UID:10009746-1765962000-1765980000@calendar.adasisrael.org
SUMMARY:Senior Lunch
DESCRIPTION:Adas-Behrend Senior Fellowship is a program that provides seniors from the DC metro area a kosher lunch\, social activities\, and Friday Shabbat celebrations. Social activities include games (such as bingo\, scrabble) group exercise classes\, entertainment (musicians\, sing-alongs\, movies)\, field trips to Theater J and museums\, art classes\, etc. \nFor a full calendar of events visit adasisrael.org/senior-fellowship or email akleban@jssa.org.
URL:https://calendar.adasisrael.org/event/senior-lunch-499/
LOCATION:Sisterhood Hall
ATTACH;FMTTYPE=image/jpeg:https://calendar.adasisrael.org/wp-content/uploads/2023/07/Front-Professional.jpg
END:VEVENT
BEGIN:VEVENT
DTSTART;TZID=America/New_York:20251216T090000
DTEND;TZID=America/New_York:20251216T140000
DTSTAMP:20260421T150043
CREATED:20251127T153008Z
LAST-MODIFIED:20251216T181002Z
UID:10009739-1765875600-1765893600@calendar.adasisrael.org
SUMMARY:Senior Lunch
DESCRIPTION:Adas-Behrend Senior Fellowship is a program that provides seniors from the DC metro area a kosher lunch\, social activities\, and Friday Shabbat celebrations. Social activities include games (such as bingo\, scrabble) group exercise classes\, entertainment (musicians\, sing-alongs\, movies)\, field trips to Theater J and museums\, art classes\, etc. \nFor a full calendar of events visit adasisrael.org/senior-fellowship or email akleban@jssa.org.
URL:https://calendar.adasisrael.org/event/senior-lunch-498/
LOCATION:Sisterhood Hall
ATTACH;FMTTYPE=image/jpeg:https://calendar.adasisrael.org/wp-content/uploads/2023/07/Front-Professional.jpg
END:VEVENT
BEGIN:VEVENT
DTSTART;TZID=America/New_York:20251215T090000
DTEND;TZID=America/New_York:20251215T140000
DTSTAMP:20260421T150043
CREATED:20251127T153008Z
LAST-MODIFIED:20251215T185502Z
UID:10009736-1765789200-1765807200@calendar.adasisrael.org
SUMMARY:Senior Lunch
DESCRIPTION:Adas-Behrend Senior Fellowship is a program that provides seniors from the DC metro area a kosher lunch\, social activities\, and Friday Shabbat celebrations. Social activities include games (such as bingo\, scrabble) group exercise classes\, entertainment (musicians\, sing-alongs\, movies)\, field trips to Theater J and museums\, art classes\, etc. \nFor a full calendar of events visit adasisrael.org/senior-fellowship or email akleban@jssa.org.
URL:https://calendar.adasisrael.org/event/senior-lunch-497/
LOCATION:Sisterhood Hall
ATTACH;FMTTYPE=image/jpeg:https://calendar.adasisrael.org/wp-content/uploads/2023/07/Front-Professional.jpg
END:VEVENT
END:VCALENDAR