BEGIN:VCALENDAR
VERSION:2.0
PRODID:-//Adas Israel Congregation - ECPv6.2.9//NONSGML v1.0//EN
CALSCALE:GREGORIAN
METHOD:PUBLISH
X-ORIGINAL-URL:https://calendar.adasisrael.org
X-WR-CALDESC:Events for Adas Israel Congregation
REFRESH-INTERVAL;VALUE=DURATION:PT1H
X-Robots-Tag:noindex
X-PUBLISHED-TTL:PT1H
BEGIN:VTIMEZONE
TZID:America/New_York
BEGIN:DAYLIGHT
TZOFFSETFROM:-0500
TZOFFSETTO:-0400
TZNAME:EDT
DTSTART:20240310T070000
END:DAYLIGHT
BEGIN:STANDARD
TZOFFSETFROM:-0400
TZOFFSETTO:-0500
TZNAME:EST
DTSTART:20241103T060000
END:STANDARD
END:VTIMEZONE
BEGIN:VEVENT
DTSTART;TZID=America/New_York:20241118T090000
DTEND;TZID=America/New_York:20241118T140000
DTSTAMP:20260422T121423
CREATED:20241103T052154Z
LAST-MODIFIED:20241118T180002Z
UID:10005895-1731920400-1731938400@calendar.adasisrael.org
SUMMARY:Senior Lunch
DESCRIPTION:Adas-Behrend Senior Fellowship is a program that provides seniors from the DC metro area a kosher lunch\, social activities\, and Friday Shabbat celebrations. Social activities include games (such as bingo\, scrabble) group exercise classes\, entertainment (musicians\, sing-alongs\, movies)\, field trips to Theater J and museums\, art classes\, etc. \nFor a full calendar of events visit adasisrael.org/senior-fellowship or email akleban@jssa.org.
URL:https://calendar.adasisrael.org/event/senior-lunch-264/
LOCATION:Sisterhood Hall
ATTACH;FMTTYPE=image/jpeg:https://calendar.adasisrael.org/wp-content/uploads/2023/07/Front-Professional.jpg
END:VEVENT
BEGIN:VEVENT
DTSTART;TZID=America/New_York:20241115T090000
DTEND;TZID=America/New_York:20241115T140000
DTSTAMP:20260422T121423
CREATED:20241103T052130Z
LAST-MODIFIED:20241115T184002Z
UID:10005875-1731661200-1731679200@calendar.adasisrael.org
SUMMARY:Senior Lunch
DESCRIPTION:Adas-Behrend Senior Fellowship is a program that provides seniors from the DC metro area a kosher lunch\, social activities\, and Friday Shabbat celebrations. Social activities include games (such as bingo\, scrabble) group exercise classes\, entertainment (musicians\, sing-alongs\, movies)\, field trips to Theater J and museums\, art classes\, etc. \nFor a full calendar of events visit adasisrael.org/senior-fellowship or email akleban@jssa.org.
URL:https://calendar.adasisrael.org/event/senior-lunch-263/
LOCATION:Sisterhood Hall
ATTACH;FMTTYPE=image/jpeg:https://calendar.adasisrael.org/wp-content/uploads/2023/07/Front-Professional.jpg
END:VEVENT
BEGIN:VEVENT
DTSTART;TZID=America/New_York:20241114T090000
DTEND;TZID=America/New_York:20241114T140000
DTSTAMP:20260422T121423
CREATED:20241103T052119Z
LAST-MODIFIED:20241114T184001Z
UID:10005872-1731574800-1731592800@calendar.adasisrael.org
SUMMARY:Senior Lunch
DESCRIPTION:Adas-Behrend Senior Fellowship is a program that provides seniors from the DC metro area a kosher lunch\, social activities\, and Friday Shabbat celebrations. Social activities include games (such as bingo\, scrabble) group exercise classes\, entertainment (musicians\, sing-alongs\, movies)\, field trips to Theater J and museums\, art classes\, etc. \nFor a full calendar of events visit adasisrael.org/senior-fellowship or email akleban@jssa.org.
URL:https://calendar.adasisrael.org/event/senior-lunch-262/
LOCATION:Sisterhood Hall
ATTACH;FMTTYPE=image/jpeg:https://calendar.adasisrael.org/wp-content/uploads/2023/07/Front-Professional.jpg
END:VEVENT
BEGIN:VEVENT
DTSTART;TZID=America/New_York:20241113T090000
DTEND;TZID=America/New_York:20241113T140000
DTSTAMP:20260422T121423
CREATED:20241103T052119Z
LAST-MODIFIED:20241113T184002Z
UID:10005865-1731488400-1731506400@calendar.adasisrael.org
SUMMARY:Senior Lunch
DESCRIPTION:Adas-Behrend Senior Fellowship is a program that provides seniors from the DC metro area a kosher lunch\, social activities\, and Friday Shabbat celebrations. Social activities include games (such as bingo\, scrabble) group exercise classes\, entertainment (musicians\, sing-alongs\, movies)\, field trips to Theater J and museums\, art classes\, etc. \nFor a full calendar of events visit adasisrael.org/senior-fellowship or email akleban@jssa.org.
URL:https://calendar.adasisrael.org/event/senior-lunch-261/
LOCATION:Sisterhood Hall
ATTACH;FMTTYPE=image/jpeg:https://calendar.adasisrael.org/wp-content/uploads/2023/07/Front-Professional.jpg
END:VEVENT
BEGIN:VEVENT
DTSTART;TZID=America/New_York:20241112T090000
DTEND;TZID=America/New_York:20241112T140000
DTSTAMP:20260422T121423
CREATED:20241103T052107Z
LAST-MODIFIED:20241112T181002Z
UID:10005859-1731402000-1731420000@calendar.adasisrael.org
SUMMARY:Senior Lunch
DESCRIPTION:
URL:https://calendar.adasisrael.org/event/senior-lunch-260/
LOCATION:Sisterhood Hall
ATTACH;FMTTYPE=image/jpeg:https://calendar.adasisrael.org/wp-content/uploads/2023/07/Front-Professional.jpg
END:VEVENT
BEGIN:VEVENT
DTSTART;TZID=America/New_York:20241111T090000
DTEND;TZID=America/New_York:20241111T140000
DTSTAMP:20260422T121423
CREATED:20241103T052106Z
LAST-MODIFIED:20241111T182502Z
UID:10005856-1731315600-1731333600@calendar.adasisrael.org
SUMMARY:Senior Lunch
DESCRIPTION:
URL:https://calendar.adasisrael.org/event/senior-lunch-259/
LOCATION:Sisterhood Hall
ATTACH;FMTTYPE=image/jpeg:https://calendar.adasisrael.org/wp-content/uploads/2023/07/Front-Professional.jpg
END:VEVENT
BEGIN:VEVENT
DTSTART;TZID=America/New_York:20241108T090000
DTEND;TZID=America/New_York:20241108T140000
DTSTAMP:20260422T121423
CREATED:20241103T052043Z
LAST-MODIFIED:20241108T185002Z
UID:10005836-1731056400-1731074400@calendar.adasisrael.org
SUMMARY:Senior Lunch
DESCRIPTION:
URL:https://calendar.adasisrael.org/event/senior-lunch-258/
LOCATION:Sisterhood Hall
ATTACH;FMTTYPE=image/jpeg:https://calendar.adasisrael.org/wp-content/uploads/2023/07/Front-Professional.jpg
END:VEVENT
BEGIN:VEVENT
DTSTART;TZID=America/New_York:20241107T090000
DTEND;TZID=America/New_York:20241107T140000
DTSTAMP:20260422T121423
CREATED:20241103T052043Z
LAST-MODIFIED:20241107T185502Z
UID:10005833-1730970000-1730988000@calendar.adasisrael.org
SUMMARY:Senior Lunch
DESCRIPTION:
URL:https://calendar.adasisrael.org/event/senior-lunch-257/
LOCATION:Sisterhood Hall
ATTACH;FMTTYPE=image/jpeg:https://calendar.adasisrael.org/wp-content/uploads/2023/07/Front-Professional.jpg
END:VEVENT
BEGIN:VEVENT
DTSTART;TZID=America/New_York:20241106T090000
DTEND;TZID=America/New_York:20241106T140000
DTSTAMP:20260422T121423
CREATED:20241103T052030Z
LAST-MODIFIED:20241106T185502Z
UID:10005825-1730883600-1730901600@calendar.adasisrael.org
SUMMARY:Senior Lunch
DESCRIPTION:
URL:https://calendar.adasisrael.org/event/senior-lunch-256/
LOCATION:Sisterhood Hall
ATTACH;FMTTYPE=image/jpeg:https://calendar.adasisrael.org/wp-content/uploads/2023/07/Front-Professional.jpg
END:VEVENT
BEGIN:VEVENT
DTSTART;TZID=America/New_York:20241105T090000
DTEND;TZID=America/New_York:20241105T140000
DTSTAMP:20260422T121423
CREATED:20241103T052006Z
LAST-MODIFIED:20241105T185502Z
UID:10005822-1730797200-1730815200@calendar.adasisrael.org
SUMMARY:Senior Lunch
DESCRIPTION:
URL:https://calendar.adasisrael.org/event/senior-lunch-255/
LOCATION:Sisterhood Hall
ATTACH;FMTTYPE=image/jpeg:https://calendar.adasisrael.org/wp-content/uploads/2023/07/Front-Professional.jpg
END:VEVENT
BEGIN:VEVENT
DTSTART;TZID=America/New_York:20241104T090000
DTEND;TZID=America/New_York:20241104T140000
DTSTAMP:20260422T121423
CREATED:20241103T052006Z
LAST-MODIFIED:20241104T185502Z
UID:10005819-1730710800-1730728800@calendar.adasisrael.org
SUMMARY:Senior Lunch
DESCRIPTION:
URL:https://calendar.adasisrael.org/event/senior-lunch-254/
LOCATION:Sisterhood Hall
ATTACH;FMTTYPE=image/jpeg:https://calendar.adasisrael.org/wp-content/uploads/2023/07/Front-Professional.jpg
END:VEVENT
BEGIN:VEVENT
DTSTART;TZID=America/New_York:20241101T090000
DTEND;TZID=America/New_York:20241101T140000
DTSTAMP:20260422T121423
CREATED:20240802T061010Z
LAST-MODIFIED:20241101T175502Z
UID:10005332-1730451600-1730469600@calendar.adasisrael.org
SUMMARY:Senior Lunch
DESCRIPTION:
URL:https://calendar.adasisrael.org/event/senior-lunch-253/
LOCATION:Sisterhood Hall
ATTACH;FMTTYPE=image/jpeg:https://calendar.adasisrael.org/wp-content/uploads/2023/07/Front-Professional.jpg
END:VEVENT
BEGIN:VEVENT
DTSTART;TZID=America/New_York:20241031T090000
DTEND;TZID=America/New_York:20241031T140000
DTSTAMP:20260422T121423
CREATED:20240801T053014Z
LAST-MODIFIED:20241031T014502Z
UID:10005328-1730365200-1730383200@calendar.adasisrael.org
SUMMARY:Senior Lunch
DESCRIPTION:
URL:https://calendar.adasisrael.org/event/senior-lunch-249/
LOCATION:Sisterhood Hall
ATTACH;FMTTYPE=image/jpeg:https://calendar.adasisrael.org/wp-content/uploads/2023/07/Front-Professional.jpg
END:VEVENT
BEGIN:VEVENT
DTSTART;TZID=America/New_York:20241030T090000
DTEND;TZID=America/New_York:20241030T140000
DTSTAMP:20260422T121423
CREATED:20240731T055514Z
LAST-MODIFIED:20241030T174502Z
UID:10005322-1730278800-1730296800@calendar.adasisrael.org
SUMMARY:Senior Lunch
DESCRIPTION:
URL:https://calendar.adasisrael.org/event/senior-lunch-252/
LOCATION:Sisterhood Hall
ATTACH;FMTTYPE=image/jpeg:https://calendar.adasisrael.org/wp-content/uploads/2023/07/Front-Professional.jpg
END:VEVENT
BEGIN:VEVENT
DTSTART;TZID=America/New_York:20241029T090000
DTEND;TZID=America/New_York:20241029T140000
DTSTAMP:20260422T121423
CREATED:20240730T054511Z
LAST-MODIFIED:20241029T171001Z
UID:10005311-1730192400-1730210400@calendar.adasisrael.org
SUMMARY:Senior Lunch
DESCRIPTION:
URL:https://calendar.adasisrael.org/event/senior-lunch-251/
LOCATION:Sisterhood Hall
ATTACH;FMTTYPE=image/jpeg:https://calendar.adasisrael.org/wp-content/uploads/2023/07/Front-Professional.jpg
END:VEVENT
BEGIN:VEVENT
DTSTART;TZID=America/New_York:20241028T090000
DTEND;TZID=America/New_York:20241028T140000
DTSTAMP:20260422T121423
CREATED:20240729T062514Z
LAST-MODIFIED:20241028T165502Z
UID:10005308-1730106000-1730124000@calendar.adasisrael.org
SUMMARY:Senior Lunch
DESCRIPTION:
URL:https://calendar.adasisrael.org/event/senior-lunch-250/
LOCATION:Sisterhood Hall
ATTACH;FMTTYPE=image/jpeg:https://calendar.adasisrael.org/wp-content/uploads/2023/07/Front-Professional.jpg
END:VEVENT
BEGIN:VEVENT
DTSTART;TZID=America/New_York:20240926T090000
DTEND;TZID=America/New_York:20240926T140000
DTSTAMP:20260422T121423
CREATED:20240725T212421Z
LAST-MODIFIED:20240926T165502Z
UID:10005271-1727341200-1727359200@calendar.adasisrael.org
SUMMARY:Senior Lunch
DESCRIPTION:
URL:https://calendar.adasisrael.org/event/senior-lunch-248/
LOCATION:Sisterhood Hall
ATTACH;FMTTYPE=image/jpeg:https://calendar.adasisrael.org/wp-content/uploads/2023/07/Front-Professional.jpg
END:VEVENT
BEGIN:VEVENT
DTSTART;TZID=America/New_York:20240925T090000
DTEND;TZID=America/New_York:20240925T140000
DTSTAMP:20260422T121423
CREATED:20240725T212410Z
LAST-MODIFIED:20240925T171001Z
UID:10005270-1727254800-1727272800@calendar.adasisrael.org
SUMMARY:Senior Lunch
DESCRIPTION:
URL:https://calendar.adasisrael.org/event/senior-lunch-247/
LOCATION:Sisterhood Hall
ATTACH;FMTTYPE=image/jpeg:https://calendar.adasisrael.org/wp-content/uploads/2023/07/Front-Professional.jpg
END:VEVENT
BEGIN:VEVENT
DTSTART;TZID=America/New_York:20240924T090000
DTEND;TZID=America/New_York:20240924T140000
DTSTAMP:20260422T121423
CREATED:20240725T212410Z
LAST-MODIFIED:20240924T165502Z
UID:10005269-1727168400-1727186400@calendar.adasisrael.org
SUMMARY:Senior Lunch
DESCRIPTION:
URL:https://calendar.adasisrael.org/event/senior-lunch-246/
LOCATION:Sisterhood Hall
ATTACH;FMTTYPE=image/jpeg:https://calendar.adasisrael.org/wp-content/uploads/2023/07/Front-Professional.jpg
END:VEVENT
BEGIN:VEVENT
DTSTART;TZID=America/New_York:20240923T090000
DTEND;TZID=America/New_York:20240923T140000
DTSTAMP:20260422T121423
CREATED:20240725T212410Z
LAST-MODIFIED:20240923T174502Z
UID:10005268-1727082000-1727100000@calendar.adasisrael.org
SUMMARY:Senior Lunch
DESCRIPTION:
URL:https://calendar.adasisrael.org/event/senior-lunch-245/
LOCATION:Sisterhood Hall
ATTACH;FMTTYPE=image/jpeg:https://calendar.adasisrael.org/wp-content/uploads/2023/07/Front-Professional.jpg
END:VEVENT
BEGIN:VEVENT
DTSTART;TZID=America/New_York:20240920T090000
DTEND;TZID=America/New_York:20240920T140000
DTSTAMP:20260422T121423
CREATED:20240725T212347Z
LAST-MODIFIED:20240920T172501Z
UID:10005267-1726822800-1726840800@calendar.adasisrael.org
SUMMARY:Senior Lunch
DESCRIPTION:
URL:https://calendar.adasisrael.org/event/senior-lunch-244/
LOCATION:Sisterhood Hall
ATTACH;FMTTYPE=image/jpeg:https://calendar.adasisrael.org/wp-content/uploads/2023/07/Front-Professional.jpg
END:VEVENT
BEGIN:VEVENT
DTSTART;TZID=America/New_York:20240919T090000
DTEND;TZID=America/New_York:20240919T140000
DTSTAMP:20260422T121423
CREATED:20240725T212347Z
LAST-MODIFIED:20240919T173002Z
UID:10005266-1726736400-1726754400@calendar.adasisrael.org
SUMMARY:Senior Lunch
DESCRIPTION:
URL:https://calendar.adasisrael.org/event/senior-lunch-243/
LOCATION:Sisterhood Hall
ATTACH;FMTTYPE=image/jpeg:https://calendar.adasisrael.org/wp-content/uploads/2023/07/Front-Professional.jpg
END:VEVENT
BEGIN:VEVENT
DTSTART;TZID=America/New_York:20240918T090000
DTEND;TZID=America/New_York:20240918T140000
DTSTAMP:20260422T121423
CREATED:20240725T212347Z
LAST-MODIFIED:20240918T175502Z
UID:10005265-1726650000-1726668000@calendar.adasisrael.org
SUMMARY:Senior Lunch
DESCRIPTION:
URL:https://calendar.adasisrael.org/event/senior-lunch-242/
LOCATION:Sisterhood Hall
ATTACH;FMTTYPE=image/jpeg:https://calendar.adasisrael.org/wp-content/uploads/2023/07/Front-Professional.jpg
END:VEVENT
BEGIN:VEVENT
DTSTART;TZID=America/New_York:20240917T090000
DTEND;TZID=America/New_York:20240917T140000
DTSTAMP:20260422T121423
CREATED:20240725T212336Z
LAST-MODIFIED:20240917T175501Z
UID:10005264-1726563600-1726581600@calendar.adasisrael.org
SUMMARY:Senior Lunch
DESCRIPTION:
URL:https://calendar.adasisrael.org/event/senior-lunch-241/
LOCATION:Sisterhood Hall
ATTACH;FMTTYPE=image/jpeg:https://calendar.adasisrael.org/wp-content/uploads/2023/07/Front-Professional.jpg
END:VEVENT
BEGIN:VEVENT
DTSTART;TZID=America/New_York:20240916T090000
DTEND;TZID=America/New_York:20240916T140000
DTSTAMP:20260422T121423
CREATED:20240725T212336Z
LAST-MODIFIED:20240916T174002Z
UID:10005263-1726477200-1726495200@calendar.adasisrael.org
SUMMARY:Senior Lunch
DESCRIPTION:
URL:https://calendar.adasisrael.org/event/senior-lunch-240/
LOCATION:Sisterhood Hall
ATTACH;FMTTYPE=image/jpeg:https://calendar.adasisrael.org/wp-content/uploads/2023/07/Front-Professional.jpg
END:VEVENT
BEGIN:VEVENT
DTSTART;TZID=America/New_York:20240913T090000
DTEND;TZID=America/New_York:20240913T140000
DTSTAMP:20260422T121423
CREATED:20240725T212313Z
LAST-MODIFIED:20240913T175509Z
UID:10005262-1726218000-1726236000@calendar.adasisrael.org
SUMMARY:Senior Lunch
DESCRIPTION:
URL:https://calendar.adasisrael.org/event/senior-lunch-239/
LOCATION:Sisterhood Hall
ATTACH;FMTTYPE=image/jpeg:https://calendar.adasisrael.org/wp-content/uploads/2023/07/Front-Professional.jpg
END:VEVENT
BEGIN:VEVENT
DTSTART;TZID=America/New_York:20240912T090000
DTEND;TZID=America/New_York:20240912T140000
DTSTAMP:20260422T121423
CREATED:20240725T212313Z
LAST-MODIFIED:20240912T175502Z
UID:10005261-1726131600-1726149600@calendar.adasisrael.org
SUMMARY:Senior Lunch
DESCRIPTION:
URL:https://calendar.adasisrael.org/event/senior-lunch-238/
LOCATION:Sisterhood Hall
ATTACH;FMTTYPE=image/jpeg:https://calendar.adasisrael.org/wp-content/uploads/2023/07/Front-Professional.jpg
END:VEVENT
BEGIN:VEVENT
DTSTART;TZID=America/New_York:20240911T090000
DTEND;TZID=America/New_York:20240911T140000
DTSTAMP:20260422T121423
CREATED:20240725T212302Z
LAST-MODIFIED:20240911T171002Z
UID:10005260-1726045200-1726063200@calendar.adasisrael.org
SUMMARY:Senior Lunch
DESCRIPTION:
URL:https://calendar.adasisrael.org/event/senior-lunch-237/
LOCATION:Sisterhood Hall
ATTACH;FMTTYPE=image/jpeg:https://calendar.adasisrael.org/wp-content/uploads/2023/07/Front-Professional.jpg
END:VEVENT
BEGIN:VEVENT
DTSTART;TZID=America/New_York:20240910T090000
DTEND;TZID=America/New_York:20240910T140000
DTSTAMP:20260422T121423
CREATED:20240725T212302Z
LAST-MODIFIED:20240910T172502Z
UID:10005259-1725958800-1725976800@calendar.adasisrael.org
SUMMARY:Senior Lunch
DESCRIPTION:
URL:https://calendar.adasisrael.org/event/senior-lunch-236/
LOCATION:Sisterhood Hall
ATTACH;FMTTYPE=image/jpeg:https://calendar.adasisrael.org/wp-content/uploads/2023/07/Front-Professional.jpg
END:VEVENT
BEGIN:VEVENT
DTSTART;TZID=America/New_York:20240909T090000
DTEND;TZID=America/New_York:20240909T140000
DTSTAMP:20260422T121423
CREATED:20240725T212251Z
LAST-MODIFIED:20240909T172502Z
UID:10005258-1725872400-1725890400@calendar.adasisrael.org
SUMMARY:Senior Lunch
DESCRIPTION:
URL:https://calendar.adasisrael.org/event/senior-lunch-235/
LOCATION:Sisterhood Hall
ATTACH;FMTTYPE=image/jpeg:https://calendar.adasisrael.org/wp-content/uploads/2023/07/Front-Professional.jpg
END:VEVENT
END:VCALENDAR