BEGIN:VCALENDAR
VERSION:2.0
PRODID:-//Adas Israel Congregation - ECPv6.2.9//NONSGML v1.0//EN
CALSCALE:GREGORIAN
METHOD:PUBLISH
X-ORIGINAL-URL:https://calendar.adasisrael.org
X-WR-CALDESC:Events for Adas Israel Congregation
REFRESH-INTERVAL;VALUE=DURATION:PT1H
X-Robots-Tag:noindex
X-PUBLISHED-TTL:PT1H
BEGIN:VTIMEZONE
TZID:America/New_York
BEGIN:DAYLIGHT
TZOFFSETFROM:-0500
TZOFFSETTO:-0400
TZNAME:EDT
DTSTART:20250309T070000
END:DAYLIGHT
BEGIN:STANDARD
TZOFFSETFROM:-0400
TZOFFSETTO:-0500
TZNAME:EST
DTSTART:20251102T060000
END:STANDARD
END:VTIMEZONE
BEGIN:VEVENT
DTSTART;TZID=America/New_York:20250221T200000
DTEND;TZID=America/New_York:20250222T090000
DTSTAMP:20260422T072442
CREATED:20250207T012506Z
LAST-MODIFIED:20250222T131502Z
UID:10007061-1740168000-1740214800@calendar.adasisrael.org
SUMMARY:5th Grade Sleepover
DESCRIPTION:
URL:https://calendar.adasisrael.org/event/5th-grade-sleepover-3/
LOCATION:Sisterhood Hall
ATTACH;FMTTYPE=image/jpeg:https://calendar.adasisrael.org/wp-content/uploads/2023/07/Front-Professional.jpg
END:VEVENT
BEGIN:VEVENT
DTSTART;TZID=America/New_York:20250221T090000
DTEND;TZID=America/New_York:20250221T140000
DTSTAMP:20260422T072442
CREATED:20250207T012505Z
LAST-MODIFIED:20250221T181002Z
UID:10007052-1740128400-1740146400@calendar.adasisrael.org
SUMMARY:Senior Lunch
DESCRIPTION:Adas-Behrend Senior Fellowship is a program that provides seniors from the DC metro area a kosher lunch\, social activities\, and Friday Shabbat celebrations. Social activities include games (such as bingo\, scrabble) group exercise classes\, entertainment (musicians\, sing-alongs\, movies)\, field trips to Theater J and museums\, art classes\, etc. \nFor a full calendar of events visit adasisrael.org/senior-fellowship or email akleban@jssa.org.
URL:https://calendar.adasisrael.org/event/senior-lunch-319/
LOCATION:Sisterhood Hall
ATTACH;FMTTYPE=image/jpeg:https://calendar.adasisrael.org/wp-content/uploads/2023/07/Front-Professional.jpg
END:VEVENT
BEGIN:VEVENT
DTSTART;TZID=America/New_York:20250220T090000
DTEND;TZID=America/New_York:20250220T140000
DTSTAMP:20260422T072442
CREATED:20250207T012505Z
LAST-MODIFIED:20250220T175502Z
UID:10007048-1740042000-1740060000@calendar.adasisrael.org
SUMMARY:Senior Lunch
DESCRIPTION:Adas-Behrend Senior Fellowship is a program that provides seniors from the DC metro area a kosher lunch\, social activities\, and Friday Shabbat celebrations. Social activities include games (such as bingo\, scrabble) group exercise classes\, entertainment (musicians\, sing-alongs\, movies)\, field trips to Theater J and museums\, art classes\, etc. \nFor a full calendar of events visit adasisrael.org/senior-fellowship or email akleban@jssa.org.
URL:https://calendar.adasisrael.org/event/senior-lunch-318/
LOCATION:Sisterhood Hall
ATTACH;FMTTYPE=image/jpeg:https://calendar.adasisrael.org/wp-content/uploads/2023/07/Front-Professional.jpg
END:VEVENT
BEGIN:VEVENT
DTSTART;TZID=America/New_York:20250219T090000
DTEND;TZID=America/New_York:20250219T140000
DTSTAMP:20260422T072442
CREATED:20250207T012505Z
LAST-MODIFIED:20250219T185502Z
UID:10007042-1739955600-1739973600@calendar.adasisrael.org
SUMMARY:Senior Lunch
DESCRIPTION:Adas-Behrend Senior Fellowship is a program that provides seniors from the DC metro area a kosher lunch\, social activities\, and Friday Shabbat celebrations. Social activities include games (such as bingo\, scrabble) group exercise classes\, entertainment (musicians\, sing-alongs\, movies)\, field trips to Theater J and museums\, art classes\, etc. \nFor a full calendar of events visit adasisrael.org/senior-fellowship or email akleban@jssa.org.
URL:https://calendar.adasisrael.org/event/senior-lunch-317/
LOCATION:Sisterhood Hall
ATTACH;FMTTYPE=image/jpeg:https://calendar.adasisrael.org/wp-content/uploads/2023/07/Front-Professional.jpg
END:VEVENT
BEGIN:VEVENT
DTSTART;TZID=America/New_York:20250218T184500
DTEND;TZID=America/New_York:20250218T201500
DTSTAMP:20260422T072442
CREATED:20250207T012505Z
LAST-MODIFIED:20250219T001002Z
UID:10007039-1739904300-1739909700@calendar.adasisrael.org
SUMMARY:Wellness Center: Meditation
DESCRIPTION:
URL:https://calendar.adasisrael.org/event/wellness-center-meditation/
LOCATION:Sisterhood Hall
ATTACH;FMTTYPE=image/jpeg:https://calendar.adasisrael.org/wp-content/uploads/2023/07/Front-Professional.jpg
END:VEVENT
BEGIN:VEVENT
DTSTART;TZID=America/New_York:20250218T090000
DTEND;TZID=America/New_York:20250218T140000
DTSTAMP:20260422T072442
CREATED:20250207T012505Z
LAST-MODIFIED:20250218T180002Z
UID:10007036-1739869200-1739887200@calendar.adasisrael.org
SUMMARY:Senior Lunch
DESCRIPTION:Adas-Behrend Senior Fellowship is a program that provides seniors from the DC metro area a kosher lunch\, social activities\, and Friday Shabbat celebrations. Social activities include games (such as bingo\, scrabble) group exercise classes\, entertainment (musicians\, sing-alongs\, movies)\, field trips to Theater J and museums\, art classes\, etc. \nFor a full calendar of events visit adasisrael.org/senior-fellowship or email akleban@jssa.org.
URL:https://calendar.adasisrael.org/event/senior-lunch-316/
LOCATION:Sisterhood Hall
ATTACH;FMTTYPE=image/jpeg:https://calendar.adasisrael.org/wp-content/uploads/2023/07/Front-Professional.jpg
END:VEVENT
BEGIN:VEVENT
DTSTART;TZID=America/New_York:20250214T090000
DTEND;TZID=America/New_York:20250214T140000
DTSTAMP:20260422T072442
CREATED:20250207T012504Z
LAST-MODIFIED:20250214T180002Z
UID:10007018-1739523600-1739541600@calendar.adasisrael.org
SUMMARY:Senior Lunch
DESCRIPTION:Adas-Behrend Senior Fellowship is a program that provides seniors from the DC metro area a kosher lunch\, social activities\, and Friday Shabbat celebrations. Social activities include games (such as bingo\, scrabble) group exercise classes\, entertainment (musicians\, sing-alongs\, movies)\, field trips to Theater J and museums\, art classes\, etc. \nFor a full calendar of events visit adasisrael.org/senior-fellowship or email akleban@jssa.org.
URL:https://calendar.adasisrael.org/event/senior-lunch-315/
LOCATION:Sisterhood Hall
ATTACH;FMTTYPE=image/jpeg:https://calendar.adasisrael.org/wp-content/uploads/2023/07/Front-Professional.jpg
END:VEVENT
BEGIN:VEVENT
DTSTART;TZID=America/New_York:20250213T090000
DTEND;TZID=America/New_York:20250213T140000
DTSTAMP:20260422T072442
CREATED:20250207T012503Z
LAST-MODIFIED:20250213T175502Z
UID:10007015-1739437200-1739455200@calendar.adasisrael.org
SUMMARY:Senior Lunch
DESCRIPTION:Adas-Behrend Senior Fellowship is a program that provides seniors from the DC metro area a kosher lunch\, social activities\, and Friday Shabbat celebrations. Social activities include games (such as bingo\, scrabble) group exercise classes\, entertainment (musicians\, sing-alongs\, movies)\, field trips to Theater J and museums\, art classes\, etc. \nFor a full calendar of events visit adasisrael.org/senior-fellowship or email akleban@jssa.org.
URL:https://calendar.adasisrael.org/event/senior-lunch-314/
LOCATION:Sisterhood Hall
ATTACH;FMTTYPE=image/jpeg:https://calendar.adasisrael.org/wp-content/uploads/2023/07/Front-Professional.jpg
END:VEVENT
BEGIN:VEVENT
DTSTART;TZID=America/New_York:20250212T090000
DTEND;TZID=America/New_York:20250212T140000
DTSTAMP:20260422T072442
CREATED:20250207T012503Z
LAST-MODIFIED:20250212T184001Z
UID:10007009-1739350800-1739368800@calendar.adasisrael.org
SUMMARY:Senior Lunch
DESCRIPTION:Adas-Behrend Senior Fellowship is a program that provides seniors from the DC metro area a kosher lunch\, social activities\, and Friday Shabbat celebrations. Social activities include games (such as bingo\, scrabble) group exercise classes\, entertainment (musicians\, sing-alongs\, movies)\, field trips to Theater J and museums\, art classes\, etc. \nFor a full calendar of events visit adasisrael.org/senior-fellowship or email akleban@jssa.org.
URL:https://calendar.adasisrael.org/event/senior-lunch-313/
LOCATION:Sisterhood Hall
ATTACH;FMTTYPE=image/jpeg:https://calendar.adasisrael.org/wp-content/uploads/2023/07/Front-Professional.jpg
END:VEVENT
BEGIN:VEVENT
DTSTART;TZID=America/New_York:20250211T090000
DTEND;TZID=America/New_York:20250211T140000
DTSTAMP:20260422T072442
CREATED:20250207T012503Z
LAST-MODIFIED:20250211T184002Z
UID:10007005-1739264400-1739282400@calendar.adasisrael.org
SUMMARY:Senior Lunch
DESCRIPTION:Adas-Behrend Senior Fellowship is a program that provides seniors from the DC metro area a kosher lunch\, social activities\, and Friday Shabbat celebrations. Social activities include games (such as bingo\, scrabble) group exercise classes\, entertainment (musicians\, sing-alongs\, movies)\, field trips to Theater J and museums\, art classes\, etc. \nFor a full calendar of events visit adasisrael.org/senior-fellowship or email akleban@jssa.org.
URL:https://calendar.adasisrael.org/event/senior-lunch-312/
LOCATION:Sisterhood Hall
ATTACH;FMTTYPE=image/jpeg:https://calendar.adasisrael.org/wp-content/uploads/2023/07/Front-Professional.jpg
END:VEVENT
BEGIN:VEVENT
DTSTART;TZID=America/New_York:20250210T090000
DTEND;TZID=America/New_York:20250210T140000
DTSTAMP:20260422T072442
CREATED:20250207T012502Z
LAST-MODIFIED:20250210T184002Z
UID:10007002-1739178000-1739196000@calendar.adasisrael.org
SUMMARY:Senior Lunch
DESCRIPTION:Adas-Behrend Senior Fellowship is a program that provides seniors from the DC metro area a kosher lunch\, social activities\, and Friday Shabbat celebrations. Social activities include games (such as bingo\, scrabble) group exercise classes\, entertainment (musicians\, sing-alongs\, movies)\, field trips to Theater J and museums\, art classes\, etc. \nFor a full calendar of events visit adasisrael.org/senior-fellowship or email akleban@jssa.org.
URL:https://calendar.adasisrael.org/event/senior-lunch-311/
LOCATION:Sisterhood Hall
ATTACH;FMTTYPE=image/jpeg:https://calendar.adasisrael.org/wp-content/uploads/2023/07/Front-Professional.jpg
END:VEVENT
BEGIN:VEVENT
DTSTART;TZID=America/New_York:20250207T090000
DTEND;TZID=America/New_York:20250207T140000
DTSTAMP:20260422T072442
CREATED:20250207T012502Z
LAST-MODIFIED:20250207T175502Z
UID:10006988-1738918800-1738936800@calendar.adasisrael.org
SUMMARY:Senior Lunch
DESCRIPTION:Adas-Behrend Senior Fellowship is a program that provides seniors from the DC metro area a kosher lunch\, social activities\, and Friday Shabbat celebrations. Social activities include games (such as bingo\, scrabble) group exercise classes\, entertainment (musicians\, sing-alongs\, movies)\, field trips to Theater J and museums\, art classes\, etc. \nFor a full calendar of events visit adasisrael.org/senior-fellowship or email akleban@jssa.org.
URL:https://calendar.adasisrael.org/event/senior-lunch-270/
LOCATION:Sisterhood Hall
ATTACH;FMTTYPE=image/jpeg:https://calendar.adasisrael.org/wp-content/uploads/2023/07/Front-Professional.jpg
END:VEVENT
BEGIN:VEVENT
DTSTART;TZID=America/New_York:20250206T090000
DTEND;TZID=America/New_York:20250206T140000
DTSTAMP:20260422T072442
CREATED:20241124T134525Z
LAST-MODIFIED:20250206T190002Z
UID:10006534-1738832400-1738850400@calendar.adasisrael.org
SUMMARY:Senior Lunch
DESCRIPTION:Adas-Behrend Senior Fellowship is a program that provides seniors from the DC metro area a kosher lunch\, social activities\, and Friday Shabbat celebrations. Social activities include games (such as bingo\, scrabble) group exercise classes\, entertainment (musicians\, sing-alongs\, movies)\, field trips to Theater J and museums\, art classes\, etc. \nFor a full calendar of events visit adasisrael.org/senior-fellowship or email akleban@jssa.org.
URL:https://calendar.adasisrael.org/event/senior-lunch-310/
LOCATION:Sisterhood Hall
ATTACH;FMTTYPE=image/jpeg:https://calendar.adasisrael.org/wp-content/uploads/2023/07/Front-Professional.jpg
END:VEVENT
BEGIN:VEVENT
DTSTART;TZID=America/New_York:20250205T090000
DTEND;TZID=America/New_York:20250205T140000
DTSTAMP:20260422T072442
CREATED:20241124T134524Z
LAST-MODIFIED:20250205T175501Z
UID:10006527-1738746000-1738764000@calendar.adasisrael.org
SUMMARY:Senior Lunch
DESCRIPTION:Adas-Behrend Senior Fellowship is a program that provides seniors from the DC metro area a kosher lunch\, social activities\, and Friday Shabbat celebrations. Social activities include games (such as bingo\, scrabble) group exercise classes\, entertainment (musicians\, sing-alongs\, movies)\, field trips to Theater J and museums\, art classes\, etc. \nFor a full calendar of events visit adasisrael.org/senior-fellowship or email akleban@jssa.org.
URL:https://calendar.adasisrael.org/event/senior-lunch-309/
LOCATION:Sisterhood Hall
ATTACH;FMTTYPE=image/jpeg:https://calendar.adasisrael.org/wp-content/uploads/2023/07/Front-Professional.jpg
END:VEVENT
BEGIN:VEVENT
DTSTART;TZID=America/New_York:20250204T090000
DTEND;TZID=America/New_York:20250204T140000
DTSTAMP:20260422T072442
CREATED:20241124T134524Z
LAST-MODIFIED:20250204T180002Z
UID:10006521-1738659600-1738677600@calendar.adasisrael.org
SUMMARY:Senior Lunch
DESCRIPTION:Adas-Behrend Senior Fellowship is a program that provides seniors from the DC metro area a kosher lunch\, social activities\, and Friday Shabbat celebrations. Social activities include games (such as bingo\, scrabble) group exercise classes\, entertainment (musicians\, sing-alongs\, movies)\, field trips to Theater J and museums\, art classes\, etc. \nFor a full calendar of events visit adasisrael.org/senior-fellowship or email akleban@jssa.org.
URL:https://calendar.adasisrael.org/event/senior-lunch-308/
LOCATION:Sisterhood Hall
ATTACH;FMTTYPE=image/jpeg:https://calendar.adasisrael.org/wp-content/uploads/2023/07/Front-Professional.jpg
END:VEVENT
BEGIN:VEVENT
DTSTART;TZID=America/New_York:20250203T090000
DTEND;TZID=America/New_York:20250203T140000
DTSTAMP:20260422T072442
CREATED:20241124T134523Z
LAST-MODIFIED:20250203T180002Z
UID:10006518-1738573200-1738591200@calendar.adasisrael.org
SUMMARY:Senior Lunch
DESCRIPTION:Adas-Behrend Senior Fellowship is a program that provides seniors from the DC metro area a kosher lunch\, social activities\, and Friday Shabbat celebrations. Social activities include games (such as bingo\, scrabble) group exercise classes\, entertainment (musicians\, sing-alongs\, movies)\, field trips to Theater J and museums\, art classes\, etc. \nFor a full calendar of events visit adasisrael.org/senior-fellowship or email akleban@jssa.org.
URL:https://calendar.adasisrael.org/event/senior-lunch-307/
LOCATION:Sisterhood Hall
ATTACH;FMTTYPE=image/jpeg:https://calendar.adasisrael.org/wp-content/uploads/2023/07/Front-Professional.jpg
END:VEVENT
BEGIN:VEVENT
DTSTART;TZID=America/New_York:20250201T100000
DTEND;TZID=America/New_York:20250201T110000
DTSTAMP:20260422T072442
CREATED:20250129T192019Z
LAST-MODIFIED:20250201T155502Z
UID:10006947-1738404000-1738407600@calendar.adasisrael.org
SUMMARY:Ice Cream For Breakfast
DESCRIPTION:
URL:https://calendar.adasisrael.org/event/ice-cream-for-breakfast-2/
LOCATION:Sisterhood Hall
ATTACH;FMTTYPE=image/jpeg:https://calendar.adasisrael.org/wp-content/uploads/2023/07/Front-Professional.jpg
END:VEVENT
BEGIN:VEVENT
DTSTART;TZID=America/New_York:20250131T090000
DTEND;TZID=America/New_York:20250131T140000
DTSTAMP:20260422T072442
CREATED:20241124T134522Z
LAST-MODIFIED:20250131T183002Z
UID:10006501-1738314000-1738332000@calendar.adasisrael.org
SUMMARY:Senior Lunch
DESCRIPTION:Adas-Behrend Senior Fellowship is a program that provides seniors from the DC metro area a kosher lunch\, social activities\, and Friday Shabbat celebrations. Social activities include games (such as bingo\, scrabble) group exercise classes\, entertainment (musicians\, sing-alongs\, movies)\, field trips to Theater J and museums\, art classes\, etc. \nFor a full calendar of events visit adasisrael.org/senior-fellowship or email akleban@jssa.org.
URL:https://calendar.adasisrael.org/event/senior-lunch-306/
LOCATION:Sisterhood Hall
ATTACH;FMTTYPE=image/jpeg:https://calendar.adasisrael.org/wp-content/uploads/2023/07/Front-Professional.jpg
END:VEVENT
BEGIN:VEVENT
DTSTART;TZID=America/New_York:20250130T090000
DTEND;TZID=America/New_York:20250130T140000
DTSTAMP:20260422T072442
CREATED:20241124T134522Z
LAST-MODIFIED:20250130T182002Z
UID:10006498-1738227600-1738245600@calendar.adasisrael.org
SUMMARY:Senior Lunch
DESCRIPTION:Adas-Behrend Senior Fellowship is a program that provides seniors from the DC metro area a kosher lunch\, social activities\, and Friday Shabbat celebrations. Social activities include games (such as bingo\, scrabble) group exercise classes\, entertainment (musicians\, sing-alongs\, movies)\, field trips to Theater J and museums\, art classes\, etc. \nFor a full calendar of events visit adasisrael.org/senior-fellowship or email akleban@jssa.org.
URL:https://calendar.adasisrael.org/event/senior-lunch-305/
LOCATION:Sisterhood Hall
ATTACH;FMTTYPE=image/jpeg:https://calendar.adasisrael.org/wp-content/uploads/2023/07/Front-Professional.jpg
END:VEVENT
BEGIN:VEVENT
DTSTART;TZID=America/New_York:20250129T090000
DTEND;TZID=America/New_York:20250129T140000
DTSTAMP:20260422T072442
CREATED:20241124T134521Z
LAST-MODIFIED:20250129T181002Z
UID:10006491-1738141200-1738159200@calendar.adasisrael.org
SUMMARY:Senior Lunch
DESCRIPTION:Adas-Behrend Senior Fellowship is a program that provides seniors from the DC metro area a kosher lunch\, social activities\, and Friday Shabbat celebrations. Social activities include games (such as bingo\, scrabble) group exercise classes\, entertainment (musicians\, sing-alongs\, movies)\, field trips to Theater J and museums\, art classes\, etc. \nFor a full calendar of events visit adasisrael.org/senior-fellowship or email akleban@jssa.org.
URL:https://calendar.adasisrael.org/event/senior-lunch-304/
LOCATION:Sisterhood Hall
ATTACH;FMTTYPE=image/jpeg:https://calendar.adasisrael.org/wp-content/uploads/2023/07/Front-Professional.jpg
END:VEVENT
BEGIN:VEVENT
DTSTART;TZID=America/New_York:20250128T090000
DTEND;TZID=America/New_York:20250128T140000
DTSTAMP:20260422T072442
CREATED:20241124T134521Z
LAST-MODIFIED:20250128T185502Z
UID:10006487-1738054800-1738072800@calendar.adasisrael.org
SUMMARY:Senior Lunch
DESCRIPTION:Adas-Behrend Senior Fellowship is a program that provides seniors from the DC metro area a kosher lunch\, social activities\, and Friday Shabbat celebrations. Social activities include games (such as bingo\, scrabble) group exercise classes\, entertainment (musicians\, sing-alongs\, movies)\, field trips to Theater J and museums\, art classes\, etc. \nFor a full calendar of events visit adasisrael.org/senior-fellowship or email akleban@jssa.org.
URL:https://calendar.adasisrael.org/event/senior-lunch-303/
LOCATION:Sisterhood Hall
ATTACH;FMTTYPE=image/jpeg:https://calendar.adasisrael.org/wp-content/uploads/2023/07/Front-Professional.jpg
END:VEVENT
BEGIN:VEVENT
DTSTART;TZID=America/New_York:20250127T090000
DTEND;TZID=America/New_York:20250127T140000
DTSTAMP:20260422T072442
CREATED:20241124T134521Z
LAST-MODIFIED:20250127T180502Z
UID:10006484-1737968400-1737986400@calendar.adasisrael.org
SUMMARY:Senior Lunch
DESCRIPTION:Adas-Behrend Senior Fellowship is a program that provides seniors from the DC metro area a kosher lunch\, social activities\, and Friday Shabbat celebrations. Social activities include games (such as bingo\, scrabble) group exercise classes\, entertainment (musicians\, sing-alongs\, movies)\, field trips to Theater J and museums\, art classes\, etc. \nFor a full calendar of events visit adasisrael.org/senior-fellowship or email akleban@jssa.org.
URL:https://calendar.adasisrael.org/event/senior-lunch-302/
LOCATION:Sisterhood Hall
ATTACH;FMTTYPE=image/jpeg:https://calendar.adasisrael.org/wp-content/uploads/2023/07/Front-Professional.jpg
END:VEVENT
BEGIN:VEVENT
DTSTART;TZID=America/New_York:20250124T090000
DTEND;TZID=America/New_York:20250124T140000
DTSTAMP:20260422T072442
CREATED:20241124T134520Z
LAST-MODIFIED:20250124T180502Z
UID:10006470-1737709200-1737727200@calendar.adasisrael.org
SUMMARY:Senior Lunch
DESCRIPTION:Adas-Behrend Senior Fellowship is a program that provides seniors from the DC metro area a kosher lunch\, social activities\, and Friday Shabbat celebrations. Social activities include games (such as bingo\, scrabble) group exercise classes\, entertainment (musicians\, sing-alongs\, movies)\, field trips to Theater J and museums\, art classes\, etc. \nFor a full calendar of events visit adasisrael.org/senior-fellowship or email akleban@jssa.org.
URL:https://calendar.adasisrael.org/event/senior-lunch-301/
LOCATION:Sisterhood Hall
ATTACH;FMTTYPE=image/jpeg:https://calendar.adasisrael.org/wp-content/uploads/2023/07/Front-Professional.jpg
END:VEVENT
BEGIN:VEVENT
DTSTART;TZID=America/New_York:20250123T090000
DTEND;TZID=America/New_York:20250123T140000
DTSTAMP:20260422T072442
CREATED:20241124T134519Z
LAST-MODIFIED:20250123T181002Z
UID:10006467-1737622800-1737640800@calendar.adasisrael.org
SUMMARY:Senior Lunch
DESCRIPTION:Adas-Behrend Senior Fellowship is a program that provides seniors from the DC metro area a kosher lunch\, social activities\, and Friday Shabbat celebrations. Social activities include games (such as bingo\, scrabble) group exercise classes\, entertainment (musicians\, sing-alongs\, movies)\, field trips to Theater J and museums\, art classes\, etc. \nFor a full calendar of events visit adasisrael.org/senior-fellowship or email akleban@jssa.org.
URL:https://calendar.adasisrael.org/event/senior-lunch-300/
LOCATION:Sisterhood Hall
ATTACH;FMTTYPE=image/jpeg:https://calendar.adasisrael.org/wp-content/uploads/2023/07/Front-Professional.jpg
END:VEVENT
BEGIN:VEVENT
DTSTART;TZID=America/New_York:20250122T090000
DTEND;TZID=America/New_York:20250122T140000
DTSTAMP:20260422T072442
CREATED:20241124T134519Z
LAST-MODIFIED:20250122T181502Z
UID:10006461-1737536400-1737554400@calendar.adasisrael.org
SUMMARY:Senior Lunch
DESCRIPTION:Adas-Behrend Senior Fellowship is a program that provides seniors from the DC metro area a kosher lunch\, social activities\, and Friday Shabbat celebrations. Social activities include games (such as bingo\, scrabble) group exercise classes\, entertainment (musicians\, sing-alongs\, movies)\, field trips to Theater J and museums\, art classes\, etc. \nFor a full calendar of events visit adasisrael.org/senior-fellowship or email akleban@jssa.org.
URL:https://calendar.adasisrael.org/event/senior-lunch-299/
LOCATION:Sisterhood Hall
ATTACH;FMTTYPE=image/jpeg:https://calendar.adasisrael.org/wp-content/uploads/2023/07/Front-Professional.jpg
END:VEVENT
BEGIN:VEVENT
DTSTART;TZID=America/New_York:20250121T090000
DTEND;TZID=America/New_York:20250121T140000
DTSTAMP:20260422T072442
CREATED:20241124T134519Z
LAST-MODIFIED:20250121T185507Z
UID:10006455-1737450000-1737468000@calendar.adasisrael.org
SUMMARY:Senior Lunch
DESCRIPTION:Adas-Behrend Senior Fellowship is a program that provides seniors from the DC metro area a kosher lunch\, social activities\, and Friday Shabbat celebrations. Social activities include games (such as bingo\, scrabble) group exercise classes\, entertainment (musicians\, sing-alongs\, movies)\, field trips to Theater J and museums\, art classes\, etc. \nFor a full calendar of events visit adasisrael.org/senior-fellowship or email akleban@jssa.org.
URL:https://calendar.adasisrael.org/event/senior-lunch-298/
LOCATION:Sisterhood Hall
ATTACH;FMTTYPE=image/jpeg:https://calendar.adasisrael.org/wp-content/uploads/2023/07/Front-Professional.jpg
END:VEVENT
BEGIN:VEVENT
DTSTART;TZID=America/New_York:20250117T090000
DTEND;TZID=America/New_York:20250117T140000
DTSTAMP:20260422T072442
CREATED:20241124T134518Z
LAST-MODIFIED:20250117T180002Z
UID:10006442-1737104400-1737122400@calendar.adasisrael.org
SUMMARY:Senior Lunch
DESCRIPTION:Adas-Behrend Senior Fellowship is a program that provides seniors from the DC metro area a kosher lunch\, social activities\, and Friday Shabbat celebrations. Social activities include games (such as bingo\, scrabble) group exercise classes\, entertainment (musicians\, sing-alongs\, movies)\, field trips to Theater J and museums\, art classes\, etc. \nFor a full calendar of events visit adasisrael.org/senior-fellowship or email akleban@jssa.org.
URL:https://calendar.adasisrael.org/event/senior-lunch-297/
LOCATION:Sisterhood Hall
ATTACH;FMTTYPE=image/jpeg:https://calendar.adasisrael.org/wp-content/uploads/2023/07/Front-Professional.jpg
END:VEVENT
BEGIN:VEVENT
DTSTART;TZID=America/New_York:20250116T090000
DTEND;TZID=America/New_York:20250116T140000
DTSTAMP:20260422T072442
CREATED:20241124T134517Z
LAST-MODIFIED:20250116T185501Z
UID:10006439-1737018000-1737036000@calendar.adasisrael.org
SUMMARY:Senior Lunch
DESCRIPTION:Adas-Behrend Senior Fellowship is a program that provides seniors from the DC metro area a kosher lunch\, social activities\, and Friday Shabbat celebrations. Social activities include games (such as bingo\, scrabble) group exercise classes\, entertainment (musicians\, sing-alongs\, movies)\, field trips to Theater J and museums\, art classes\, etc. \nFor a full calendar of events visit adasisrael.org/senior-fellowship or email akleban@jssa.org.
URL:https://calendar.adasisrael.org/event/senior-lunch-296/
LOCATION:Sisterhood Hall
ATTACH;FMTTYPE=image/jpeg:https://calendar.adasisrael.org/wp-content/uploads/2023/07/Front-Professional.jpg
END:VEVENT
BEGIN:VEVENT
DTSTART;TZID=America/New_York:20250115T090000
DTEND;TZID=America/New_York:20250115T140000
DTSTAMP:20260422T072442
CREATED:20241124T134517Z
LAST-MODIFIED:20250115T184002Z
UID:10006434-1736931600-1736949600@calendar.adasisrael.org
SUMMARY:Senior Lunch
DESCRIPTION:Adas-Behrend Senior Fellowship is a program that provides seniors from the DC metro area a kosher lunch\, social activities\, and Friday Shabbat celebrations. Social activities include games (such as bingo\, scrabble) group exercise classes\, entertainment (musicians\, sing-alongs\, movies)\, field trips to Theater J and museums\, art classes\, etc. \nFor a full calendar of events visit adasisrael.org/senior-fellowship or email akleban@jssa.org.
URL:https://calendar.adasisrael.org/event/senior-lunch-295/
LOCATION:Sisterhood Hall
ATTACH;FMTTYPE=image/jpeg:https://calendar.adasisrael.org/wp-content/uploads/2023/07/Front-Professional.jpg
END:VEVENT
BEGIN:VEVENT
DTSTART;TZID=America/New_York:20250114T090000
DTEND;TZID=America/New_York:20250114T140000
DTSTAMP:20260422T072442
CREATED:20241124T134517Z
LAST-MODIFIED:20250114T175502Z
UID:10006428-1736845200-1736863200@calendar.adasisrael.org
SUMMARY:Senior Lunch
DESCRIPTION:Adas-Behrend Senior Fellowship is a program that provides seniors from the DC metro area a kosher lunch\, social activities\, and Friday Shabbat celebrations. Social activities include games (such as bingo\, scrabble) group exercise classes\, entertainment (musicians\, sing-alongs\, movies)\, field trips to Theater J and museums\, art classes\, etc. \nFor a full calendar of events visit adasisrael.org/senior-fellowship or email akleban@jssa.org.
URL:https://calendar.adasisrael.org/event/senior-lunch-294/
LOCATION:Sisterhood Hall
ATTACH;FMTTYPE=image/jpeg:https://calendar.adasisrael.org/wp-content/uploads/2023/07/Front-Professional.jpg
END:VEVENT
END:VCALENDAR