BEGIN:VCALENDAR
VERSION:2.0
PRODID:-//Adas Israel Congregation - ECPv6.2.9//NONSGML v1.0//EN
CALSCALE:GREGORIAN
METHOD:PUBLISH
X-WR-CALNAME:Adas Israel Congregation
X-ORIGINAL-URL:https://calendar.adasisrael.org
X-WR-CALDESC:Events for Adas Israel Congregation
REFRESH-INTERVAL;VALUE=DURATION:PT1H
X-Robots-Tag:noindex
X-PUBLISHED-TTL:PT1H
BEGIN:VTIMEZONE
TZID:America/New_York
BEGIN:DAYLIGHT
TZOFFSETFROM:-0500
TZOFFSETTO:-0400
TZNAME:EDT
DTSTART:20250309T070000
END:DAYLIGHT
BEGIN:STANDARD
TZOFFSETFROM:-0400
TZOFFSETTO:-0500
TZNAME:EST
DTSTART:20251102T060000
END:STANDARD
END:VTIMEZONE
BEGIN:VEVENT
DTSTART;TZID=America/New_York:20250520T090000
DTEND;TZID=America/New_York:20250520T140000
DTSTAMP:20260422T030759
CREATED:20250221T062516Z
LAST-MODIFIED:20250520T175513Z
UID:10007454-1747731600-1747749600@calendar.adasisrael.org
SUMMARY:Senior Lunch
DESCRIPTION:Adas-Behrend Senior Fellowship is a program that provides seniors from the DC metro area a kosher lunch\, social activities\, and Friday Shabbat celebrations. Social activities include games (such as bingo\, scrabble) group exercise classes\, entertainment (musicians\, sing-alongs\, movies)\, field trips to Theater J and museums\, art classes\, etc. \nFor a full calendar of events visit adasisrael.org/senior-fellowship or email akleban@jssa.org.
URL:https://calendar.adasisrael.org/event/senior-lunch-376/
LOCATION:Sisterhood Hall
ATTACH;FMTTYPE=image/jpeg:https://calendar.adasisrael.org/wp-content/uploads/2023/07/Front-Professional.jpg
END:VEVENT
BEGIN:VEVENT
DTSTART;TZID=America/New_York:20250519T090000
DTEND;TZID=America/New_York:20250519T140000
DTSTAMP:20260422T030759
CREATED:20250220T062523Z
LAST-MODIFIED:20250519T171502Z
UID:10007451-1747645200-1747663200@calendar.adasisrael.org
SUMMARY:Senior Lunch
DESCRIPTION:Adas-Behrend Senior Fellowship is a program that provides seniors from the DC metro area a kosher lunch\, social activities\, and Friday Shabbat celebrations. Social activities include games (such as bingo\, scrabble) group exercise classes\, entertainment (musicians\, sing-alongs\, movies)\, field trips to Theater J and museums\, art classes\, etc. \nFor a full calendar of events visit adasisrael.org/senior-fellowship or email akleban@jssa.org.
URL:https://calendar.adasisrael.org/event/senior-lunch-375/
LOCATION:Sisterhood Hall
ATTACH;FMTTYPE=image/jpeg:https://calendar.adasisrael.org/wp-content/uploads/2023/07/Front-Professional.jpg
END:VEVENT
BEGIN:VEVENT
DTSTART;TZID=America/New_York:20250516T090000
DTEND;TZID=America/New_York:20250516T140000
DTSTAMP:20260422T030759
CREATED:20250217T052515Z
LAST-MODIFIED:20250516T165502Z
UID:10007429-1747386000-1747404000@calendar.adasisrael.org
SUMMARY:Senior Lunch
DESCRIPTION:Adas-Behrend Senior Fellowship is a program that provides seniors from the DC metro area a kosher lunch\, social activities\, and Friday Shabbat celebrations. Social activities include games (such as bingo\, scrabble) group exercise classes\, entertainment (musicians\, sing-alongs\, movies)\, field trips to Theater J and museums\, art classes\, etc. \nFor a full calendar of events visit adasisrael.org/senior-fellowship or email akleban@jssa.org.
URL:https://calendar.adasisrael.org/event/senior-lunch-374/
LOCATION:Sisterhood Hall
ATTACH;FMTTYPE=image/jpeg:https://calendar.adasisrael.org/wp-content/uploads/2023/07/Front-Professional.jpg
END:VEVENT
BEGIN:VEVENT
DTSTART;TZID=America/New_York:20250515T090000
DTEND;TZID=America/New_York:20250515T140000
DTSTAMP:20260422T030759
CREATED:20250216T054515Z
LAST-MODIFIED:20250515T172501Z
UID:10007426-1747299600-1747317600@calendar.adasisrael.org
SUMMARY:Senior Lunch
DESCRIPTION:Adas-Behrend Senior Fellowship is a program that provides seniors from the DC metro area a kosher lunch\, social activities\, and Friday Shabbat celebrations. Social activities include games (such as bingo\, scrabble) group exercise classes\, entertainment (musicians\, sing-alongs\, movies)\, field trips to Theater J and museums\, art classes\, etc. \nFor a full calendar of events visit adasisrael.org/senior-fellowship or email akleban@jssa.org.
URL:https://calendar.adasisrael.org/event/senior-lunch-373/
LOCATION:Sisterhood Hall
ATTACH;FMTTYPE=image/jpeg:https://calendar.adasisrael.org/wp-content/uploads/2023/07/Front-Professional.jpg
END:VEVENT
BEGIN:VEVENT
DTSTART;TZID=America/New_York:20250514T090000
DTEND;TZID=America/New_York:20250514T140000
DTSTAMP:20260422T030759
CREATED:20250215T053014Z
LAST-MODIFIED:20250514T165502Z
UID:10007420-1747213200-1747231200@calendar.adasisrael.org
SUMMARY:Senior Lunch
DESCRIPTION:Adas-Behrend Senior Fellowship is a program that provides seniors from the DC metro area a kosher lunch\, social activities\, and Friday Shabbat celebrations. Social activities include games (such as bingo\, scrabble) group exercise classes\, entertainment (musicians\, sing-alongs\, movies)\, field trips to Theater J and museums\, art classes\, etc. \nFor a full calendar of events visit adasisrael.org/senior-fellowship or email akleban@jssa.org.
URL:https://calendar.adasisrael.org/event/senior-lunch-372/
LOCATION:Sisterhood Hall
ATTACH;FMTTYPE=image/jpeg:https://calendar.adasisrael.org/wp-content/uploads/2023/07/Front-Professional.jpg
END:VEVENT
BEGIN:VEVENT
DTSTART;TZID=America/New_York:20250513T090000
DTEND;TZID=America/New_York:20250513T140000
DTSTAMP:20260422T030759
CREATED:20250214T061515Z
LAST-MODIFIED:20250513T171002Z
UID:10007414-1747126800-1747144800@calendar.adasisrael.org
SUMMARY:Senior Lunch
DESCRIPTION:Adas-Behrend Senior Fellowship is a program that provides seniors from the DC metro area a kosher lunch\, social activities\, and Friday Shabbat celebrations. Social activities include games (such as bingo\, scrabble) group exercise classes\, entertainment (musicians\, sing-alongs\, movies)\, field trips to Theater J and museums\, art classes\, etc. \nFor a full calendar of events visit adasisrael.org/senior-fellowship or email akleban@jssa.org.
URL:https://calendar.adasisrael.org/event/senior-lunch-371/
LOCATION:Sisterhood Hall
ATTACH;FMTTYPE=image/jpeg:https://calendar.adasisrael.org/wp-content/uploads/2023/07/Front-Professional.jpg
END:VEVENT
BEGIN:VEVENT
DTSTART;TZID=America/New_York:20250512T090000
DTEND;TZID=America/New_York:20250512T140000
DTSTAMP:20260422T030759
CREATED:20250213T060015Z
LAST-MODIFIED:20250512T165502Z
UID:10007405-1747040400-1747058400@calendar.adasisrael.org
SUMMARY:Senior Lunch
DESCRIPTION:Adas-Behrend Senior Fellowship is a program that provides seniors from the DC metro area a kosher lunch\, social activities\, and Friday Shabbat celebrations. Social activities include games (such as bingo\, scrabble) group exercise classes\, entertainment (musicians\, sing-alongs\, movies)\, field trips to Theater J and museums\, art classes\, etc. \nFor a full calendar of events visit adasisrael.org/senior-fellowship or email akleban@jssa.org.
URL:https://calendar.adasisrael.org/event/senior-lunch-370/
LOCATION:Sisterhood Hall
ATTACH;FMTTYPE=image/jpeg:https://calendar.adasisrael.org/wp-content/uploads/2023/07/Front-Professional.jpg
END:VEVENT
BEGIN:VEVENT
DTSTART;TZID=America/New_York:20250509T090000
DTEND;TZID=America/New_York:20250509T140000
DTSTAMP:20260422T030759
CREATED:20250210T061014Z
LAST-MODIFIED:20250509T175502Z
UID:10007386-1746781200-1746799200@calendar.adasisrael.org
SUMMARY:Senior Lunch
DESCRIPTION:Adas-Behrend Senior Fellowship is a program that provides seniors from the DC metro area a kosher lunch\, social activities\, and Friday Shabbat celebrations. Social activities include games (such as bingo\, scrabble) group exercise classes\, entertainment (musicians\, sing-alongs\, movies)\, field trips to Theater J and museums\, art classes\, etc. \nFor a full calendar of events visit adasisrael.org/senior-fellowship or email akleban@jssa.org.
URL:https://calendar.adasisrael.org/event/senior-lunch-369/
LOCATION:Sisterhood Hall
ATTACH;FMTTYPE=image/jpeg:https://calendar.adasisrael.org/wp-content/uploads/2023/07/Front-Professional.jpg
END:VEVENT
BEGIN:VEVENT
DTSTART;TZID=America/New_York:20250508T090000
DTEND;TZID=America/New_York:20250508T140000
DTSTAMP:20260422T030759
CREATED:20250209T063014Z
LAST-MODIFIED:20250508T171001Z
UID:10007383-1746694800-1746712800@calendar.adasisrael.org
SUMMARY:Senior Lunch
DESCRIPTION:Adas-Behrend Senior Fellowship is a program that provides seniors from the DC metro area a kosher lunch\, social activities\, and Friday Shabbat celebrations. Social activities include games (such as bingo\, scrabble) group exercise classes\, entertainment (musicians\, sing-alongs\, movies)\, field trips to Theater J and museums\, art classes\, etc. \nFor a full calendar of events visit adasisrael.org/senior-fellowship or email akleban@jssa.org.
URL:https://calendar.adasisrael.org/event/senior-lunch-368/
LOCATION:Sisterhood Hall
ATTACH;FMTTYPE=image/jpeg:https://calendar.adasisrael.org/wp-content/uploads/2023/07/Front-Professional.jpg
END:VEVENT
BEGIN:VEVENT
DTSTART;TZID=America/New_York:20250507T090000
DTEND;TZID=America/New_York:20250507T140000
DTSTAMP:20260422T030759
CREATED:20250208T052515Z
LAST-MODIFIED:20250507T175501Z
UID:10007379-1746608400-1746626400@calendar.adasisrael.org
SUMMARY:Senior Lunch
DESCRIPTION:Adas-Behrend Senior Fellowship is a program that provides seniors from the DC metro area a kosher lunch\, social activities\, and Friday Shabbat celebrations. Social activities include games (such as bingo\, scrabble) group exercise classes\, entertainment (musicians\, sing-alongs\, movies)\, field trips to Theater J and museums\, art classes\, etc. \nFor a full calendar of events visit adasisrael.org/senior-fellowship or email akleban@jssa.org.
URL:https://calendar.adasisrael.org/event/senior-lunch-367/
LOCATION:Sisterhood Hall
ATTACH;FMTTYPE=image/jpeg:https://calendar.adasisrael.org/wp-content/uploads/2023/07/Front-Professional.jpg
END:VEVENT
BEGIN:VEVENT
DTSTART;TZID=America/New_York:20250506T090000
DTEND;TZID=America/New_York:20250506T140000
DTSTAMP:20260422T030759
CREATED:20250207T062515Z
LAST-MODIFIED:20250506T175502Z
UID:10007376-1746522000-1746540000@calendar.adasisrael.org
SUMMARY:Senior Lunch
DESCRIPTION:Adas-Behrend Senior Fellowship is a program that provides seniors from the DC metro area a kosher lunch\, social activities\, and Friday Shabbat celebrations. Social activities include games (such as bingo\, scrabble) group exercise classes\, entertainment (musicians\, sing-alongs\, movies)\, field trips to Theater J and museums\, art classes\, etc. \nFor a full calendar of events visit adasisrael.org/senior-fellowship or email akleban@jssa.org.
URL:https://calendar.adasisrael.org/event/senior-lunch-366/
LOCATION:Sisterhood Hall
ATTACH;FMTTYPE=image/jpeg:https://calendar.adasisrael.org/wp-content/uploads/2023/07/Front-Professional.jpg
END:VEVENT
BEGIN:VEVENT
DTSTART;TZID=America/New_York:20250505T090000
DTEND;TZID=America/New_York:20250505T140000
DTSTAMP:20260422T030759
CREATED:20250207T012526Z
LAST-MODIFIED:20250505T175002Z
UID:10007373-1746435600-1746453600@calendar.adasisrael.org
SUMMARY:Senior Lunch
DESCRIPTION:Adas-Behrend Senior Fellowship is a program that provides seniors from the DC metro area a kosher lunch\, social activities\, and Friday Shabbat celebrations. Social activities include games (such as bingo\, scrabble) group exercise classes\, entertainment (musicians\, sing-alongs\, movies)\, field trips to Theater J and museums\, art classes\, etc. \nFor a full calendar of events visit adasisrael.org/senior-fellowship or email akleban@jssa.org.
URL:https://calendar.adasisrael.org/event/senior-lunch-365/
LOCATION:Sisterhood Hall
ATTACH;FMTTYPE=image/jpeg:https://calendar.adasisrael.org/wp-content/uploads/2023/07/Front-Professional.jpg
END:VEVENT
BEGIN:VEVENT
DTSTART;TZID=America/New_York:20250502T090000
DTEND;TZID=America/New_York:20250502T140000
DTSTAMP:20260422T030759
CREATED:20250207T012525Z
LAST-MODIFIED:20250502T173002Z
UID:10007360-1746176400-1746194400@calendar.adasisrael.org
SUMMARY:Senior Lunch
DESCRIPTION:Adas-Behrend Senior Fellowship is a program that provides seniors from the DC metro area a kosher lunch\, social activities\, and Friday Shabbat celebrations. Social activities include games (such as bingo\, scrabble) group exercise classes\, entertainment (musicians\, sing-alongs\, movies)\, field trips to Theater J and museums\, art classes\, etc. \nFor a full calendar of events visit adasisrael.org/senior-fellowship or email akleban@jssa.org.
URL:https://calendar.adasisrael.org/event/senior-lunch-364/
LOCATION:Sisterhood Hall
ATTACH;FMTTYPE=image/jpeg:https://calendar.adasisrael.org/wp-content/uploads/2023/07/Front-Professional.jpg
END:VEVENT
BEGIN:VEVENT
DTSTART;TZID=America/New_York:20250501T090000
DTEND;TZID=America/New_York:20250501T140000
DTSTAMP:20260422T030759
CREATED:20250207T012525Z
LAST-MODIFIED:20250501T175502Z
UID:10007357-1746090000-1746108000@calendar.adasisrael.org
SUMMARY:Senior Lunch
DESCRIPTION:Adas-Behrend Senior Fellowship is a program that provides seniors from the DC metro area a kosher lunch\, social activities\, and Friday Shabbat celebrations. Social activities include games (such as bingo\, scrabble) group exercise classes\, entertainment (musicians\, sing-alongs\, movies)\, field trips to Theater J and museums\, art classes\, etc. \nFor a full calendar of events visit adasisrael.org/senior-fellowship or email akleban@jssa.org.
URL:https://calendar.adasisrael.org/event/senior-lunch-363/
LOCATION:Sisterhood Hall
ATTACH;FMTTYPE=image/jpeg:https://calendar.adasisrael.org/wp-content/uploads/2023/07/Front-Professional.jpg
END:VEVENT
BEGIN:VEVENT
DTSTART;TZID=America/New_York:20250430T090000
DTEND;TZID=America/New_York:20250430T140000
DTSTAMP:20260422T030759
CREATED:20250207T012524Z
LAST-MODIFIED:20250430T175502Z
UID:10007353-1746003600-1746021600@calendar.adasisrael.org
SUMMARY:Senior Lunch
DESCRIPTION:Adas-Behrend Senior Fellowship is a program that provides seniors from the DC metro area a kosher lunch\, social activities\, and Friday Shabbat celebrations. Social activities include games (such as bingo\, scrabble) group exercise classes\, entertainment (musicians\, sing-alongs\, movies)\, field trips to Theater J and museums\, art classes\, etc. \nFor a full calendar of events visit adasisrael.org/senior-fellowship or email akleban@jssa.org.
URL:https://calendar.adasisrael.org/event/senior-lunch-362/
LOCATION:Sisterhood Hall
ATTACH;FMTTYPE=image/jpeg:https://calendar.adasisrael.org/wp-content/uploads/2023/07/Front-Professional.jpg
END:VEVENT
BEGIN:VEVENT
DTSTART;TZID=America/New_York:20250429T090000
DTEND;TZID=America/New_York:20250429T140000
DTSTAMP:20260422T030759
CREATED:20250207T012524Z
LAST-MODIFIED:20250429T172502Z
UID:10007348-1745917200-1745935200@calendar.adasisrael.org
SUMMARY:Senior Lunch
DESCRIPTION:Adas-Behrend Senior Fellowship is a program that provides seniors from the DC metro area a kosher lunch\, social activities\, and Friday Shabbat celebrations. Social activities include games (such as bingo\, scrabble) group exercise classes\, entertainment (musicians\, sing-alongs\, movies)\, field trips to Theater J and museums\, art classes\, etc. \nFor a full calendar of events visit adasisrael.org/senior-fellowship or email akleban@jssa.org.
URL:https://calendar.adasisrael.org/event/senior-lunch-361/
LOCATION:Sisterhood Hall
ATTACH;FMTTYPE=image/jpeg:https://calendar.adasisrael.org/wp-content/uploads/2023/07/Front-Professional.jpg
END:VEVENT
BEGIN:VEVENT
DTSTART;TZID=America/New_York:20250428T090000
DTEND;TZID=America/New_York:20250428T140000
DTSTAMP:20260422T030759
CREATED:20250207T012524Z
LAST-MODIFIED:20250428T172502Z
UID:10007345-1745830800-1745848800@calendar.adasisrael.org
SUMMARY:Senior Lunch
DESCRIPTION:Adas-Behrend Senior Fellowship is a program that provides seniors from the DC metro area a kosher lunch\, social activities\, and Friday Shabbat celebrations. Social activities include games (such as bingo\, scrabble) group exercise classes\, entertainment (musicians\, sing-alongs\, movies)\, field trips to Theater J and museums\, art classes\, etc. \nFor a full calendar of events visit adasisrael.org/senior-fellowship or email akleban@jssa.org.
URL:https://calendar.adasisrael.org/event/senior-lunch-360/
LOCATION:Sisterhood Hall
ATTACH;FMTTYPE=image/jpeg:https://calendar.adasisrael.org/wp-content/uploads/2023/07/Front-Professional.jpg
END:VEVENT
BEGIN:VEVENT
DTSTART;TZID=America/New_York:20250425T090000
DTEND;TZID=America/New_York:20250425T140000
DTSTAMP:20260422T030759
CREATED:20250207T012523Z
LAST-MODIFIED:20250425T175502Z
UID:10007327-1745571600-1745589600@calendar.adasisrael.org
SUMMARY:Senior Lunch
DESCRIPTION:Adas-Behrend Senior Fellowship is a program that provides seniors from the DC metro area a kosher lunch\, social activities\, and Friday Shabbat celebrations. Social activities include games (such as bingo\, scrabble) group exercise classes\, entertainment (musicians\, sing-alongs\, movies)\, field trips to Theater J and museums\, art classes\, etc. \nFor a full calendar of events visit adasisrael.org/senior-fellowship or email akleban@jssa.org.
URL:https://calendar.adasisrael.org/event/senior-lunch-359/
LOCATION:Sisterhood Hall
ATTACH;FMTTYPE=image/jpeg:https://calendar.adasisrael.org/wp-content/uploads/2023/07/Front-Professional.jpg
END:VEVENT
BEGIN:VEVENT
DTSTART;TZID=America/New_York:20250424T090000
DTEND;TZID=America/New_York:20250424T140000
DTSTAMP:20260422T030759
CREATED:20250207T012522Z
LAST-MODIFIED:20250424T174502Z
UID:10007323-1745485200-1745503200@calendar.adasisrael.org
SUMMARY:Senior Lunch
DESCRIPTION:Adas-Behrend Senior Fellowship is a program that provides seniors from the DC metro area a kosher lunch\, social activities\, and Friday Shabbat celebrations. Social activities include games (such as bingo\, scrabble) group exercise classes\, entertainment (musicians\, sing-alongs\, movies)\, field trips to Theater J and museums\, art classes\, etc. \nFor a full calendar of events visit adasisrael.org/senior-fellowship or email akleban@jssa.org.
URL:https://calendar.adasisrael.org/event/senior-lunch-358/
LOCATION:Sisterhood Hall
ATTACH;FMTTYPE=image/jpeg:https://calendar.adasisrael.org/wp-content/uploads/2023/07/Front-Professional.jpg
END:VEVENT
BEGIN:VEVENT
DTSTART;TZID=America/New_York:20250423T090000
DTEND;TZID=America/New_York:20250423T140000
DTSTAMP:20260422T030759
CREATED:20250207T012522Z
LAST-MODIFIED:20250423T174502Z
UID:10007319-1745398800-1745416800@calendar.adasisrael.org
SUMMARY:Senior Lunch
DESCRIPTION:Adas-Behrend Senior Fellowship is a program that provides seniors from the DC metro area a kosher lunch\, social activities\, and Friday Shabbat celebrations. Social activities include games (such as bingo\, scrabble) group exercise classes\, entertainment (musicians\, sing-alongs\, movies)\, field trips to Theater J and museums\, art classes\, etc. \nFor a full calendar of events visit adasisrael.org/senior-fellowship or email akleban@jssa.org.
URL:https://calendar.adasisrael.org/event/senior-lunch-357/
LOCATION:Sisterhood Hall
ATTACH;FMTTYPE=image/jpeg:https://calendar.adasisrael.org/wp-content/uploads/2023/07/Front-Professional.jpg
END:VEVENT
BEGIN:VEVENT
DTSTART;TZID=America/New_York:20250422T090000
DTEND;TZID=America/New_York:20250422T140000
DTSTAMP:20260422T030759
CREATED:20250207T012522Z
LAST-MODIFIED:20250422T172502Z
UID:10007316-1745312400-1745330400@calendar.adasisrael.org
SUMMARY:Senior Lunch
DESCRIPTION:Adas-Behrend Senior Fellowship is a program that provides seniors from the DC metro area a kosher lunch\, social activities\, and Friday Shabbat celebrations. Social activities include games (such as bingo\, scrabble) group exercise classes\, entertainment (musicians\, sing-alongs\, movies)\, field trips to Theater J and museums\, art classes\, etc. \nFor a full calendar of events visit adasisrael.org/senior-fellowship or email akleban@jssa.org.
URL:https://calendar.adasisrael.org/event/senior-lunch-356/
LOCATION:Sisterhood Hall
ATTACH;FMTTYPE=image/jpeg:https://calendar.adasisrael.org/wp-content/uploads/2023/07/Front-Professional.jpg
END:VEVENT
BEGIN:VEVENT
DTSTART;TZID=America/New_York:20250421T090000
DTEND;TZID=America/New_York:20250421T140000
DTSTAMP:20260422T030759
CREATED:20250207T012521Z
LAST-MODIFIED:20250421T172502Z
UID:10007313-1745226000-1745244000@calendar.adasisrael.org
SUMMARY:Senior Lunch
DESCRIPTION:Adas-Behrend Senior Fellowship is a program that provides seniors from the DC metro area a kosher lunch\, social activities\, and Friday Shabbat celebrations. Social activities include games (such as bingo\, scrabble) group exercise classes\, entertainment (musicians\, sing-alongs\, movies)\, field trips to Theater J and museums\, art classes\, etc. \nFor a full calendar of events visit adasisrael.org/senior-fellowship or email akleban@jssa.org.
URL:https://calendar.adasisrael.org/event/senior-lunch-355/
LOCATION:Sisterhood Hall
ATTACH;FMTTYPE=image/jpeg:https://calendar.adasisrael.org/wp-content/uploads/2023/07/Front-Professional.jpg
END:VEVENT
BEGIN:VEVENT
DTSTART;TZID=America/New_York:20250410T090000
DTEND;TZID=America/New_York:20250410T140000
DTSTAMP:20260422T030759
CREATED:20250207T012519Z
LAST-MODIFIED:20250410T165502Z
UID:10007285-1744275600-1744293600@calendar.adasisrael.org
SUMMARY:Senior Lunch
DESCRIPTION:Adas-Behrend Senior Fellowship is a program that provides seniors from the DC metro area a kosher lunch\, social activities\, and Friday Shabbat celebrations. Social activities include games (such as bingo\, scrabble) group exercise classes\, entertainment (musicians\, sing-alongs\, movies)\, field trips to Theater J and museums\, art classes\, etc. \nFor a full calendar of events visit adasisrael.org/senior-fellowship or email akleban@jssa.org.
URL:https://calendar.adasisrael.org/event/senior-lunch-353/
LOCATION:Sisterhood Hall
ATTACH;FMTTYPE=image/jpeg:https://calendar.adasisrael.org/wp-content/uploads/2023/07/Front-Professional.jpg
END:VEVENT
BEGIN:VEVENT
DTSTART;TZID=America/New_York:20250409T090000
DTEND;TZID=America/New_York:20250409T140000
DTSTAMP:20260422T030759
CREATED:20250207T012519Z
LAST-MODIFIED:20250409T171008Z
UID:10007281-1744189200-1744207200@calendar.adasisrael.org
SUMMARY:Senior Lunch
DESCRIPTION:Adas-Behrend Senior Fellowship is a program that provides seniors from the DC metro area a kosher lunch\, social activities\, and Friday Shabbat celebrations. Social activities include games (such as bingo\, scrabble) group exercise classes\, entertainment (musicians\, sing-alongs\, movies)\, field trips to Theater J and museums\, art classes\, etc. \nFor a full calendar of events visit adasisrael.org/senior-fellowship or email akleban@jssa.org.
URL:https://calendar.adasisrael.org/event/senior-lunch-352/
LOCATION:Sisterhood Hall
ATTACH;FMTTYPE=image/jpeg:https://calendar.adasisrael.org/wp-content/uploads/2023/07/Front-Professional.jpg
END:VEVENT
BEGIN:VEVENT
DTSTART;TZID=America/New_York:20250408T090000
DTEND;TZID=America/New_York:20250408T140000
DTSTAMP:20260422T030759
CREATED:20250207T012519Z
LAST-MODIFIED:20250408T175514Z
UID:10007276-1744102800-1744120800@calendar.adasisrael.org
SUMMARY:Senior Lunch
DESCRIPTION:Adas-Behrend Senior Fellowship is a program that provides seniors from the DC metro area a kosher lunch\, social activities\, and Friday Shabbat celebrations. Social activities include games (such as bingo\, scrabble) group exercise classes\, entertainment (musicians\, sing-alongs\, movies)\, field trips to Theater J and museums\, art classes\, etc. \nFor a full calendar of events visit adasisrael.org/senior-fellowship or email akleban@jssa.org.
URL:https://calendar.adasisrael.org/event/senior-lunch-351/
LOCATION:Sisterhood Hall
ATTACH;FMTTYPE=image/jpeg:https://calendar.adasisrael.org/wp-content/uploads/2023/07/Front-Professional.jpg
END:VEVENT
BEGIN:VEVENT
DTSTART;TZID=America/New_York:20250407T090000
DTEND;TZID=America/New_York:20250407T140000
DTSTAMP:20260422T030759
CREATED:20250207T012518Z
LAST-MODIFIED:20250407T171008Z
UID:10007273-1744016400-1744034400@calendar.adasisrael.org
SUMMARY:Senior Lunch
DESCRIPTION:Adas-Behrend Senior Fellowship is a program that provides seniors from the DC metro area a kosher lunch\, social activities\, and Friday Shabbat celebrations. Social activities include games (such as bingo\, scrabble) group exercise classes\, entertainment (musicians\, sing-alongs\, movies)\, field trips to Theater J and museums\, art classes\, etc. \nFor a full calendar of events visit adasisrael.org/senior-fellowship or email akleban@jssa.org.
URL:https://calendar.adasisrael.org/event/senior-lunch-350/
LOCATION:Sisterhood Hall
ATTACH;FMTTYPE=image/jpeg:https://calendar.adasisrael.org/wp-content/uploads/2023/07/Front-Professional.jpg
END:VEVENT
BEGIN:VEVENT
DTSTART;TZID=America/New_York:20250404T090000
DTEND;TZID=America/New_York:20250404T140000
DTSTAMP:20260422T030759
CREATED:20250207T012518Z
LAST-MODIFIED:20250404T174502Z
UID:10007254-1743757200-1743775200@calendar.adasisrael.org
SUMMARY:Senior Lunch
DESCRIPTION:Adas-Behrend Senior Fellowship is a program that provides seniors from the DC metro area a kosher lunch\, social activities\, and Friday Shabbat celebrations. Social activities include games (such as bingo\, scrabble) group exercise classes\, entertainment (musicians\, sing-alongs\, movies)\, field trips to Theater J and museums\, art classes\, etc. \nFor a full calendar of events visit adasisrael.org/senior-fellowship or email akleban@jssa.org.
URL:https://calendar.adasisrael.org/event/senior-lunch-349/
LOCATION:Sisterhood Hall
ATTACH;FMTTYPE=image/jpeg:https://calendar.adasisrael.org/wp-content/uploads/2023/07/Front-Professional.jpg
END:VEVENT
BEGIN:VEVENT
DTSTART;TZID=America/New_York:20250403T090000
DTEND;TZID=America/New_York:20250403T140000
DTSTAMP:20260422T030759
CREATED:20250207T012517Z
LAST-MODIFIED:20250403T165503Z
UID:10007250-1743670800-1743688800@calendar.adasisrael.org
SUMMARY:Senior Lunch
DESCRIPTION:Adas-Behrend Senior Fellowship is a program that provides seniors from the DC metro area a kosher lunch\, social activities\, and Friday Shabbat celebrations. Social activities include games (such as bingo\, scrabble) group exercise classes\, entertainment (musicians\, sing-alongs\, movies)\, field trips to Theater J and museums\, art classes\, etc. \nFor a full calendar of events visit adasisrael.org/senior-fellowship or email akleban@jssa.org.
URL:https://calendar.adasisrael.org/event/senior-lunch-348/
LOCATION:Sisterhood Hall
ATTACH;FMTTYPE=image/jpeg:https://calendar.adasisrael.org/wp-content/uploads/2023/07/Front-Professional.jpg
END:VEVENT
BEGIN:VEVENT
DTSTART;TZID=America/New_York:20250402T090000
DTEND;TZID=America/New_York:20250402T140000
DTSTAMP:20260422T030759
CREATED:20250207T012517Z
LAST-MODIFIED:20250402T175505Z
UID:10007246-1743584400-1743602400@calendar.adasisrael.org
SUMMARY:Senior Lunch
DESCRIPTION:Adas-Behrend Senior Fellowship is a program that provides seniors from the DC metro area a kosher lunch\, social activities\, and Friday Shabbat celebrations. Social activities include games (such as bingo\, scrabble) group exercise classes\, entertainment (musicians\, sing-alongs\, movies)\, field trips to Theater J and museums\, art classes\, etc. \nFor a full calendar of events visit adasisrael.org/senior-fellowship or email akleban@jssa.org.
URL:https://calendar.adasisrael.org/event/senior-lunch-347/
LOCATION:Sisterhood Hall
ATTACH;FMTTYPE=image/jpeg:https://calendar.adasisrael.org/wp-content/uploads/2023/07/Front-Professional.jpg
END:VEVENT
BEGIN:VEVENT
DTSTART;TZID=America/New_York:20250401T090000
DTEND;TZID=America/New_York:20250401T140000
DTSTAMP:20260422T030759
CREATED:20250207T012517Z
LAST-MODIFIED:20250401T165501Z
UID:10007241-1743498000-1743516000@calendar.adasisrael.org
SUMMARY:Senior Lunch
DESCRIPTION:Adas-Behrend Senior Fellowship is a program that provides seniors from the DC metro area a kosher lunch\, social activities\, and Friday Shabbat celebrations. Social activities include games (such as bingo\, scrabble) group exercise classes\, entertainment (musicians\, sing-alongs\, movies)\, field trips to Theater J and museums\, art classes\, etc. \nFor a full calendar of events visit adasisrael.org/senior-fellowship or email akleban@jssa.org.
URL:https://calendar.adasisrael.org/event/senior-lunch-346/
LOCATION:Sisterhood Hall
ATTACH;FMTTYPE=image/jpeg:https://calendar.adasisrael.org/wp-content/uploads/2023/07/Front-Professional.jpg
END:VEVENT
END:VCALENDAR