BEGIN:VCALENDAR
VERSION:2.0
PRODID:-//Adas Israel Congregation - ECPv6.2.9//NONSGML v1.0//EN
CALSCALE:GREGORIAN
METHOD:PUBLISH
X-ORIGINAL-URL:https://calendar.adasisrael.org
X-WR-CALDESC:Events for Adas Israel Congregation
REFRESH-INTERVAL;VALUE=DURATION:PT1H
X-Robots-Tag:noindex
X-PUBLISHED-TTL:PT1H
BEGIN:VTIMEZONE
TZID:America/New_York
BEGIN:DAYLIGHT
TZOFFSETFROM:-0500
TZOFFSETTO:-0400
TZNAME:EDT
DTSTART:20260308T070000
END:DAYLIGHT
BEGIN:STANDARD
TZOFFSETFROM:-0400
TZOFFSETTO:-0500
TZNAME:EST
DTSTART:20261101T060000
END:STANDARD
END:VTIMEZONE
BEGIN:VEVENT
DTSTART;TZID=America/New_York:20260421T100000
DTEND;TZID=America/New_York:20260421T140000
DTSTAMP:20260421T062536
CREATED:20260414T191259Z
LAST-MODIFIED:20260421T102506Z
UID:10012616-1776765600-1776780000@calendar.adasisrael.org
SUMMARY:Senior Lunch
DESCRIPTION:
URL:https://calendar.adasisrael.org/event/senior-lunch-559/
LOCATION:Sisterhood Hall
ATTACH;FMTTYPE=image/jpeg:https://calendar.adasisrael.org/wp-content/uploads/2023/07/Front-Professional.jpg
END:VEVENT
BEGIN:VEVENT
DTSTART;TZID=America/New_York:20260422T100000
DTEND;TZID=America/New_York:20260422T140000
DTSTAMP:20260421T062536
CREATED:20260414T191300Z
LAST-MODIFIED:20260421T102517Z
UID:10012622-1776852000-1776866400@calendar.adasisrael.org
SUMMARY:Senior Lunch
DESCRIPTION:
URL:https://calendar.adasisrael.org/event/senior-lunch-560/
LOCATION:Sisterhood Hall
ATTACH;FMTTYPE=image/jpeg:https://calendar.adasisrael.org/wp-content/uploads/2023/07/Front-Professional.jpg
END:VEVENT
BEGIN:VEVENT
DTSTART;TZID=America/New_York:20260423T100000
DTEND;TZID=America/New_York:20260423T140000
DTSTAMP:20260421T062536
CREATED:20260414T191300Z
LAST-MODIFIED:20260421T102517Z
UID:10012626-1776938400-1776952800@calendar.adasisrael.org
SUMMARY:Senior Lunch
DESCRIPTION:
URL:https://calendar.adasisrael.org/event/senior-lunch-561/
LOCATION:Sisterhood Hall
ATTACH;FMTTYPE=image/jpeg:https://calendar.adasisrael.org/wp-content/uploads/2023/07/Front-Professional.jpg
END:VEVENT
BEGIN:VEVENT
DTSTART;TZID=America/New_York:20260424T100000
DTEND;TZID=America/New_York:20260424T140000
DTSTAMP:20260421T062536
CREATED:20260414T191301Z
LAST-MODIFIED:20260421T102517Z
UID:10012630-1777024800-1777039200@calendar.adasisrael.org
SUMMARY:Senior Lunch
DESCRIPTION:
URL:https://calendar.adasisrael.org/event/senior-lunch-562/
LOCATION:Sisterhood Hall
ATTACH;FMTTYPE=image/jpeg:https://calendar.adasisrael.org/wp-content/uploads/2023/07/Front-Professional.jpg
END:VEVENT
BEGIN:VEVENT
DTSTART;TZID=America/New_York:20260426T100000
DTEND;TZID=America/New_York:20260426T120000
DTSTAMP:20260421T062536
CREATED:20260414T191302Z
LAST-MODIFIED:20260421T102043Z
UID:10012645-1777197600-1777204800@calendar.adasisrael.org
SUMMARY:Reproductive Justice Team Meeting
DESCRIPTION:
URL:https://calendar.adasisrael.org/event/reproductive-justice-team-meeting/
LOCATION:Sisterhood Hall
ATTACH;FMTTYPE=image/jpeg:https://calendar.adasisrael.org/wp-content/uploads/2023/07/Front-Professional.jpg
END:VEVENT
BEGIN:VEVENT
DTSTART;TZID=America/New_York:20260427T100000
DTEND;TZID=America/New_York:20260427T140000
DTSTAMP:20260421T062536
CREATED:20260414T191303Z
LAST-MODIFIED:20260421T102043Z
UID:10012649-1777284000-1777298400@calendar.adasisrael.org
SUMMARY:Senior Lunch
DESCRIPTION:
URL:https://calendar.adasisrael.org/event/senior-lunch-563/
LOCATION:Sisterhood Hall
ATTACH;FMTTYPE=image/jpeg:https://calendar.adasisrael.org/wp-content/uploads/2023/07/Front-Professional.jpg
END:VEVENT
BEGIN:VEVENT
DTSTART;TZID=America/New_York:20260428T100000
DTEND;TZID=America/New_York:20260428T140000
DTSTAMP:20260421T062536
CREATED:20260414T191304Z
LAST-MODIFIED:20260421T102054Z
UID:10012654-1777370400-1777384800@calendar.adasisrael.org
SUMMARY:Senior Lunch
DESCRIPTION:
URL:https://calendar.adasisrael.org/event/senior-lunch-564/
LOCATION:Sisterhood Hall
ATTACH;FMTTYPE=image/jpeg:https://calendar.adasisrael.org/wp-content/uploads/2023/07/Front-Professional.jpg
END:VEVENT
BEGIN:VEVENT
DTSTART;TZID=America/New_York:20260429T100000
DTEND;TZID=America/New_York:20260429T140000
DTSTAMP:20260421T062536
CREATED:20260414T191304Z
LAST-MODIFIED:20260421T102054Z
UID:10012658-1777456800-1777471200@calendar.adasisrael.org
SUMMARY:Senior Lunch
DESCRIPTION:
URL:https://calendar.adasisrael.org/event/senior-lunch-565/
LOCATION:Sisterhood Hall
ATTACH;FMTTYPE=image/jpeg:https://calendar.adasisrael.org/wp-content/uploads/2023/07/Front-Professional.jpg
END:VEVENT
BEGIN:VEVENT
DTSTART;TZID=America/New_York:20260430T100000
DTEND;TZID=America/New_York:20260430T140000
DTSTAMP:20260421T062536
CREATED:20260414T191305Z
LAST-MODIFIED:20260421T102054Z
UID:10012661-1777543200-1777557600@calendar.adasisrael.org
SUMMARY:Senior Lunch
DESCRIPTION:
URL:https://calendar.adasisrael.org/event/senior-lunch-566/
LOCATION:Sisterhood Hall
ATTACH;FMTTYPE=image/jpeg:https://calendar.adasisrael.org/wp-content/uploads/2023/07/Front-Professional.jpg
END:VEVENT
BEGIN:VEVENT
DTSTART;TZID=America/New_York:20260501T100000
DTEND;TZID=America/New_York:20260501T140000
DTSTAMP:20260421T062536
CREATED:20260414T191305Z
LAST-MODIFIED:20260421T102105Z
UID:10012666-1777629600-1777644000@calendar.adasisrael.org
SUMMARY:Senior Lunch
DESCRIPTION:
URL:https://calendar.adasisrael.org/event/senior-lunch-567/
LOCATION:Sisterhood Hall
ATTACH;FMTTYPE=image/jpeg:https://calendar.adasisrael.org/wp-content/uploads/2023/07/Front-Professional.jpg
END:VEVENT
BEGIN:VEVENT
DTSTART;TZID=America/New_York:20260503T090000
DTEND;TZID=America/New_York:20260503T120000
DTSTAMP:20260421T062536
CREATED:20260414T191306Z
LAST-MODIFIED:20260421T102116Z
UID:10012682-1777798800-1777809600@calendar.adasisrael.org
SUMMARY:Sisterhood Mahjong Gathering
DESCRIPTION:
URL:https://calendar.adasisrael.org/event/sisterhood-mahjong-gathering-5/
LOCATION:Sisterhood Hall
ATTACH;FMTTYPE=image/jpeg:https://calendar.adasisrael.org/wp-content/uploads/2023/07/Front-Professional.jpg
END:VEVENT
BEGIN:VEVENT
DTSTART;TZID=America/New_York:20260504T100000
DTEND;TZID=America/New_York:20260504T140000
DTSTAMP:20260421T062536
CREATED:20260414T191307Z
LAST-MODIFIED:20260421T102128Z
UID:10012686-1777888800-1777903200@calendar.adasisrael.org
SUMMARY:Senior Lunch
DESCRIPTION:
URL:https://calendar.adasisrael.org/event/senior-lunch-568/
LOCATION:Sisterhood Hall
ATTACH;FMTTYPE=image/jpeg:https://calendar.adasisrael.org/wp-content/uploads/2023/07/Front-Professional.jpg
END:VEVENT
BEGIN:VEVENT
DTSTART;TZID=America/New_York:20260505T100000
DTEND;TZID=America/New_York:20260505T140000
DTSTAMP:20260421T062536
CREATED:20260414T191307Z
LAST-MODIFIED:20260421T102128Z
UID:10012691-1777975200-1777989600@calendar.adasisrael.org
SUMMARY:Senior Lunch
DESCRIPTION:
URL:https://calendar.adasisrael.org/event/senior-lunch-569/
LOCATION:Sisterhood Hall
ATTACH;FMTTYPE=image/jpeg:https://calendar.adasisrael.org/wp-content/uploads/2023/07/Front-Professional.jpg
END:VEVENT
BEGIN:VEVENT
DTSTART;TZID=America/New_York:20260506T100000
DTEND;TZID=America/New_York:20260506T140000
DTSTAMP:20260421T062536
CREATED:20260414T191308Z
LAST-MODIFIED:20260421T102139Z
UID:10012695-1778061600-1778076000@calendar.adasisrael.org
SUMMARY:Senior Lunch
DESCRIPTION:
URL:https://calendar.adasisrael.org/event/senior-lunch-570/
LOCATION:Sisterhood Hall
ATTACH;FMTTYPE=image/jpeg:https://calendar.adasisrael.org/wp-content/uploads/2023/07/Front-Professional.jpg
END:VEVENT
BEGIN:VEVENT
DTSTART;TZID=America/New_York:20260507T100000
DTEND;TZID=America/New_York:20260507T140000
DTSTAMP:20260421T062536
CREATED:20260414T191308Z
LAST-MODIFIED:20260421T102139Z
UID:10012701-1778148000-1778162400@calendar.adasisrael.org
SUMMARY:Senior Lunch
DESCRIPTION:
URL:https://calendar.adasisrael.org/event/senior-lunch-571/
LOCATION:Sisterhood Hall
ATTACH;FMTTYPE=image/jpeg:https://calendar.adasisrael.org/wp-content/uploads/2023/07/Front-Professional.jpg
END:VEVENT
BEGIN:VEVENT
DTSTART;TZID=America/New_York:20260508T100000
DTEND;TZID=America/New_York:20260508T140000
DTSTAMP:20260421T062536
CREATED:20260414T191309Z
LAST-MODIFIED:20260421T102150Z
UID:10012705-1778234400-1778248800@calendar.adasisrael.org
SUMMARY:Senior Lunch
DESCRIPTION:
URL:https://calendar.adasisrael.org/event/senior-lunch-572/
LOCATION:Sisterhood Hall
ATTACH;FMTTYPE=image/jpeg:https://calendar.adasisrael.org/wp-content/uploads/2023/07/Front-Professional.jpg
END:VEVENT
BEGIN:VEVENT
DTSTART;TZID=America/New_York:20260511T100000
DTEND;TZID=America/New_York:20260511T140000
DTSTAMP:20260421T062536
CREATED:20260414T191310Z
LAST-MODIFIED:20260421T102213Z
UID:10012725-1778493600-1778508000@calendar.adasisrael.org
SUMMARY:Senior Lunch
DESCRIPTION:
URL:https://calendar.adasisrael.org/event/senior-lunch-573/
LOCATION:Sisterhood Hall
ATTACH;FMTTYPE=image/jpeg:https://calendar.adasisrael.org/wp-content/uploads/2023/07/Front-Professional.jpg
END:VEVENT
BEGIN:VEVENT
DTSTART;TZID=America/New_York:20260512T100000
DTEND;TZID=America/New_York:20260512T140000
DTSTAMP:20260421T062536
CREATED:20260414T191311Z
LAST-MODIFIED:20260421T102213Z
UID:10012730-1778580000-1778594400@calendar.adasisrael.org
SUMMARY:Senior Lunch
DESCRIPTION:
URL:https://calendar.adasisrael.org/event/senior-lunch-574/
LOCATION:Sisterhood Hall
ATTACH;FMTTYPE=image/jpeg:https://calendar.adasisrael.org/wp-content/uploads/2023/07/Front-Professional.jpg
END:VEVENT
BEGIN:VEVENT
DTSTART;TZID=America/New_York:20260513T100000
DTEND;TZID=America/New_York:20260513T140000
DTSTAMP:20260421T062536
CREATED:20260414T191311Z
LAST-MODIFIED:20260421T102226Z
UID:10012736-1778666400-1778680800@calendar.adasisrael.org
SUMMARY:Senior Lunch
DESCRIPTION:
URL:https://calendar.adasisrael.org/event/senior-lunch-575/
LOCATION:Sisterhood Hall
ATTACH;FMTTYPE=image/jpeg:https://calendar.adasisrael.org/wp-content/uploads/2023/07/Front-Professional.jpg
END:VEVENT
BEGIN:VEVENT
DTSTART;TZID=America/New_York:20260514T100000
DTEND;TZID=America/New_York:20260514T140000
DTSTAMP:20260421T062536
CREATED:20260414T191312Z
LAST-MODIFIED:20260421T102237Z
UID:10012742-1778752800-1778767200@calendar.adasisrael.org
SUMMARY:Senior Lunch
DESCRIPTION:
URL:https://calendar.adasisrael.org/event/senior-lunch-576/
LOCATION:Sisterhood Hall
ATTACH;FMTTYPE=image/jpeg:https://calendar.adasisrael.org/wp-content/uploads/2023/07/Front-Professional.jpg
END:VEVENT
BEGIN:VEVENT
DTSTART;TZID=America/New_York:20260515T100000
DTEND;TZID=America/New_York:20260515T140000
DTSTAMP:20260421T062536
CREATED:20260414T191313Z
LAST-MODIFIED:20260421T102237Z
UID:10012748-1778839200-1778853600@calendar.adasisrael.org
SUMMARY:Senior Lunch
DESCRIPTION:
URL:https://calendar.adasisrael.org/event/senior-lunch-577/
LOCATION:Sisterhood Hall
ATTACH;FMTTYPE=image/jpeg:https://calendar.adasisrael.org/wp-content/uploads/2023/07/Front-Professional.jpg
END:VEVENT
BEGIN:VEVENT
DTSTART;TZID=America/New_York:20260518T100000
DTEND;TZID=America/New_York:20260518T140000
DTSTAMP:20260421T062536
CREATED:20260414T191314Z
LAST-MODIFIED:20260421T102300Z
UID:10012770-1779098400-1779112800@calendar.adasisrael.org
SUMMARY:Senior Lunch
DESCRIPTION:
URL:https://calendar.adasisrael.org/event/senior-lunch-578/
LOCATION:Sisterhood Hall
ATTACH;FMTTYPE=image/jpeg:https://calendar.adasisrael.org/wp-content/uploads/2023/07/Front-Professional.jpg
END:VEVENT
BEGIN:VEVENT
DTSTART;TZID=America/New_York:20260519T100000
DTEND;TZID=America/New_York:20260519T140000
DTSTAMP:20260421T062536
CREATED:20260414T191315Z
LAST-MODIFIED:20260421T102311Z
UID:10012775-1779184800-1779199200@calendar.adasisrael.org
SUMMARY:Senior Lunch
DESCRIPTION:
URL:https://calendar.adasisrael.org/event/senior-lunch-579/
LOCATION:Sisterhood Hall
ATTACH;FMTTYPE=image/jpeg:https://calendar.adasisrael.org/wp-content/uploads/2023/07/Front-Professional.jpg
END:VEVENT
BEGIN:VEVENT
DTSTART;TZID=America/New_York:20260520T100000
DTEND;TZID=America/New_York:20260520T140000
DTSTAMP:20260421T062536
CREATED:20260414T191315Z
LAST-MODIFIED:20260421T102311Z
UID:10012781-1779271200-1779285600@calendar.adasisrael.org
SUMMARY:Senior Lunch
DESCRIPTION:
URL:https://calendar.adasisrael.org/event/senior-lunch-580/
LOCATION:Sisterhood Hall
ATTACH;FMTTYPE=image/jpeg:https://calendar.adasisrael.org/wp-content/uploads/2023/07/Front-Professional.jpg
END:VEVENT
BEGIN:VEVENT
DTSTART;TZID=America/New_York:20260521T100000
DTEND;TZID=America/New_York:20260521T140000
DTSTAMP:20260421T062536
CREATED:20260414T191316Z
LAST-MODIFIED:20260421T102322Z
UID:10012784-1779357600-1779372000@calendar.adasisrael.org
SUMMARY:Senior Lunch
DESCRIPTION:
URL:https://calendar.adasisrael.org/event/senior-lunch-581/
LOCATION:Sisterhood Hall
ATTACH;FMTTYPE=image/jpeg:https://calendar.adasisrael.org/wp-content/uploads/2023/07/Front-Professional.jpg
END:VEVENT
BEGIN:VEVENT
DTSTART;TZID=America/New_York:20260526T100000
DTEND;TZID=America/New_York:20260526T140000
DTSTAMP:20260421T062536
CREATED:20260414T191318Z
LAST-MODIFIED:20260421T102347Z
UID:10012802-1779789600-1779804000@calendar.adasisrael.org
SUMMARY:Senior Lunch
DESCRIPTION:
URL:https://calendar.adasisrael.org/event/senior-lunch-582/
LOCATION:Sisterhood Hall
ATTACH;FMTTYPE=image/jpeg:https://calendar.adasisrael.org/wp-content/uploads/2023/07/Front-Professional.jpg
END:VEVENT
BEGIN:VEVENT
DTSTART;TZID=America/New_York:20260527T100000
DTEND;TZID=America/New_York:20260527T140000
DTSTAMP:20260421T062536
CREATED:20260414T191318Z
LAST-MODIFIED:20260421T102347Z
UID:10012806-1779876000-1779890400@calendar.adasisrael.org
SUMMARY:Senior Lunch
DESCRIPTION:
URL:https://calendar.adasisrael.org/event/senior-lunch-583/
LOCATION:Sisterhood Hall
ATTACH;FMTTYPE=image/jpeg:https://calendar.adasisrael.org/wp-content/uploads/2023/07/Front-Professional.jpg
END:VEVENT
BEGIN:VEVENT
DTSTART;TZID=America/New_York:20260528T100000
DTEND;TZID=America/New_York:20260528T140000
DTSTAMP:20260421T062536
CREATED:20260414T191318Z
LAST-MODIFIED:20260421T102347Z
UID:10012809-1779962400-1779976800@calendar.adasisrael.org
SUMMARY:Senior Lunch
DESCRIPTION:
URL:https://calendar.adasisrael.org/event/senior-lunch-584/
LOCATION:Sisterhood Hall
ATTACH;FMTTYPE=image/jpeg:https://calendar.adasisrael.org/wp-content/uploads/2023/07/Front-Professional.jpg
END:VEVENT
BEGIN:VEVENT
DTSTART;TZID=America/New_York:20260529T100000
DTEND;TZID=America/New_York:20260529T140000
DTSTAMP:20260421T062536
CREATED:20260414T191319Z
LAST-MODIFIED:20260421T102358Z
UID:10012815-1780048800-1780063200@calendar.adasisrael.org
SUMMARY:Senior Lunch
DESCRIPTION:
URL:https://calendar.adasisrael.org/event/senior-lunch-585/
LOCATION:Sisterhood Hall
ATTACH;FMTTYPE=image/jpeg:https://calendar.adasisrael.org/wp-content/uploads/2023/07/Front-Professional.jpg
END:VEVENT
BEGIN:VEVENT
DTSTART;TZID=America/New_York:20260601T100000
DTEND;TZID=America/New_York:20260601T140000
DTSTAMP:20260421T062536
CREATED:20260414T191321Z
LAST-MODIFIED:20260421T102410Z
UID:10012828-1780308000-1780322400@calendar.adasisrael.org
SUMMARY:Senior Lunch
DESCRIPTION:
URL:https://calendar.adasisrael.org/event/senior-lunch-586/
LOCATION:Sisterhood Hall
ATTACH;FMTTYPE=image/jpeg:https://calendar.adasisrael.org/wp-content/uploads/2023/07/Front-Professional.jpg
END:VEVENT
END:VCALENDAR