BEGIN:VCALENDAR
VERSION:2.0
PRODID:-//Adas Israel Congregation - ECPv6.2.9//NONSGML v1.0//EN
CALSCALE:GREGORIAN
METHOD:PUBLISH
X-WR-CALNAME:Adas Israel Congregation
X-ORIGINAL-URL:https://calendar.adasisrael.org
X-WR-CALDESC:Events for Adas Israel Congregation
REFRESH-INTERVAL;VALUE=DURATION:PT1H
X-Robots-Tag:noindex
X-PUBLISHED-TTL:PT1H
BEGIN:VTIMEZONE
TZID:America/New_York
BEGIN:DAYLIGHT
TZOFFSETFROM:-0500
TZOFFSETTO:-0400
TZNAME:EDT
DTSTART:20260308T070000
END:DAYLIGHT
BEGIN:STANDARD
TZOFFSETFROM:-0400
TZOFFSETTO:-0500
TZNAME:EST
DTSTART:20261101T060000
END:STANDARD
END:VTIMEZONE
BEGIN:VEVENT
DTSTART;TZID=America/New_York:20260420T100000
DTEND;TZID=America/New_York:20260420T140000
DTSTAMP:20260421T075834
CREATED:20260414T191259Z
LAST-MODIFIED:20260420T175513Z
UID:10012611-1776679200-1776693600@calendar.adasisrael.org
SUMMARY:Senior Lunch
DESCRIPTION:
URL:https://calendar.adasisrael.org/event/senior-lunch-558/
LOCATION:Sisterhood Hall
ATTACH;FMTTYPE=image/jpeg:https://calendar.adasisrael.org/wp-content/uploads/2023/07/Front-Professional.jpg
END:VEVENT
BEGIN:VEVENT
DTSTART;TZID=America/New_York:20260419T090000
DTEND;TZID=America/New_York:20260419T120000
DTSTAMP:20260421T075834
CREATED:20260414T191258Z
LAST-MODIFIED:20260419T155501Z
UID:10012601-1776589200-1776600000@calendar.adasisrael.org
SUMMARY:Sisterhood Mahjong Gathering
DESCRIPTION:
URL:https://calendar.adasisrael.org/event/sisterhood-mahjong-gathering-2/
LOCATION:Sisterhood Hall
ATTACH;FMTTYPE=image/jpeg:https://calendar.adasisrael.org/wp-content/uploads/2023/07/Front-Professional.jpg
END:VEVENT
BEGIN:VEVENT
DTSTART;TZID=America/New_York:20260417T100000
DTEND;TZID=America/New_York:20260417T140000
DTSTAMP:20260421T075834
CREATED:20260414T191252Z
LAST-MODIFIED:20260417T175502Z
UID:10012588-1776420000-1776434400@calendar.adasisrael.org
SUMMARY:Senior Lunch
DESCRIPTION:
URL:https://calendar.adasisrael.org/event/senior-lunch-557/
LOCATION:Sisterhood Hall
ATTACH;FMTTYPE=image/jpeg:https://calendar.adasisrael.org/wp-content/uploads/2023/07/Front-Professional.jpg
END:VEVENT
BEGIN:VEVENT
DTSTART;TZID=America/New_York:20260416T100000
DTEND;TZID=America/New_York:20260416T140000
DTSTAMP:20260421T075834
CREATED:20260414T191252Z
LAST-MODIFIED:20260416T180002Z
UID:10012584-1776333600-1776348000@calendar.adasisrael.org
SUMMARY:Senior Lunch
DESCRIPTION:
URL:https://calendar.adasisrael.org/event/senior-lunch-556/
LOCATION:Sisterhood Hall
ATTACH;FMTTYPE=image/jpeg:https://calendar.adasisrael.org/wp-content/uploads/2023/07/Front-Professional.jpg
END:VEVENT
BEGIN:VEVENT
DTSTART;TZID=America/New_York:20260415T100000
DTEND;TZID=America/New_York:20260415T140000
DTSTAMP:20260421T075834
CREATED:20260414T191241Z
LAST-MODIFIED:20260415T172502Z
UID:10012578-1776247200-1776261600@calendar.adasisrael.org
SUMMARY:Senior Lunch
DESCRIPTION:
URL:https://calendar.adasisrael.org/event/senior-lunch-555/
LOCATION:Sisterhood Hall
ATTACH;FMTTYPE=image/jpeg:https://calendar.adasisrael.org/wp-content/uploads/2023/07/Front-Professional.jpg
END:VEVENT
BEGIN:VEVENT
DTSTART;TZID=America/New_York:20260327T100000
DTEND;TZID=America/New_York:20260327T140000
DTSTAMP:20260421T075834
CREATED:20260327T142008Z
LAST-MODIFIED:20260327T180001Z
UID:10011686-1774605600-1774620000@calendar.adasisrael.org
SUMMARY:Senior Lunch
DESCRIPTION:Adas-Behrend Senior Fellowship is a program that provides seniors from the DC metro area a kosher lunch\, social activities\, and Friday Shabbat celebrations. Social activities include games (such as bingo\, scrabble) group exercise classes\, entertainment (musicians\, sing-alongs\, movies)\, field trips to Theater J and museums\, art classes\, etc. \nFor a full calendar of events visit adasisrael.org/senior-fellowship or email akleban@jssa.org.
URL:https://calendar.adasisrael.org/event/senior-lunch-554/
LOCATION:Sisterhood Hall
ATTACH;FMTTYPE=image/jpeg:https://calendar.adasisrael.org/wp-content/uploads/2023/07/Front-Professional.jpg
END:VEVENT
BEGIN:VEVENT
DTSTART;TZID=America/New_York:20260326T100000
DTEND;TZID=America/New_York:20260326T140000
DTSTAMP:20260421T075834
CREATED:20260318T202043Z
LAST-MODIFIED:20260326T175002Z
UID:10011627-1774519200-1774533600@calendar.adasisrael.org
SUMMARY:Senior Lunch
DESCRIPTION:Adas-Behrend Senior Fellowship is a program that provides seniors from the DC metro area a kosher lunch\, social activities\, and Friday Shabbat celebrations. Social activities include games (such as bingo\, scrabble) group exercise classes\, entertainment (musicians\, sing-alongs\, movies)\, field trips to Theater J and museums\, art classes\, etc. \nFor a full calendar of events visit adasisrael.org/senior-fellowship or email akleban@jssa.org.
URL:https://calendar.adasisrael.org/event/senior-lunch-626/
LOCATION:Sisterhood Hall
ATTACH;FMTTYPE=image/jpeg:https://calendar.adasisrael.org/wp-content/uploads/2023/07/Front-Professional.jpg
END:VEVENT
BEGIN:VEVENT
DTSTART;TZID=America/New_York:20260325T100000
DTEND;TZID=America/New_York:20260325T140000
DTSTAMP:20260421T075834
CREATED:20260318T202043Z
LAST-MODIFIED:20260325T180002Z
UID:10011623-1774432800-1774447200@calendar.adasisrael.org
SUMMARY:Senior Lunch
DESCRIPTION:Adas-Behrend Senior Fellowship is a program that provides seniors from the DC metro area a kosher lunch\, social activities\, and Friday Shabbat celebrations. Social activities include games (such as bingo\, scrabble) group exercise classes\, entertainment (musicians\, sing-alongs\, movies)\, field trips to Theater J and museums\, art classes\, etc. \nFor a full calendar of events visit adasisrael.org/senior-fellowship or email akleban@jssa.org.
URL:https://calendar.adasisrael.org/event/senior-lunch-625/
LOCATION:Sisterhood Hall
ATTACH;FMTTYPE=image/jpeg:https://calendar.adasisrael.org/wp-content/uploads/2023/07/Front-Professional.jpg
END:VEVENT
BEGIN:VEVENT
DTSTART;TZID=America/New_York:20260324T100000
DTEND;TZID=America/New_York:20260324T140000
DTSTAMP:20260421T075834
CREATED:20260318T202031Z
LAST-MODIFIED:20260324T180002Z
UID:10011616-1774346400-1774360800@calendar.adasisrael.org
SUMMARY:Senior Lunch
DESCRIPTION:Adas-Behrend Senior Fellowship is a program that provides seniors from the DC metro area a kosher lunch\, social activities\, and Friday Shabbat celebrations. Social activities include games (such as bingo\, scrabble) group exercise classes\, entertainment (musicians\, sing-alongs\, movies)\, field trips to Theater J and museums\, art classes\, etc. \nFor a full calendar of events visit adasisrael.org/senior-fellowship or email akleban@jssa.org.
URL:https://calendar.adasisrael.org/event/senior-lunch-624/
LOCATION:Sisterhood Hall
ATTACH;FMTTYPE=image/jpeg:https://calendar.adasisrael.org/wp-content/uploads/2023/07/Front-Professional.jpg
END:VEVENT
BEGIN:VEVENT
DTSTART;TZID=America/New_York:20260323T100000
DTEND;TZID=America/New_York:20260323T140000
DTSTAMP:20260421T075834
CREATED:20260318T202030Z
LAST-MODIFIED:20260323T175502Z
UID:10011612-1774260000-1774274400@calendar.adasisrael.org
SUMMARY:Senior Lunch
DESCRIPTION:Adas-Behrend Senior Fellowship is a program that provides seniors from the DC metro area a kosher lunch\, social activities\, and Friday Shabbat celebrations. Social activities include games (such as bingo\, scrabble) group exercise classes\, entertainment (musicians\, sing-alongs\, movies)\, field trips to Theater J and museums\, art classes\, etc. \nFor a full calendar of events visit adasisrael.org/senior-fellowship or email akleban@jssa.org.
URL:https://calendar.adasisrael.org/event/senior-lunch-623/
LOCATION:Sisterhood Hall
ATTACH;FMTTYPE=image/jpeg:https://calendar.adasisrael.org/wp-content/uploads/2023/07/Front-Professional.jpg
END:VEVENT
BEGIN:VEVENT
DTSTART;TZID=America/New_York:20260320T100000
DTEND;TZID=America/New_York:20260320T140000
DTSTAMP:20260421T075834
CREATED:20260318T202007Z
LAST-MODIFIED:20260320T173002Z
UID:10011595-1774000800-1774015200@calendar.adasisrael.org
SUMMARY:Senior Lunch
DESCRIPTION:Adas-Behrend Senior Fellowship is a program that provides seniors from the DC metro area a kosher lunch\, social activities\, and Friday Shabbat celebrations. Social activities include games (such as bingo\, scrabble) group exercise classes\, entertainment (musicians\, sing-alongs\, movies)\, field trips to Theater J and museums\, art classes\, etc. \nFor a full calendar of events visit adasisrael.org/senior-fellowship or email akleban@jssa.org.
URL:https://calendar.adasisrael.org/event/senior-lunch-622/
LOCATION:Sisterhood Hall
ATTACH;FMTTYPE=image/jpeg:https://calendar.adasisrael.org/wp-content/uploads/2023/07/Front-Professional.jpg
END:VEVENT
BEGIN:VEVENT
DTSTART;TZID=America/New_York:20260319T100000
DTEND;TZID=America/New_York:20260319T140000
DTSTAMP:20260421T075834
CREATED:20260318T202007Z
LAST-MODIFIED:20260319T173002Z
UID:10011591-1773914400-1773928800@calendar.adasisrael.org
SUMMARY:Senior Lunch
DESCRIPTION:Adas-Behrend Senior Fellowship is a program that provides seniors from the DC metro area a kosher lunch\, social activities\, and Friday Shabbat celebrations. Social activities include games (such as bingo\, scrabble) group exercise classes\, entertainment (musicians\, sing-alongs\, movies)\, field trips to Theater J and museums\, art classes\, etc. \nFor a full calendar of events visit adasisrael.org/senior-fellowship or email akleban@jssa.org.
URL:https://calendar.adasisrael.org/event/senior-lunch-621/
LOCATION:Sisterhood Hall
ATTACH;FMTTYPE=image/jpeg:https://calendar.adasisrael.org/wp-content/uploads/2023/07/Front-Professional.jpg
END:VEVENT
BEGIN:VEVENT
DTSTART;TZID=America/New_York:20260317T100000
DTEND;TZID=America/New_York:20260317T140000
DTSTAMP:20260421T075834
CREATED:20260113T234045Z
LAST-MODIFIED:20260317T171002Z
UID:10010644-1773741600-1773756000@calendar.adasisrael.org
SUMMARY:Senior Lunch
DESCRIPTION:Adas-Behrend Senior Fellowship is a program that provides seniors from the DC metro area a kosher lunch\, social activities\, and Friday Shabbat celebrations. Social activities include games (such as bingo\, scrabble) group exercise classes\, entertainment (musicians\, sing-alongs\, movies)\, field trips to Theater J and museums\, art classes\, etc. \nFor a full calendar of events visit adasisrael.org/senior-fellowship or email akleban@jssa.org.
URL:https://calendar.adasisrael.org/event/senior-lunch-553/
LOCATION:Sisterhood Hall
ATTACH;FMTTYPE=image/jpeg:https://calendar.adasisrael.org/wp-content/uploads/2023/07/Front-Professional.jpg
END:VEVENT
BEGIN:VEVENT
DTSTART;TZID=America/New_York:20260316T100000
DTEND;TZID=America/New_York:20260316T140000
DTSTAMP:20260421T075834
CREATED:20260113T234044Z
LAST-MODIFIED:20260316T180002Z
UID:10010641-1773655200-1773669600@calendar.adasisrael.org
SUMMARY:Senior Lunch
DESCRIPTION:Adas-Behrend Senior Fellowship is a program that provides seniors from the DC metro area a kosher lunch\, social activities\, and Friday Shabbat celebrations. Social activities include games (such as bingo\, scrabble) group exercise classes\, entertainment (musicians\, sing-alongs\, movies)\, field trips to Theater J and museums\, art classes\, etc. \nFor a full calendar of events visit adasisrael.org/senior-fellowship or email akleban@jssa.org.
URL:https://calendar.adasisrael.org/event/senior-lunch-552/
LOCATION:Sisterhood Hall
ATTACH;FMTTYPE=image/jpeg:https://calendar.adasisrael.org/wp-content/uploads/2023/07/Front-Professional.jpg
END:VEVENT
BEGIN:VEVENT
DTSTART;TZID=America/New_York:20260313T100000
DTEND;TZID=America/New_York:20260313T140000
DTSTAMP:20260421T075834
CREATED:20260113T234042Z
LAST-MODIFIED:20260313T172501Z
UID:10010622-1773396000-1773410400@calendar.adasisrael.org
SUMMARY:Senior Lunch
DESCRIPTION:Adas-Behrend Senior Fellowship is a program that provides seniors from the DC metro area a kosher lunch\, social activities\, and Friday Shabbat celebrations. Social activities include games (such as bingo\, scrabble) group exercise classes\, entertainment (musicians\, sing-alongs\, movies)\, field trips to Theater J and museums\, art classes\, etc. \nFor a full calendar of events visit adasisrael.org/senior-fellowship or email akleban@jssa.org.
URL:https://calendar.adasisrael.org/event/senior-lunch-551/
LOCATION:Sisterhood Hall
ATTACH;FMTTYPE=image/jpeg:https://calendar.adasisrael.org/wp-content/uploads/2023/07/Front-Professional.jpg
END:VEVENT
BEGIN:VEVENT
DTSTART;TZID=America/New_York:20260312T100000
DTEND;TZID=America/New_York:20260312T140000
DTSTAMP:20260421T075834
CREATED:20260113T234042Z
LAST-MODIFIED:20260312T171002Z
UID:10010619-1773309600-1773324000@calendar.adasisrael.org
SUMMARY:Senior Lunch
DESCRIPTION:Adas-Behrend Senior Fellowship is a program that provides seniors from the DC metro area a kosher lunch\, social activities\, and Friday Shabbat celebrations. Social activities include games (such as bingo\, scrabble) group exercise classes\, entertainment (musicians\, sing-alongs\, movies)\, field trips to Theater J and museums\, art classes\, etc. \nFor a full calendar of events visit adasisrael.org/senior-fellowship or email akleban@jssa.org.
URL:https://calendar.adasisrael.org/event/senior-lunch-550/
LOCATION:Sisterhood Hall
ATTACH;FMTTYPE=image/jpeg:https://calendar.adasisrael.org/wp-content/uploads/2023/07/Front-Professional.jpg
END:VEVENT
BEGIN:VEVENT
DTSTART;TZID=America/New_York:20260311T100000
DTEND;TZID=America/New_York:20260311T140000
DTSTAMP:20260421T075834
CREATED:20260113T234041Z
LAST-MODIFIED:20260311T165501Z
UID:10010612-1773223200-1773237600@calendar.adasisrael.org
SUMMARY:Senior Lunch
DESCRIPTION:Adas-Behrend Senior Fellowship is a program that provides seniors from the DC metro area a kosher lunch\, social activities\, and Friday Shabbat celebrations. Social activities include games (such as bingo\, scrabble) group exercise classes\, entertainment (musicians\, sing-alongs\, movies)\, field trips to Theater J and museums\, art classes\, etc. \nFor a full calendar of events visit adasisrael.org/senior-fellowship or email akleban@jssa.org.
URL:https://calendar.adasisrael.org/event/senior-lunch-549/
LOCATION:Sisterhood Hall
ATTACH;FMTTYPE=image/jpeg:https://calendar.adasisrael.org/wp-content/uploads/2023/07/Front-Professional.jpg
END:VEVENT
BEGIN:VEVENT
DTSTART;TZID=America/New_York:20260310T100000
DTEND;TZID=America/New_York:20260310T140000
DTSTAMP:20260421T075834
CREATED:20260113T234040Z
LAST-MODIFIED:20260310T171001Z
UID:10010605-1773136800-1773151200@calendar.adasisrael.org
SUMMARY:Senior Lunch
DESCRIPTION:Adas-Behrend Senior Fellowship is a program that provides seniors from the DC metro area a kosher lunch\, social activities\, and Friday Shabbat celebrations. Social activities include games (such as bingo\, scrabble) group exercise classes\, entertainment (musicians\, sing-alongs\, movies)\, field trips to Theater J and museums\, art classes\, etc. \nFor a full calendar of events visit adasisrael.org/senior-fellowship or email akleban@jssa.org.
URL:https://calendar.adasisrael.org/event/senior-lunch-548/
LOCATION:Sisterhood Hall
ATTACH;FMTTYPE=image/jpeg:https://calendar.adasisrael.org/wp-content/uploads/2023/07/Front-Professional.jpg
END:VEVENT
BEGIN:VEVENT
DTSTART;TZID=America/New_York:20260309T100000
DTEND;TZID=America/New_York:20260309T140000
DTSTAMP:20260421T075834
CREATED:20260113T234039Z
LAST-MODIFIED:20260309T172502Z
UID:10010599-1773050400-1773064800@calendar.adasisrael.org
SUMMARY:Senior Lunch
DESCRIPTION:Adas-Behrend Senior Fellowship is a program that provides seniors from the DC metro area a kosher lunch\, social activities\, and Friday Shabbat celebrations. Social activities include games (such as bingo\, scrabble) group exercise classes\, entertainment (musicians\, sing-alongs\, movies)\, field trips to Theater J and museums\, art classes\, etc. \nFor a full calendar of events visit adasisrael.org/senior-fellowship or email akleban@jssa.org.
URL:https://calendar.adasisrael.org/event/senior-lunch-547/
LOCATION:Sisterhood Hall
ATTACH;FMTTYPE=image/jpeg:https://calendar.adasisrael.org/wp-content/uploads/2023/07/Front-Professional.jpg
END:VEVENT
BEGIN:VEVENT
DTSTART;TZID=America/New_York:20260306T100000
DTEND;TZID=America/New_York:20260306T140000
DTSTAMP:20260421T075834
CREATED:20260113T234037Z
LAST-MODIFIED:20260306T180002Z
UID:10010581-1772791200-1772805600@calendar.adasisrael.org
SUMMARY:Senior Lunch
DESCRIPTION:Adas-Behrend Senior Fellowship is a program that provides seniors from the DC metro area a kosher lunch\, social activities\, and Friday Shabbat celebrations. Social activities include games (such as bingo\, scrabble) group exercise classes\, entertainment (musicians\, sing-alongs\, movies)\, field trips to Theater J and museums\, art classes\, etc. \nFor a full calendar of events visit adasisrael.org/senior-fellowship or email akleban@jssa.org.
URL:https://calendar.adasisrael.org/event/senior-lunch-546/
LOCATION:Sisterhood Hall
ATTACH;FMTTYPE=image/jpeg:https://calendar.adasisrael.org/wp-content/uploads/2023/07/Front-Professional.jpg
END:VEVENT
BEGIN:VEVENT
DTSTART;TZID=America/New_York:20260305T100000
DTEND;TZID=America/New_York:20260305T140000
DTSTAMP:20260421T075834
CREATED:20260113T234036Z
LAST-MODIFIED:20260305T185002Z
UID:10010575-1772704800-1772719200@calendar.adasisrael.org
SUMMARY:Senior Lunch
DESCRIPTION:Adas-Behrend Senior Fellowship is a program that provides seniors from the DC metro area a kosher lunch\, social activities\, and Friday Shabbat celebrations. Social activities include games (such as bingo\, scrabble) group exercise classes\, entertainment (musicians\, sing-alongs\, movies)\, field trips to Theater J and museums\, art classes\, etc. \nFor a full calendar of events visit adasisrael.org/senior-fellowship or email akleban@jssa.org.
URL:https://calendar.adasisrael.org/event/senior-lunch-545/
LOCATION:Sisterhood Hall
ATTACH;FMTTYPE=image/jpeg:https://calendar.adasisrael.org/wp-content/uploads/2023/07/Front-Professional.jpg
END:VEVENT
BEGIN:VEVENT
DTSTART;TZID=America/New_York:20260304T100000
DTEND;TZID=America/New_York:20260304T140000
DTSTAMP:20260421T075834
CREATED:20260113T234036Z
LAST-MODIFIED:20260304T184001Z
UID:10010571-1772618400-1772632800@calendar.adasisrael.org
SUMMARY:Senior Lunch
DESCRIPTION:Adas-Behrend Senior Fellowship is a program that provides seniors from the DC metro area a kosher lunch\, social activities\, and Friday Shabbat celebrations. Social activities include games (such as bingo\, scrabble) group exercise classes\, entertainment (musicians\, sing-alongs\, movies)\, field trips to Theater J and museums\, art classes\, etc. \nFor a full calendar of events visit adasisrael.org/senior-fellowship or email akleban@jssa.org.
URL:https://calendar.adasisrael.org/event/senior-lunch-544/
LOCATION:Sisterhood Hall
ATTACH;FMTTYPE=image/jpeg:https://calendar.adasisrael.org/wp-content/uploads/2023/07/Front-Professional.jpg
END:VEVENT
BEGIN:VEVENT
DTSTART;TZID=America/New_York:20260303T100000
DTEND;TZID=America/New_York:20260303T140000
DTSTAMP:20260421T075834
CREATED:20260113T234035Z
LAST-MODIFIED:20260303T185513Z
UID:10010567-1772532000-1772546400@calendar.adasisrael.org
SUMMARY:Senior Lunch
DESCRIPTION:Adas-Behrend Senior Fellowship is a program that provides seniors from the DC metro area a kosher lunch\, social activities\, and Friday Shabbat celebrations. Social activities include games (such as bingo\, scrabble) group exercise classes\, entertainment (musicians\, sing-alongs\, movies)\, field trips to Theater J and museums\, art classes\, etc. \nFor a full calendar of events visit adasisrael.org/senior-fellowship or email akleban@jssa.org.
URL:https://calendar.adasisrael.org/event/senior-lunch-543/
LOCATION:Sisterhood Hall
ATTACH;FMTTYPE=image/jpeg:https://calendar.adasisrael.org/wp-content/uploads/2023/07/Front-Professional.jpg
END:VEVENT
BEGIN:VEVENT
DTSTART;TZID=America/New_York:20260302T100000
DTEND;TZID=America/New_York:20260302T140000
DTSTAMP:20260421T075834
CREATED:20260113T234034Z
LAST-MODIFIED:20260302T185505Z
UID:10010561-1772445600-1772460000@calendar.adasisrael.org
SUMMARY:Senior Lunch
DESCRIPTION:Adas-Behrend Senior Fellowship is a program that provides seniors from the DC metro area a kosher lunch\, social activities\, and Friday Shabbat celebrations. Social activities include games (such as bingo\, scrabble) group exercise classes\, entertainment (musicians\, sing-alongs\, movies)\, field trips to Theater J and museums\, art classes\, etc. \nFor a full calendar of events visit adasisrael.org/senior-fellowship or email akleban@jssa.org.
URL:https://calendar.adasisrael.org/event/senior-lunch-542/
LOCATION:Sisterhood Hall
ATTACH;FMTTYPE=image/jpeg:https://calendar.adasisrael.org/wp-content/uploads/2023/07/Front-Professional.jpg
END:VEVENT
BEGIN:VEVENT
DTSTART;TZID=America/New_York:20260227T100000
DTEND;TZID=America/New_York:20260227T140000
DTSTAMP:20260421T075834
CREATED:20260113T234033Z
LAST-MODIFIED:20260227T185507Z
UID:10010548-1772186400-1772200800@calendar.adasisrael.org
SUMMARY:Senior Lunch
DESCRIPTION:Adas-Behrend Senior Fellowship is a program that provides seniors from the DC metro area a kosher lunch\, social activities\, and Friday Shabbat celebrations. Social activities include games (such as bingo\, scrabble) group exercise classes\, entertainment (musicians\, sing-alongs\, movies)\, field trips to Theater J and museums\, art classes\, etc. \nFor a full calendar of events visit adasisrael.org/senior-fellowship or email akleban@jssa.org.
URL:https://calendar.adasisrael.org/event/senior-lunch-541/
LOCATION:Sisterhood Hall
ATTACH;FMTTYPE=image/jpeg:https://calendar.adasisrael.org/wp-content/uploads/2023/07/Front-Professional.jpg
END:VEVENT
BEGIN:VEVENT
DTSTART;TZID=America/New_York:20260226T090000
DTEND;TZID=America/New_York:20260226T140000
DTSTAMP:20260421T075834
CREATED:20260113T234032Z
LAST-MODIFIED:20260226T183002Z
UID:10010543-1772096400-1772114400@calendar.adasisrael.org
SUMMARY:Senior Lunch
DESCRIPTION:Adas-Behrend Senior Fellowship is a program that provides seniors from the DC metro area a kosher lunch\, social activities\, and Friday Shabbat celebrations. Social activities include games (such as bingo\, scrabble) group exercise classes\, entertainment (musicians\, sing-alongs\, movies)\, field trips to Theater J and museums\, art classes\, etc. \nFor a full calendar of events visit adasisrael.org/senior-fellowship or email akleban@jssa.org.
URL:https://calendar.adasisrael.org/event/senior-lunch-540/
LOCATION:Sisterhood Hall
ATTACH;FMTTYPE=image/jpeg:https://calendar.adasisrael.org/wp-content/uploads/2023/07/Front-Professional.jpg
END:VEVENT
BEGIN:VEVENT
DTSTART;TZID=America/New_York:20260225T090000
DTEND;TZID=America/New_York:20260225T140000
DTSTAMP:20260421T075834
CREATED:20260113T234032Z
LAST-MODIFIED:20260225T181002Z
UID:10010538-1772010000-1772028000@calendar.adasisrael.org
SUMMARY:Senior Lunch
DESCRIPTION:Adas-Behrend Senior Fellowship is a program that provides seniors from the DC metro area a kosher lunch\, social activities\, and Friday Shabbat celebrations. Social activities include games (such as bingo\, scrabble) group exercise classes\, entertainment (musicians\, sing-alongs\, movies)\, field trips to Theater J and museums\, art classes\, etc. \nFor a full calendar of events visit adasisrael.org/senior-fellowship or email akleban@jssa.org.
URL:https://calendar.adasisrael.org/event/senior-lunch-539/
LOCATION:Sisterhood Hall
ATTACH;FMTTYPE=image/jpeg:https://calendar.adasisrael.org/wp-content/uploads/2023/07/Front-Professional.jpg
END:VEVENT
BEGIN:VEVENT
DTSTART;TZID=America/New_York:20260224T090000
DTEND;TZID=America/New_York:20260224T140000
DTSTAMP:20260421T075834
CREATED:20260113T234031Z
LAST-MODIFIED:20260224T185502Z
UID:10010532-1771923600-1771941600@calendar.adasisrael.org
SUMMARY:Senior Lunch
DESCRIPTION:Adas-Behrend Senior Fellowship is a program that provides seniors from the DC metro area a kosher lunch\, social activities\, and Friday Shabbat celebrations. Social activities include games (such as bingo\, scrabble) group exercise classes\, entertainment (musicians\, sing-alongs\, movies)\, field trips to Theater J and museums\, art classes\, etc. \nFor a full calendar of events visit adasisrael.org/senior-fellowship or email akleban@jssa.org.
URL:https://calendar.adasisrael.org/event/senior-lunch-538/
LOCATION:Sisterhood Hall
ATTACH;FMTTYPE=image/jpeg:https://calendar.adasisrael.org/wp-content/uploads/2023/07/Front-Professional.jpg
END:VEVENT
BEGIN:VEVENT
DTSTART;TZID=America/New_York:20260223T090000
DTEND;TZID=America/New_York:20260223T140000
DTSTAMP:20260421T075834
CREATED:20260113T234030Z
LAST-MODIFIED:20260223T190002Z
UID:10010529-1771837200-1771855200@calendar.adasisrael.org
SUMMARY:Senior Lunch
DESCRIPTION:Adas-Behrend Senior Fellowship is a program that provides seniors from the DC metro area a kosher lunch\, social activities\, and Friday Shabbat celebrations. Social activities include games (such as bingo\, scrabble) group exercise classes\, entertainment (musicians\, sing-alongs\, movies)\, field trips to Theater J and museums\, art classes\, etc. \nFor a full calendar of events visit adasisrael.org/senior-fellowship or email akleban@jssa.org.
URL:https://calendar.adasisrael.org/event/senior-lunch-537/
LOCATION:Sisterhood Hall
ATTACH;FMTTYPE=image/jpeg:https://calendar.adasisrael.org/wp-content/uploads/2023/07/Front-Professional.jpg
END:VEVENT
BEGIN:VEVENT
DTSTART;TZID=America/New_York:20260220T090000
DTEND;TZID=America/New_York:20260220T140000
DTSTAMP:20260421T075834
CREATED:20260113T234028Z
LAST-MODIFIED:20260220T185501Z
UID:10010512-1771578000-1771596000@calendar.adasisrael.org
SUMMARY:Senior Lunch
DESCRIPTION:Adas-Behrend Senior Fellowship is a program that provides seniors from the DC metro area a kosher lunch\, social activities\, and Friday Shabbat celebrations. Social activities include games (such as bingo\, scrabble) group exercise classes\, entertainment (musicians\, sing-alongs\, movies)\, field trips to Theater J and museums\, art classes\, etc. \nFor a full calendar of events visit adasisrael.org/senior-fellowship or email akleban@jssa.org.
URL:https://calendar.adasisrael.org/event/senior-lunch-536/
LOCATION:Sisterhood Hall
ATTACH;FMTTYPE=image/jpeg:https://calendar.adasisrael.org/wp-content/uploads/2023/07/Front-Professional.jpg
END:VEVENT
END:VCALENDAR