BEGIN:VCALENDAR
VERSION:2.0
PRODID:-//Adas Israel Congregation - ECPv6.2.9//NONSGML v1.0//EN
CALSCALE:GREGORIAN
METHOD:PUBLISH
X-ORIGINAL-URL:https://calendar.adasisrael.org
X-WR-CALDESC:Events for Adas Israel Congregation
REFRESH-INTERVAL;VALUE=DURATION:PT1H
X-Robots-Tag:noindex
X-PUBLISHED-TTL:PT1H
BEGIN:VTIMEZONE
TZID:America/New_York
BEGIN:DAYLIGHT
TZOFFSETFROM:-0500
TZOFFSETTO:-0400
TZNAME:EDT
DTSTART:20230312T070000
END:DAYLIGHT
BEGIN:STANDARD
TZOFFSETFROM:-0400
TZOFFSETTO:-0500
TZNAME:EST
DTSTART:20231105T060000
END:STANDARD
BEGIN:DAYLIGHT
TZOFFSETFROM:-0500
TZOFFSETTO:-0400
TZNAME:EDT
DTSTART:20240310T070000
END:DAYLIGHT
BEGIN:STANDARD
TZOFFSETFROM:-0400
TZOFFSETTO:-0500
TZNAME:EST
DTSTART:20241103T060000
END:STANDARD
END:VTIMEZONE
BEGIN:VEVENT
DTSTART;TZID=America/New_York:20240202T190000
DTEND;TZID=America/New_York:20240202T210000
DTSTAMP:20260421T154109
CREATED:20231204T222513Z
LAST-MODIFIED:20240203T012502Z
UID:10003839-1706900400-1706907600@calendar.adasisrael.org
SUMMARY:TEM Community Shabbat Dinner
DESCRIPTION:Register
URL:https://calendar.adasisrael.org/event/tem-community-shabbat-dinner-7/
LOCATION:Kay Hall
CATEGORIES:Shabbat
ATTACH;FMTTYPE=image/jpeg:https://calendar.adasisrael.org/wp-content/uploads/2023/07/Front-Professional.jpg
END:VEVENT
BEGIN:VEVENT
DTSTART;TZID=America/New_York:20240126T190000
DTEND;TZID=America/New_York:20240126T210000
DTSTAMP:20260421T154109
CREATED:20231204T222512Z
LAST-MODIFIED:20240127T013502Z
UID:10003813-1706295600-1706302800@calendar.adasisrael.org
SUMMARY:Shabbat Shirah Dinner-Zemirot from Around the World
DESCRIPTION:Join Hazzan Tasat throughout this Shabbat of Song in a musical exploration of the melodies and prayer customs of communities around the world. Kabbalat Shabbat with davening and D’var Tefillah by Hazzan Tasat\, with dinner including Zemirot. \nRegister
URL:https://calendar.adasisrael.org/event/shabbat-shirah-dinner-zemirot-from-around-the-world/
LOCATION:Kay Hall
CATEGORIES:Shabbat
ATTACH;FMTTYPE=image/jpeg:https://calendar.adasisrael.org/wp-content/uploads/2024/01/Tasat-aNHwUj.tmp_.jpg
END:VEVENT
BEGIN:VEVENT
DTSTART;TZID=America/New_York:20240126T091500
DTEND;TZID=America/New_York:20240126T100000
DTSTAMP:20260421T154109
CREATED:20240124T163506Z
LAST-MODIFIED:20240126T140002Z
UID:10004230-1706260500-1706263200@calendar.adasisrael.org
SUMMARY:Gan: Shabbat Sing
DESCRIPTION:
URL:https://calendar.adasisrael.org/event/gan-shabbat-sing-13/
LOCATION:Kay Hall
ATTACH;FMTTYPE=image/jpeg:https://calendar.adasisrael.org/wp-content/uploads/2023/07/Front-Professional.jpg
END:VEVENT
BEGIN:VEVENT
DTSTART;TZID=America/New_York:20240112T200000
DTEND;TZID=America/New_York:20240112T220000
DTSTAMP:20260421T154109
CREATED:20231204T222509Z
LAST-MODIFIED:20240113T030002Z
UID:10003754-1705089600-1705096800@calendar.adasisrael.org
SUMMARY:Community Shabbat Dinner
DESCRIPTION:Calling all corners of our community for a soulful\, extravagant Shabbat festival experience. \nFull Schedule: \n5:30pm – 6:15pm: Families with Young Children Service \n5:30pm – 6:30pm: YP Happy Hour (Registration Required) \n6:00pm-6:30pm: Retired Professional Happy Hour (No Registration Required) \n6:15pm: Youth and Family Dinner (Registration Required) \n6:30pm: Musical Shabbat Service \n8pm: Shabbat Dinner Open (Registration Required)
URL:https://calendar.adasisrael.org/event/community-shabbat-dinner-3/
LOCATION:Kay Hall
CATEGORIES:Shabbat
ATTACH;FMTTYPE=image/jpeg:https://calendar.adasisrael.org/wp-content/uploads/2023/07/pexels-matheus-bertelli-7510728-X0cpfd.tmp_-scaled.jpg
END:VEVENT
BEGIN:VEVENT
DTSTART;TZID=America/New_York:20240110T183000
DTEND;TZID=America/New_York:20240110T213000
DTSTAMP:20260421T154109
CREATED:20231204T222508Z
LAST-MODIFIED:20240111T014002Z
UID:10003742-1704911400-1704922200@calendar.adasisrael.org
SUMMARY:Hesed Cooking January
DESCRIPTION:Thank you for cooking for Hesed! Whether you are cooking with us at Adas or cooking at home\, your help is greatly needed and provides food for our Adas members and our community members in need.  People depend on our food\, and we are so happy to provide it!  \nPlease register to either Cook @ Adas or Cook @ Home.
URL:https://calendar.adasisrael.org/event/hesed-cooking-january/
LOCATION:Kay Hall
CATEGORIES:Learn & Engage
ATTACH;FMTTYPE=image/jpeg:https://calendar.adasisrael.org/wp-content/uploads/2023/07/Front-Professional.jpg
END:VEVENT
BEGIN:VEVENT
DTSTART;TZID=America/New_York:20240105T190000
DTEND;TZID=America/New_York:20240105T210000
DTSTAMP:20260421T154109
CREATED:20231204T222507Z
LAST-MODIFIED:20240106T020002Z
UID:10003722-1704481200-1704488400@calendar.adasisrael.org
SUMMARY:TEM Community Shabbat Dinner
DESCRIPTION:
URL:https://calendar.adasisrael.org/event/tem-community-shabbat-dinner-2/
LOCATION:Kay Hall
ATTACH;FMTTYPE=image/jpeg:https://calendar.adasisrael.org/wp-content/uploads/2023/07/Front-Professional.jpg
END:VEVENT
BEGIN:VEVENT
DTSTART;TZID=America/New_York:20231210T083000
DTEND;TZID=America/New_York:20231210T123000
DTSTAMP:20260421T154109
CREATED:20231207T172017Z
LAST-MODIFIED:20231210T165002Z
UID:10003969-1702197000-1702211400@calendar.adasisrael.org
SUMMARY:Dan Kaufman Memorial Hanukkah Party
DESCRIPTION:
URL:https://calendar.adasisrael.org/event/dan-kaufman-memorial-hanukkah-party-2/
LOCATION:Kay Hall
ATTACH;FMTTYPE=image/jpeg:https://calendar.adasisrael.org/wp-content/uploads/2023/07/Front-Professional.jpg
END:VEVENT
BEGIN:VEVENT
DTSTART;TZID=America/New_York:20231208T183000
DTEND;TZID=America/New_York:20231208T203000
DTSTAMP:20260421T154109
CREATED:20231204T222502Z
LAST-MODIFIED:20231209T012502Z
UID:10003616-1702060200-1702067400@calendar.adasisrael.org
SUMMARY:Shabbat Friday Night Musical Services
DESCRIPTION:
URL:https://calendar.adasisrael.org/event/shabbat-friday-night-musical-services-3/
LOCATION:Kay Hall
ATTACH;FMTTYPE=image/jpeg:https://calendar.adasisrael.org/wp-content/uploads/2023/07/Front-Professional.jpg
END:VEVENT
BEGIN:VEVENT
DTSTART;TZID=America/New_York:20231206T183000
DTEND;TZID=America/New_York:20231206T213000
DTSTAMP:20260421T154109
CREATED:20231204T222502Z
LAST-MODIFIED:20231207T021502Z
UID:10003607-1701887400-1701898200@calendar.adasisrael.org
SUMMARY:Hesed Cooking December
DESCRIPTION:Thank you for cooking for Hesed! Whether you are cooking with us at Adas or cooking at home\, your help is greatly needed and provides food for our Adas members and our community members in need.  People depend on our food\, and we are so happy to provide it!  \nPlease register to either Cook @ Adas or Cook @ Home.
URL:https://calendar.adasisrael.org/event/hesed-cooking-december-2/
LOCATION:Kay Hall
CATEGORIES:Learn & Engage
ATTACH;FMTTYPE=image/jpeg:https://calendar.adasisrael.org/wp-content/uploads/2023/07/Front-Professional.jpg
END:VEVENT
BEGIN:VEVENT
DTSTART;TZID=America/New_York:20231203T130000
DTEND;TZID=America/New_York:20231203T160000
DTSTAMP:20260421T154109
CREATED:20230910T050017Z
LAST-MODIFIED:20231203T203502Z
UID:10003003-1701608400-1701619200@calendar.adasisrael.org
SUMMARY:Hesed Cooking December Family Event
DESCRIPTION:Thank you for cooking for Hesed! Whether you are cooking with us at Adas or cooking at home\, your help is greatly needed and provides food for our Adas members and our community members in need.  People depend on our food\, and we are so happy to provide it!
URL:https://calendar.adasisrael.org/event/hesed-cooking-december-family-event/
LOCATION:Kay Hall
CATEGORIES:Learn & Engage
ATTACH;FMTTYPE=image/jpeg:https://calendar.adasisrael.org/wp-content/uploads/2023/07/Front-Professional.jpg
END:VEVENT
BEGIN:VEVENT
DTSTART;TZID=America/New_York:20231201T190000
DTEND;TZID=America/New_York:20231201T210000
DTSTAMP:20260421T154109
CREATED:20230910T050016Z
LAST-MODIFIED:20231202T005002Z
UID:10002994-1701457200-1701464400@calendar.adasisrael.org
SUMMARY:TEM Community Shabbat Dinner
DESCRIPTION:
URL:https://calendar.adasisrael.org/event/tem-community-shabbat-dinner-4/
LOCATION:Kay Hall
ATTACH;FMTTYPE=image/jpeg:https://calendar.adasisrael.org/wp-content/uploads/2023/07/Front-Professional.jpg
END:VEVENT
BEGIN:VEVENT
DTSTART;TZID=America/New_York:20231117T184500
DTEND;TZID=America/New_York:20231117T203000
DTSTAMP:20260421T154109
CREATED:20230910T050014Z
LAST-MODIFIED:20231118T013002Z
UID:10002932-1700246700-1700253000@calendar.adasisrael.org
SUMMARY:Lechu Naranana Dinner
DESCRIPTION:
URL:https://calendar.adasisrael.org/event/lechu-naranana-dinner-2/
LOCATION:Kay Hall
ATTACH;FMTTYPE=image/jpeg:https://calendar.adasisrael.org/wp-content/uploads/2023/07/Front-Professional.jpg
END:VEVENT
BEGIN:VEVENT
DTSTART;TZID=America/New_York:20231110T183000
DTEND;TZID=America/New_York:20231110T200000
DTSTAMP:20260421T154109
CREATED:20230910T050012Z
LAST-MODIFIED:20231111T005501Z
UID:10002889-1699641000-1699646400@calendar.adasisrael.org
SUMMARY:Shabbat Friday Night Musical Services
DESCRIPTION:
URL:https://calendar.adasisrael.org/event/shabbat-friday-night-musical-services-2/
LOCATION:Kay Hall
ATTACH;FMTTYPE=image/jpeg:https://calendar.adasisrael.org/wp-content/uploads/2023/07/Front-Professional.jpg
END:VEVENT
BEGIN:VEVENT
DTSTART;TZID=America/New_York:20231108T183000
DTEND;TZID=America/New_York:20231108T213000
DTSTAMP:20260421T154109
CREATED:20230910T050012Z
LAST-MODIFIED:20231109T021002Z
UID:10002876-1699468200-1699479000@calendar.adasisrael.org
SUMMARY:Hesed Cooking November
DESCRIPTION:Thank you for cooking for Hesed! Whether you are cooking with us at Adas or cooking at home\, your help is greatly needed and provides food for our Adas members and our community members in need.  People depend on our food\, and we are so happy to provide it!  \nPlease register to either Cook @ Adas or Cook @ Home.
URL:https://calendar.adasisrael.org/event/hesed-cooking-november/
LOCATION:Kay Hall
CATEGORIES:Learn & Engage
ATTACH;FMTTYPE=image/jpeg:https://calendar.adasisrael.org/wp-content/uploads/2023/07/Front-Professional.jpg
END:VEVENT
BEGIN:VEVENT
DTSTART;TZID=America/New_York:20231027T180000
DTEND;TZID=America/New_York:20231027T190000
DTSTAMP:20260421T154109
CREATED:20230910T050009Z
LAST-MODIFIED:20231027T221502Z
UID:10002816-1698429600-1698433200@calendar.adasisrael.org
SUMMARY:Kabbalat Shabbat  Services
DESCRIPTION:Join us as we usher in Shabbat together as a community. Pray and sing with us at this passionate\, joyful\, and spiritual service. Join us in person or virtually at facebook.com/adasisraeldc.
URL:https://calendar.adasisrael.org/event/kabbalat-shabbat-services-4/
LOCATION:Kay Hall
ATTACH;FMTTYPE=image/jpeg:https://calendar.adasisrael.org/wp-content/uploads/2023/07/600x400-banjo-iLPlr4.tmp_.jpg
END:VEVENT
BEGIN:VEVENT
DTSTART;TZID=America/New_York:20231020T184500
DTEND;TZID=America/New_York:20231020T200000
DTSTAMP:20260421T154109
CREATED:20231018T202017Z
LAST-MODIFIED:20231020T235501Z
UID:10003248-1697827500-1697832000@calendar.adasisrael.org
SUMMARY:Lechu Naranana Dinner
DESCRIPTION:
URL:https://calendar.adasisrael.org/event/lechu-naranana-dinner/
LOCATION:Kay Hall
ATTACH;FMTTYPE=image/jpeg:https://calendar.adasisrael.org/wp-content/uploads/2023/07/Front-Professional.jpg
END:VEVENT
BEGIN:VEVENT
DTSTART;TZID=America/New_York:20231013T183000
DTEND;TZID=America/New_York:20231013T203000
DTSTAMP:20260421T154109
CREATED:20230910T050006Z
LAST-MODIFIED:20231014T002502Z
UID:10002742-1697221800-1697229000@calendar.adasisrael.org
SUMMARY:Shabbat Friday Night Musical Services
DESCRIPTION:
URL:https://calendar.adasisrael.org/event/shabbat-friday-night-musical-services/
LOCATION:Kay Hall
ATTACH;FMTTYPE=image/jpeg:https://calendar.adasisrael.org/wp-content/uploads/2023/07/Front-Professional.jpg
END:VEVENT
BEGIN:VEVENT
DTSTART;TZID=America/New_York:20231011T183000
DTEND;TZID=America/New_York:20231011T213000
DTSTAMP:20260421T154109
CREATED:20230910T050006Z
LAST-MODIFIED:20231012T005502Z
UID:10002731-1697049000-1697059800@calendar.adasisrael.org
SUMMARY:Hesed Cooking October
DESCRIPTION:Thank you for cooking for Hesed! Whether you are cooking with us at Adas or cooking at home\, your help is greatly needed and provides food for our Adas members and our community members in need.  People depend on our food\, and we are so happy to provide it!  \nPlease register to either Cook @ Adas or Cook @ Home.
URL:https://calendar.adasisrael.org/event/hesed-cooking-october-2/
LOCATION:Kay Hall
CATEGORIES:Learn & Engage
ATTACH;FMTTYPE=image/jpeg:https://calendar.adasisrael.org/wp-content/uploads/2023/07/Front-Professional.jpg
END:VEVENT
BEGIN:VEVENT
DTSTART;TZID=America/New_York:20231010T190000
DTEND;TZID=America/New_York:20231010T223000
DTSTAMP:20260421T154109
CREATED:20231008T212502Z
LAST-MODIFIED:20231011T014502Z
UID:10003193-1696964400-1696977000@calendar.adasisrael.org
SUMMARY:DC-Area Vigil for Israel
DESCRIPTION:
URL:https://calendar.adasisrael.org/event/dc-area-vigil-for-israel-3/
LOCATION:Kay Hall
ATTACH;FMTTYPE=image/jpeg:https://calendar.adasisrael.org/wp-content/uploads/2023/07/Front-Professional.jpg
END:VEVENT
BEGIN:VEVENT
DTSTART;TZID=America/New_York:20230910T140000
DTEND;TZID=America/New_York:20230910T170000
DTSTAMP:20260421T154109
CREATED:20230910T050002Z
LAST-MODIFIED:20230910T201002Z
UID:10002613-1694354400-1694365200@calendar.adasisrael.org
SUMMARY:HHD Volunteer Orientation & CPR
DESCRIPTION:
URL:https://calendar.adasisrael.org/event/hhd-volunteer-orientation-cpr/
LOCATION:Kay Hall
ATTACH;FMTTYPE=image/jpeg:https://calendar.adasisrael.org/wp-content/uploads/2023/07/Front-Professional.jpg
END:VEVENT
BEGIN:VEVENT
DTSTART;TZID=America/New_York:20230820T130000
DTEND;TZID=America/New_York:20230820T170000
DTSTAMP:20260421T154109
CREATED:20230712T211451Z
LAST-MODIFIED:20230820T201002Z
UID:10002016-1692536400-1692550800@calendar.adasisrael.org
SUMMARY:Hesed Honey Cake Bake-A-Thon
DESCRIPTION:
URL:https://calendar.adasisrael.org/event/hesed-honey-cake-bake-a-thon-2/
LOCATION:Kay Hall
ATTACH;FMTTYPE=image/jpeg:https://calendar.adasisrael.org/wp-content/uploads/2023/07/Front-Professional.jpg
END:VEVENT
BEGIN:VEVENT
DTSTART;TZID=America/New_York:20230803T090000
DTEND;TZID=America/New_York:20230803T113000
DTSTAMP:20260421T154109
CREATED:20230801T192004Z
LAST-MODIFIED:20230803T152502Z
UID:10002328-1691053200-1691062200@calendar.adasisrael.org
SUMMARY:Gan: Summer Special Event
DESCRIPTION:
URL:https://calendar.adasisrael.org/event/gan-summer-special-event-2/
LOCATION:Kay Hall
ATTACH;FMTTYPE=image/jpeg:https://calendar.adasisrael.org/wp-content/uploads/2023/07/Front-Professional.jpg
END:VEVENT
END:VCALENDAR