BEGIN:VCALENDAR
VERSION:2.0
PRODID:-//Adas Israel Congregation - ECPv6.2.9//NONSGML v1.0//EN
CALSCALE:GREGORIAN
METHOD:PUBLISH
X-ORIGINAL-URL:https://calendar.adasisrael.org
X-WR-CALDESC:Events for Adas Israel Congregation
REFRESH-INTERVAL;VALUE=DURATION:PT1H
X-Robots-Tag:noindex
X-PUBLISHED-TTL:PT1H
BEGIN:VTIMEZONE
TZID:America/New_York
BEGIN:DAYLIGHT
TZOFFSETFROM:-0500
TZOFFSETTO:-0400
TZNAME:EDT
DTSTART:20230312T070000
END:DAYLIGHT
BEGIN:STANDARD
TZOFFSETFROM:-0400
TZOFFSETTO:-0500
TZNAME:EST
DTSTART:20231105T060000
END:STANDARD
BEGIN:DAYLIGHT
TZOFFSETFROM:-0500
TZOFFSETTO:-0400
TZNAME:EDT
DTSTART:20240310T070000
END:DAYLIGHT
BEGIN:STANDARD
TZOFFSETFROM:-0400
TZOFFSETTO:-0500
TZNAME:EST
DTSTART:20241103T060000
END:STANDARD
END:VTIMEZONE
BEGIN:VEVENT
DTSTART;TZID=America/New_York:20240913T200000
DTEND;TZID=America/New_York:20240913T213000
DTSTAMP:20260421T140920
CREATED:20240724T162508Z
LAST-MODIFIED:20240914T002502Z
UID:10005228-1726257600-1726263000@calendar.adasisrael.org
SUMMARY:Friday Night Festival Community Dinner
DESCRIPTION:Register
URL:https://calendar.adasisrael.org/event/friday-night-festival-community-dinner/
LOCATION:Kay Hall
CATEGORIES:Shabbat
ATTACH;FMTTYPE=image/jpeg:https://calendar.adasisrael.org/wp-content/uploads/2023/07/Front-Professional.jpg
END:VEVENT
BEGIN:VEVENT
DTSTART;TZID=America/New_York:20240906T193000
DTEND;TZID=America/New_York:20240906T210000
DTSTAMP:20260421T140920
CREATED:20240708T212255Z
LAST-MODIFIED:20240907T004001Z
UID:10005176-1725651000-1725656400@calendar.adasisrael.org
SUMMARY:Traditional Egalitarian Minyan Kabbalat Community Shabbat Dinner
DESCRIPTION:Register
URL:https://calendar.adasisrael.org/event/traditional-egalitarian-minyan-kabbalat-community-shabbat-dinner/
LOCATION:Kay Hall
CATEGORIES:Shabbat
ATTACH;FMTTYPE=image/jpeg:https://calendar.adasisrael.org/wp-content/uploads/2023/07/Front-Professional.jpg
END:VEVENT
BEGIN:VEVENT
DTSTART;TZID=America/New_York:20240825T130000
DTEND;TZID=America/New_York:20240825T160000
DTSTAMP:20260421T140920
CREATED:20240606T175351Z
LAST-MODIFIED:20240825T185502Z
UID:10005030-1724590800-1724601600@calendar.adasisrael.org
SUMMARY:Hesed Honey Bake Cooking
DESCRIPTION:Please join us for our annual Hesed Honey Cake Bake-A-Thon! These delicious cakes will be delivered to our veteran Adas members before Rosh Hashanah! Thank you for helping our community begin their 5785 in a sweet and delicious way! \nRegister
URL:https://calendar.adasisrael.org/event/hesed-honey-bake-cooking/
LOCATION:Kay Hall
CATEGORIES:Learn & Engage
ATTACH;FMTTYPE=image/jpeg:https://calendar.adasisrael.org/wp-content/uploads/2024/08/hesedbake-nBESCl.tmp_.jpg
END:VEVENT
BEGIN:VEVENT
DTSTART;TZID=America/New_York:20240613T120000
DTEND;TZID=America/New_York:20240613T140000
DTSTAMP:20260421T140920
CREATED:20240605T180541Z
LAST-MODIFIED:20240613T175502Z
UID:10005027-1718280000-1718287200@calendar.adasisrael.org
SUMMARY:Shavuot Kiddush
DESCRIPTION:
URL:https://calendar.adasisrael.org/event/shavuot-kiddush-2/
LOCATION:Kay Hall
ATTACH;FMTTYPE=image/jpeg:https://calendar.adasisrael.org/wp-content/uploads/2023/07/Front-Professional.jpg
END:VEVENT
BEGIN:VEVENT
DTSTART;TZID=America/New_York:20240612T120000
DTEND;TZID=America/New_York:20240612T140000
DTSTAMP:20260421T140920
CREATED:20240605T180541Z
LAST-MODIFIED:20240611T224002Z
UID:10005026-1718193600-1718200800@calendar.adasisrael.org
SUMMARY:Shavuot Kiddush
DESCRIPTION:
URL:https://calendar.adasisrael.org/event/shavuot-kiddush/
LOCATION:Kay Hall
ATTACH;FMTTYPE=image/jpeg:https://calendar.adasisrael.org/wp-content/uploads/2023/07/Front-Professional.jpg
END:VEVENT
BEGIN:VEVENT
DTSTART;TZID=America/New_York:20240607T183000
DTEND;TZID=America/New_York:20240607T203000
DTSTAMP:20260421T140920
CREATED:20240531T075040Z
LAST-MODIFIED:20240608T002501Z
UID:10004806-1717785000-1717792200@calendar.adasisrael.org
SUMMARY:Shabbat Friday Night Musical Services
DESCRIPTION:
URL:https://calendar.adasisrael.org/event/shabbat-friday-night-musical-services-9/
LOCATION:Kay Hall
CATEGORIES:Shabbat
ATTACH;FMTTYPE=image/jpeg:https://calendar.adasisrael.org/wp-content/uploads/2023/07/Front-Professional.jpg
END:VEVENT
BEGIN:VEVENT
DTSTART;TZID=America/New_York:20240607T173000
DTEND;TZID=America/New_York:20240607T181500
DTSTAMP:20260421T140920
CREATED:20240531T075040Z
LAST-MODIFIED:20240607T212502Z
UID:10004804-1717781400-1717784100@calendar.adasisrael.org
SUMMARY:Families With Young Children Shabbat Service
DESCRIPTION:
URL:https://calendar.adasisrael.org/event/families-with-young-children-shabbat-service-dinner-9/
LOCATION:Kay Hall
ATTACH;FMTTYPE=image/jpeg:https://calendar.adasisrael.org/wp-content/uploads/2023/07/Front-Professional.jpg
END:VEVENT
BEGIN:VEVENT
DTSTART;TZID=America/New_York:20240605T183000
DTEND;TZID=America/New_York:20240605T213000
DTSTAMP:20260421T140920
CREATED:20240531T075029Z
LAST-MODIFIED:20240606T005502Z
UID:10004794-1717612200-1717623000@calendar.adasisrael.org
SUMMARY:Hesed Cooking June
DESCRIPTION:Thank you for cooking for Hesed! Whether you are cooking with us at Adas or cooking at home\, your help is greatly needed and provides food for our Adas members and our community members in need.  People depend on our food\, and we are so happy to provide it!  \nPlease register to either Cook @ Adas or Cook @ Home. \nRegister
URL:https://calendar.adasisrael.org/event/hesed-cooking-june/
LOCATION:Kay Hall
CATEGORIES:Learn & Engage
ATTACH;FMTTYPE=image/jpeg:https://calendar.adasisrael.org/wp-content/uploads/2023/07/Front-Professional.jpg
END:VEVENT
BEGIN:VEVENT
DTSTART;TZID=America/New_York:20240602T180000
DTEND;TZID=America/New_York:20240602T190000
DTSTAMP:20260421T140920
CREATED:20240531T075018Z
LAST-MODIFIED:20240602T225502Z
UID:10004782-1717351200-1717354800@calendar.adasisrael.org
SUMMARY:Kramer Concert Reception
DESCRIPTION:Richard L. Kramer Family Concert Series \nAdas Israel proudly presents Cantor Meir Finkelstein\, featured in a concert of his own compositions.   \nMeir changed the course of contemporary synagogue music with his unique blend of Hollywood\, stage\, and bima. His liturgical compositions\, which number over 150\, are sung all over the world\, with L’dor Vador  and V’al Kulam as his most famous settings.  Meir’s compositional voice is unique – born in Israel as the son of a cantor\, he became the youngest cantor in Europe at age 14.  He later served Sinai Temple in Los Angeles for 18 years\, at the same time enjoying a career as an award winning movie and television composer.  Meir successfully blends these musical worlds into word-painting\, inspiring song. \nCantor Finkelstein will be joined on vocals by Cantor Faith Steinsnyder\, Cantor Marcus Feldman\, and our own Cantor Arianne Brown\, accompanied by acclaimed Jewish musician Aryell Cohen.  Special appearances include the Children’s Chorus of Washington as well as Adas Israel’s own Kolot and Flash Choir.  Following an afternoon of glorious music\, you’re warmly invited to an hors d’ouevres and ice cream reception \nRegister
URL:https://calendar.adasisrael.org/event/kramer-concert-reception/
LOCATION:Kay Hall
ATTACH;FMTTYPE=image/png:https://calendar.adasisrael.org/wp-content/uploads/2024/05/Screenshot2023-10-05at12.28.29PM-bvfvD6.tmp_.png
END:VEVENT
BEGIN:VEVENT
DTSTART;TZID=America/New_York:20240531T193000
DTEND;TZID=America/New_York:20240531T213000
DTSTAMP:20260421T140920
CREATED:20240531T075006Z
LAST-MODIFIED:20240601T010002Z
UID:10004773-1717183800-1717191000@calendar.adasisrael.org
SUMMARY:TEM Community Shabbat Dinner
DESCRIPTION:Register
URL:https://calendar.adasisrael.org/event/tem-community-shabbat-dinner-13/
LOCATION:Kay Hall
CATEGORIES:Shabbat
ATTACH;FMTTYPE=image/jpeg:https://calendar.adasisrael.org/wp-content/uploads/2023/07/Front-Professional.jpg
END:VEVENT
BEGIN:VEVENT
DTSTART;TZID=America/New_York:20240517T190000
DTEND;TZID=America/New_York:20240517T204500
DTSTAMP:20260421T140920
CREATED:20240218T054016Z
LAST-MODIFIED:20240517T234502Z
UID:10004405-1715972400-1715978700@calendar.adasisrael.org
SUMMARY:Lechu Naranana Dinner
DESCRIPTION:
URL:https://calendar.adasisrael.org/event/lechu-naranana-dinner-5/
LOCATION:Kay Hall
CATEGORIES:Shabbat
ATTACH;FMTTYPE=image/jpeg:https://calendar.adasisrael.org/wp-content/uploads/2023/07/Front-Professional.jpg
END:VEVENT
BEGIN:VEVENT
DTSTART;TZID=America/New_York:20240505T093000
DTEND;TZID=America/New_York:20240505T113000
DTSTAMP:20260421T140920
CREATED:20240206T062518Z
LAST-MODIFIED:20240505T152506Z
UID:10004346-1714901400-1714908600@calendar.adasisrael.org
SUMMARY:3rd Grade Siddur Decorating / Parent Blessing Workshop
DESCRIPTION:
URL:https://calendar.adasisrael.org/event/3rd-grade-siddur-decorating-parent-blessing-workshop-2/
LOCATION:Kay Hall
ATTACH;FMTTYPE=image/jpeg:https://calendar.adasisrael.org/wp-content/uploads/2023/07/Front-Professional.jpg
END:VEVENT
BEGIN:VEVENT
DTSTART;TZID=America/New_York:20240503T193000
DTEND;TZID=America/New_York:20240503T213000
DTSTAMP:20260421T140920
CREATED:20240204T055518Z
LAST-MODIFIED:20240504T004502Z
UID:10004334-1714764600-1714771800@calendar.adasisrael.org
SUMMARY:TEM Community Shabbat Dinner
DESCRIPTION:Register
URL:https://calendar.adasisrael.org/event/tem-community-shabbat-dinner-8/
LOCATION:Kay Hall
CATEGORIES:Shabbat
ATTACH;FMTTYPE=image/jpeg:https://calendar.adasisrael.org/wp-content/uploads/2023/07/Front-Professional.jpg
END:VEVENT
BEGIN:VEVENT
DTSTART;TZID=America/New_York:20240422T180000
DTEND;TZID=America/New_York:20240422T220000
DTSTAMP:20260421T140920
CREATED:20240304T220943Z
LAST-MODIFIED:20240423T011002Z
UID:10004484-1713808800-1713823200@calendar.adasisrael.org
SUMMARY:Community Passover Seder
DESCRIPTION:Be prepared for thought-provoking discussion\, joyful song and inspired traditions! This multi-faceted evening will include insights from world-renowned scholars\, small groups for discussion\, socializing\, and enjoying the meal together. We’ll capture all the most important parts of the Haggadah together\, while also giving each participant space to bring their own experiences into the Seder.
URL:https://calendar.adasisrael.org/event/community-passover-seder/
LOCATION:Kay Hall
ATTACH;FMTTYPE=image/jpeg:https://calendar.adasisrael.org/wp-content/uploads/2024/04/seder.2-600x400-ZlTtnI.tmp_.jpg
END:VEVENT
BEGIN:VEVENT
DTSTART;TZID=America/New_York:20240409T180000
DTEND;TZID=America/New_York:20240409T190000
DTSTAMP:20260421T140920
CREATED:20240405T133527Z
LAST-MODIFIED:20240409T221502Z
UID:10004631-1712685600-1712689200@calendar.adasisrael.org
SUMMARY:Covering Their Tracks
DESCRIPTION:Please join us for a dinner and discussion with Holocaust survivor Rosette Goldstein and Adas member\, Ma’alot parent\, and pro bono lawyer Rafi Prober about the role they played in the pursuit of justice from SNCF\, France’s national\, state-owned railway\, for transporting 76\,000 Jews and thousands of others (including U.S. pilots shot down over France) toward concentration camps during the Holocaust. SNCF was paid per head and per kilometer to do so\, and for decades refused to accept accountability. In what would become a front-page\, international campaign for accountability that set off a diplomatic crisis that rose to the highest levels of the American and French governments\, this campaign for justice was waged in the courtroom\, in state legislatures throughout the country\, in the halls of Congress\, in diplomatic negotiations\, in corporate boardrooms and in the court of public opinion\, ultimately resulting in an historic 2014 agreement between the United States and France in which France funded a more-than-$60 million compensation fund for the victims and their families.  While no settlement could ever fully address these atrocities\, this was an unprecedented and improbable settlement with the United States’ oldest ally\, and ultimately helped pave the way for President Macron to deliver France’s most public and fulsome acknowledgment of the role it played in the Holocaust. In collaboration with Tablet Studios\, Rafi has helped to create a five-part documentary podcast that tells this extraordinary story\, available here – Covering Their Tracks. \nRegister
URL:https://calendar.adasisrael.org/event/covering-their-tracks/
LOCATION:Kay Hall
CATEGORIES:Learn & Engage
ATTACH;FMTTYPE=image/jpeg:https://calendar.adasisrael.org/wp-content/uploads/2023/07/Front-Professional.jpg
END:VEVENT
BEGIN:VEVENT
DTSTART;TZID=America/New_York:20240405T193000
DTEND;TZID=America/New_York:20240405T213000
DTSTAMP:20260421T140920
CREATED:20240106T054011Z
LAST-MODIFIED:20240406T012502Z
UID:10004130-1712345400-1712352600@calendar.adasisrael.org
SUMMARY:TEM Community Shabbat Dinner
DESCRIPTION:Register
URL:https://calendar.adasisrael.org/event/tem-community-shabbat-dinner-11/
LOCATION:Kay Hall
CATEGORIES:Shabbat
ATTACH;FMTTYPE=image/jpeg:https://calendar.adasisrael.org/wp-content/uploads/2023/07/Front-Professional.jpg
END:VEVENT
BEGIN:VEVENT
DTSTART;TZID=America/New_York:20240320T190000
DTEND;TZID=America/New_York:20240320T213000
DTSTAMP:20260421T140920
CREATED:20240228T170703Z
LAST-MODIFIED:20240321T010502Z
UID:10004451-1710961200-1710970200@calendar.adasisrael.org
SUMMARY:Jewish Study Center Latke Hamentaschen Debate
DESCRIPTION:
URL:https://calendar.adasisrael.org/event/jewish-study-center-latke-hamentaschen-debate/
LOCATION:Kay Hall
ATTACH;FMTTYPE=image/jpeg:https://calendar.adasisrael.org/wp-content/uploads/2023/07/Front-Professional.jpg
END:VEVENT
BEGIN:VEVENT
DTSTART;TZID=America/New_York:20240315T184500
DTEND;TZID=America/New_York:20240315T203000
DTSTAMP:20260421T140920
CREATED:20240312T192018Z
LAST-MODIFIED:20240315T235502Z
UID:10004533-1710528300-1710534600@calendar.adasisrael.org
SUMMARY:Lechu Naranana Dinner
DESCRIPTION:
URL:https://calendar.adasisrael.org/event/lechu-naranana-dinner-4/
LOCATION:Kay Hall
ATTACH;FMTTYPE=image/jpeg:https://calendar.adasisrael.org/wp-content/uploads/2023/07/Front-Professional.jpg
END:VEVENT
BEGIN:VEVENT
DTSTART;TZID=America/New_York:20240306T193000
DTEND;TZID=America/New_York:20240306T210000
DTSTAMP:20260421T140920
CREATED:20231208T064513Z
LAST-MODIFIED:20240307T011002Z
UID:10003972-1709753400-1709758800@calendar.adasisrael.org
SUMMARY:MakomDC: Intro to Theology with Rabbi Krinsky
DESCRIPTION:This series will explore some of the major theologies and theologians from across Jewish tradition and expression. Beginning with biblical theologies and going through the modern era\, we will explore prominent thinkers and ideas and evaluate how those philosophies do or do not resonate with us individually and collectively. \nRegister
URL:https://calendar.adasisrael.org/event/makomdc-intro-to-theology-with-rabbi-krinsky-3/
LOCATION:Kay Hall
ATTACH;FMTTYPE=image/jpeg:https://calendar.adasisrael.org/wp-content/uploads/2024/01/COVER-Rabbi-Sarah-Krinsky-Kristina-Sherk-e1672844539317-s0VaMT.tmp_.jpg
END:VEVENT
BEGIN:VEVENT
DTSTART;TZID=America/New_York:20240301T190000
DTEND;TZID=America/New_York:20240301T210000
DTSTAMP:20260421T140920
CREATED:20231204T222519Z
LAST-MODIFIED:20240302T012502Z
UID:10003948-1709319600-1709326800@calendar.adasisrael.org
SUMMARY:TEM Community Shabbat Dinner
DESCRIPTION:Register
URL:https://calendar.adasisrael.org/event/tem-community-shabbat-dinner-9/
LOCATION:Kay Hall
CATEGORIES:Shabbat
ATTACH;FMTTYPE=image/jpeg:https://calendar.adasisrael.org/wp-content/uploads/2023/07/Front-Professional.jpg
END:VEVENT
BEGIN:VEVENT
DTSTART;TZID=America/New_York:20240202T190000
DTEND;TZID=America/New_York:20240202T210000
DTSTAMP:20260421T140920
CREATED:20231204T222513Z
LAST-MODIFIED:20240203T012502Z
UID:10003839-1706900400-1706907600@calendar.adasisrael.org
SUMMARY:TEM Community Shabbat Dinner
DESCRIPTION:Register
URL:https://calendar.adasisrael.org/event/tem-community-shabbat-dinner-7/
LOCATION:Kay Hall
CATEGORIES:Shabbat
ATTACH;FMTTYPE=image/jpeg:https://calendar.adasisrael.org/wp-content/uploads/2023/07/Front-Professional.jpg
END:VEVENT
BEGIN:VEVENT
DTSTART;TZID=America/New_York:20240126T190000
DTEND;TZID=America/New_York:20240126T210000
DTSTAMP:20260421T140920
CREATED:20231204T222512Z
LAST-MODIFIED:20240127T013502Z
UID:10003813-1706295600-1706302800@calendar.adasisrael.org
SUMMARY:Shabbat Shirah Dinner-Zemirot from Around the World
DESCRIPTION:Join Hazzan Tasat throughout this Shabbat of Song in a musical exploration of the melodies and prayer customs of communities around the world. Kabbalat Shabbat with davening and D’var Tefillah by Hazzan Tasat\, with dinner including Zemirot. \nRegister
URL:https://calendar.adasisrael.org/event/shabbat-shirah-dinner-zemirot-from-around-the-world/
LOCATION:Kay Hall
CATEGORIES:Shabbat
ATTACH;FMTTYPE=image/jpeg:https://calendar.adasisrael.org/wp-content/uploads/2024/01/Tasat-aNHwUj.tmp_.jpg
END:VEVENT
BEGIN:VEVENT
DTSTART;TZID=America/New_York:20240126T091500
DTEND;TZID=America/New_York:20240126T100000
DTSTAMP:20260421T140920
CREATED:20240124T163506Z
LAST-MODIFIED:20240126T140002Z
UID:10004230-1706260500-1706263200@calendar.adasisrael.org
SUMMARY:Gan: Shabbat Sing
DESCRIPTION:
URL:https://calendar.adasisrael.org/event/gan-shabbat-sing-13/
LOCATION:Kay Hall
ATTACH;FMTTYPE=image/jpeg:https://calendar.adasisrael.org/wp-content/uploads/2023/07/Front-Professional.jpg
END:VEVENT
BEGIN:VEVENT
DTSTART;TZID=America/New_York:20240112T200000
DTEND;TZID=America/New_York:20240112T220000
DTSTAMP:20260421T140920
CREATED:20231204T222509Z
LAST-MODIFIED:20240113T030002Z
UID:10003754-1705089600-1705096800@calendar.adasisrael.org
SUMMARY:Community Shabbat Dinner
DESCRIPTION:Calling all corners of our community for a soulful\, extravagant Shabbat festival experience. \nFull Schedule: \n5:30pm – 6:15pm: Families with Young Children Service \n5:30pm – 6:30pm: YP Happy Hour (Registration Required) \n6:00pm-6:30pm: Retired Professional Happy Hour (No Registration Required) \n6:15pm: Youth and Family Dinner (Registration Required) \n6:30pm: Musical Shabbat Service \n8pm: Shabbat Dinner Open (Registration Required)
URL:https://calendar.adasisrael.org/event/community-shabbat-dinner-3/
LOCATION:Kay Hall
CATEGORIES:Shabbat
ATTACH;FMTTYPE=image/jpeg:https://calendar.adasisrael.org/wp-content/uploads/2023/07/pexels-matheus-bertelli-7510728-X0cpfd.tmp_-scaled.jpg
END:VEVENT
BEGIN:VEVENT
DTSTART;TZID=America/New_York:20240110T183000
DTEND;TZID=America/New_York:20240110T213000
DTSTAMP:20260421T140920
CREATED:20231204T222508Z
LAST-MODIFIED:20240111T014002Z
UID:10003742-1704911400-1704922200@calendar.adasisrael.org
SUMMARY:Hesed Cooking January
DESCRIPTION:Thank you for cooking for Hesed! Whether you are cooking with us at Adas or cooking at home\, your help is greatly needed and provides food for our Adas members and our community members in need.  People depend on our food\, and we are so happy to provide it!  \nPlease register to either Cook @ Adas or Cook @ Home.
URL:https://calendar.adasisrael.org/event/hesed-cooking-january/
LOCATION:Kay Hall
CATEGORIES:Learn & Engage
ATTACH;FMTTYPE=image/jpeg:https://calendar.adasisrael.org/wp-content/uploads/2023/07/Front-Professional.jpg
END:VEVENT
BEGIN:VEVENT
DTSTART;TZID=America/New_York:20240105T190000
DTEND;TZID=America/New_York:20240105T210000
DTSTAMP:20260421T140920
CREATED:20231204T222507Z
LAST-MODIFIED:20240106T020002Z
UID:10003722-1704481200-1704488400@calendar.adasisrael.org
SUMMARY:TEM Community Shabbat Dinner
DESCRIPTION:
URL:https://calendar.adasisrael.org/event/tem-community-shabbat-dinner-2/
LOCATION:Kay Hall
ATTACH;FMTTYPE=image/jpeg:https://calendar.adasisrael.org/wp-content/uploads/2023/07/Front-Professional.jpg
END:VEVENT
BEGIN:VEVENT
DTSTART;TZID=America/New_York:20231210T083000
DTEND;TZID=America/New_York:20231210T123000
DTSTAMP:20260421T140920
CREATED:20231207T172017Z
LAST-MODIFIED:20231210T165002Z
UID:10003969-1702197000-1702211400@calendar.adasisrael.org
SUMMARY:Dan Kaufman Memorial Hanukkah Party
DESCRIPTION:
URL:https://calendar.adasisrael.org/event/dan-kaufman-memorial-hanukkah-party-2/
LOCATION:Kay Hall
ATTACH;FMTTYPE=image/jpeg:https://calendar.adasisrael.org/wp-content/uploads/2023/07/Front-Professional.jpg
END:VEVENT
BEGIN:VEVENT
DTSTART;TZID=America/New_York:20231208T183000
DTEND;TZID=America/New_York:20231208T203000
DTSTAMP:20260421T140920
CREATED:20231204T222502Z
LAST-MODIFIED:20231209T012502Z
UID:10003616-1702060200-1702067400@calendar.adasisrael.org
SUMMARY:Shabbat Friday Night Musical Services
DESCRIPTION:
URL:https://calendar.adasisrael.org/event/shabbat-friday-night-musical-services-3/
LOCATION:Kay Hall
ATTACH;FMTTYPE=image/jpeg:https://calendar.adasisrael.org/wp-content/uploads/2023/07/Front-Professional.jpg
END:VEVENT
BEGIN:VEVENT
DTSTART;TZID=America/New_York:20231206T183000
DTEND;TZID=America/New_York:20231206T213000
DTSTAMP:20260421T140920
CREATED:20231204T222502Z
LAST-MODIFIED:20231207T021502Z
UID:10003607-1701887400-1701898200@calendar.adasisrael.org
SUMMARY:Hesed Cooking December
DESCRIPTION:Thank you for cooking for Hesed! Whether you are cooking with us at Adas or cooking at home\, your help is greatly needed and provides food for our Adas members and our community members in need.  People depend on our food\, and we are so happy to provide it!  \nPlease register to either Cook @ Adas or Cook @ Home.
URL:https://calendar.adasisrael.org/event/hesed-cooking-december-2/
LOCATION:Kay Hall
CATEGORIES:Learn & Engage
ATTACH;FMTTYPE=image/jpeg:https://calendar.adasisrael.org/wp-content/uploads/2023/07/Front-Professional.jpg
END:VEVENT
BEGIN:VEVENT
DTSTART;TZID=America/New_York:20231203T130000
DTEND;TZID=America/New_York:20231203T160000
DTSTAMP:20260421T140920
CREATED:20230910T050017Z
LAST-MODIFIED:20231203T203502Z
UID:10003003-1701608400-1701619200@calendar.adasisrael.org
SUMMARY:Hesed Cooking December Family Event
DESCRIPTION:Thank you for cooking for Hesed! Whether you are cooking with us at Adas or cooking at home\, your help is greatly needed and provides food for our Adas members and our community members in need.  People depend on our food\, and we are so happy to provide it!
URL:https://calendar.adasisrael.org/event/hesed-cooking-december-family-event/
LOCATION:Kay Hall
CATEGORIES:Learn & Engage
ATTACH;FMTTYPE=image/jpeg:https://calendar.adasisrael.org/wp-content/uploads/2023/07/Front-Professional.jpg
END:VEVENT
END:VCALENDAR