BEGIN:VCALENDAR
VERSION:2.0
PRODID:-//Adas Israel Congregation - ECPv6.2.9//NONSGML v1.0//EN
CALSCALE:GREGORIAN
METHOD:PUBLISH
X-WR-CALNAME:Adas Israel Congregation
X-ORIGINAL-URL:https://calendar.adasisrael.org
X-WR-CALDESC:Events for Adas Israel Congregation
REFRESH-INTERVAL;VALUE=DURATION:PT1H
X-Robots-Tag:noindex
X-PUBLISHED-TTL:PT1H
BEGIN:VTIMEZONE
TZID:America/New_York
BEGIN:DAYLIGHT
TZOFFSETFROM:-0500
TZOFFSETTO:-0400
TZNAME:EDT
DTSTART:20240310T070000
END:DAYLIGHT
BEGIN:STANDARD
TZOFFSETFROM:-0400
TZOFFSETTO:-0500
TZNAME:EST
DTSTART:20241103T060000
END:STANDARD
BEGIN:DAYLIGHT
TZOFFSETFROM:-0500
TZOFFSETTO:-0400
TZNAME:EDT
DTSTART:20250309T070000
END:DAYLIGHT
BEGIN:STANDARD
TZOFFSETFROM:-0400
TZOFFSETTO:-0500
TZNAME:EST
DTSTART:20251102T060000
END:STANDARD
END:VTIMEZONE
BEGIN:VEVENT
DTSTART;TZID=America/New_York:20250608T110000
DTEND;TZID=America/New_York:20250608T130000
DTSTAMP:20260421T111614
CREATED:20250309T060018Z
LAST-MODIFIED:20250608T160003Z
UID:10007556-1749380400-1749387600@calendar.adasisrael.org
SUMMARY:Sisterhood Board Meeting and General Membership
DESCRIPTION:
URL:https://calendar.adasisrael.org/event/sisterhood-board-meeting-and-general-membership/
LOCATION:Kay Hall
ATTACH;FMTTYPE=image/jpeg:https://calendar.adasisrael.org/wp-content/uploads/2023/07/Front-Professional.jpg
END:VEVENT
BEGIN:VEVENT
DTSTART;TZID=America/New_York:20250606T190000
DTEND;TZID=America/New_York:20250606T213000
DTSTAMP:20260421T111614
CREATED:20250307T055518Z
LAST-MODIFIED:20250607T002502Z
UID:10007546-1749236400-1749245400@calendar.adasisrael.org
SUMMARY:World Pride Shabbat
DESCRIPTION:
URL:https://calendar.adasisrael.org/event/world-pride-shabbat-3/
LOCATION:Kay Hall
ATTACH;FMTTYPE=image/jpeg:https://calendar.adasisrael.org/wp-content/uploads/2023/07/Front-Professional.jpg
END:VEVENT
BEGIN:VEVENT
DTSTART;TZID=America/New_York:20250518T140000
DTEND;TZID=America/New_York:20250518T160000
DTSTAMP:20260421T111614
CREATED:20250219T063016Z
LAST-MODIFIED:20250518T195502Z
UID:10007444-1747576800-1747584000@calendar.adasisrael.org
SUMMARY:Sisterhood Event
DESCRIPTION:
URL:https://calendar.adasisrael.org/event/sisterhood-event-5/
LOCATION:Kay Hall
ATTACH;FMTTYPE=image/jpeg:https://calendar.adasisrael.org/wp-content/uploads/2023/07/Front-Professional.jpg
END:VEVENT
BEGIN:VEVENT
DTSTART;TZID=America/New_York:20250516T190000
DTEND;TZID=America/New_York:20250516T203000
DTSTAMP:20260421T111614
CREATED:20250217T052515Z
LAST-MODIFIED:20250516T232501Z
UID:10007434-1747422000-1747427400@calendar.adasisrael.org
SUMMARY:Lechu Neranena Dinner
DESCRIPTION:
URL:https://calendar.adasisrael.org/event/lechu-neranena-dinner-5/
LOCATION:Kay Hall
ATTACH;FMTTYPE=image/jpeg:https://calendar.adasisrael.org/wp-content/uploads/2023/07/Front-Professional.jpg
END:VEVENT
BEGIN:VEVENT
DTSTART;TZID=America/New_York:20250514T183000
DTEND;TZID=America/New_York:20250514T213000
DTSTAMP:20260421T111614
CREATED:20250215T053014Z
LAST-MODIFIED:20250515T004002Z
UID:10007423-1747247400-1747258200@calendar.adasisrael.org
SUMMARY:Hesed Cooking
DESCRIPTION:Register
URL:https://calendar.adasisrael.org/event/hesed-cooking-4/
LOCATION:Kay Hall
CATEGORIES:Learn & Engage
ATTACH;FMTTYPE=image/jpeg:https://calendar.adasisrael.org/wp-content/uploads/2023/07/Front-Professional.jpg
END:VEVENT
BEGIN:VEVENT
DTSTART;TZID=America/New_York:20250513T173000
DTEND;TZID=America/New_York:20250513T200000
DTSTAMP:20260421T111614
CREATED:20250214T061515Z
LAST-MODIFIED:20250513T235002Z
UID:10007416-1747157400-1747166400@calendar.adasisrael.org
SUMMARY:L'ayla Awards & Graduation Ceremony
DESCRIPTION:
URL:https://calendar.adasisrael.org/event/layla-awards-graduation-ceremony/
LOCATION:Kay Hall
ATTACH;FMTTYPE=image/jpeg:https://calendar.adasisrael.org/wp-content/uploads/2023/07/Front-Professional.jpg
END:VEVENT
BEGIN:VEVENT
DTSTART;TZID=America/New_York:20250509T200000
DTEND;TZID=America/New_York:20250509T213000
DTSTAMP:20260421T111614
CREATED:20250211T061015Z
LAST-MODIFIED:20250510T010002Z
UID:10007393-1746820800-1746826200@calendar.adasisrael.org
SUMMARY:Friday Night Festival Community Dinner
DESCRIPTION:Register
URL:https://calendar.adasisrael.org/event/friday-night-festival-community-dinner-5/
LOCATION:Kay Hall
CATEGORIES:Shabbat
ATTACH;FMTTYPE=image/jpeg:https://calendar.adasisrael.org/wp-content/uploads/2023/07/Front-Professional.jpg
END:VEVENT
BEGIN:VEVENT
DTSTART;TZID=America/New_York:20250502T193000
DTEND;TZID=America/New_York:20250502T213000
DTSTAMP:20260421T111614
CREATED:20250207T012525Z
LAST-MODIFIED:20250503T011002Z
UID:10007363-1746214200-1746221400@calendar.adasisrael.org
SUMMARY:Traditional Egalitarian Minyan Kabbalat Community Shabbat Dinner
DESCRIPTION:Register
URL:https://calendar.adasisrael.org/event/traditional-egalitarian-minyan-kabbalat-community-shabbat-dinner-8/
LOCATION:Kay Hall
CATEGORIES:Shabbat
ATTACH;FMTTYPE=image/jpeg:https://calendar.adasisrael.org/wp-content/uploads/2023/07/Front-Professional.jpg
END:VEVENT
BEGIN:VEVENT
DTSTART;TZID=America/New_York:20250429T190000
DTEND;TZID=America/New_York:20250429T210000
DTSTAMP:20260421T111614
CREATED:20250207T012524Z
LAST-MODIFIED:20250429T235002Z
UID:10007350-1745953200-1745960400@calendar.adasisrael.org
SUMMARY:Challah Prince
DESCRIPTION:In Partnership with the Wellness Center and Hesed \nJoin us for a special evening with Idan Chabasov\, “The Challah Prince\,” visiting from Israel. \nAn optional Ma’ariv service will be held at 6:00 PM to mark the start of Yom HaZikaron\, followed by the main event at 7:00 PM. Experience a hands-on challah braiding workshop\, learn from The Challah Prince\, and take home your challah to bake. Through tradition\, conversation\, and community\, we’ll honor this day and deepen our connection to Israel. \nRegister
URL:https://calendar.adasisrael.org/event/challah-prince-2/
LOCATION:Kay Hall
ATTACH;FMTTYPE=image/jpeg:https://calendar.adasisrael.org/wp-content/uploads/2025/03/Chanukah2challahprince-1-H4cbRg.tmp_-scaled.jpg
END:VEVENT
BEGIN:VEVENT
DTSTART;TZID=America/New_York:20250406T120000
DTEND;TZID=America/New_York:20250406T133000
DTSTAMP:20260421T111614
CREATED:20250402T152031Z
LAST-MODIFIED:20250406T164502Z
UID:10007683-1743940800-1743946200@calendar.adasisrael.org
SUMMARY:Youth & Family Passover Program
DESCRIPTION:Getting ready for Passover? Families with children ages 4-12 years old\, we hope you can join us on Sunday\, April 6 at 12:00 pm as we try out haroset recipes that you can incorporate into your own seders this year! \nRegister
URL:https://calendar.adasisrael.org/event/youth-family-passover-program/
LOCATION:Kay Hall
ATTACH;FMTTYPE=image/jpeg:https://calendar.adasisrael.org/wp-content/uploads/2024/03/passover600x400assembly-JMBPzB.tmp_.jpg
END:VEVENT
BEGIN:VEVENT
DTSTART;TZID=America/New_York:20250404T193000
DTEND;TZID=America/New_York:20250404T213000
DTSTAMP:20260421T111614
CREATED:20250207T012518Z
LAST-MODIFIED:20250405T002502Z
UID:10007258-1743795000-1743802200@calendar.adasisrael.org
SUMMARY:Traditional Egalitarian Minyan Kabbalat Community Shabbat Dinner
DESCRIPTION:Register
URL:https://calendar.adasisrael.org/event/traditional-egalitarian-minyan-kabbalat-community-shabbat-dinner-7/
LOCATION:Kay Hall
CATEGORIES:Shabbat
ATTACH;FMTTYPE=image/jpeg:https://calendar.adasisrael.org/wp-content/uploads/2023/07/Front-Professional.jpg
END:VEVENT
BEGIN:VEVENT
DTSTART;TZID=America/New_York:20250323T133000
DTEND;TZID=America/New_York:20250323T153000
DTSTAMP:20260421T111614
CREATED:20250207T012514Z
LAST-MODIFIED:20250323T191002Z
UID:10007204-1742736600-1742743800@calendar.adasisrael.org
SUMMARY:Sisterhood Event - Spice Up Your Passover Traditions!
DESCRIPTION:Haroset Around the World with Bonnie Benwick (and Susan Barocas) \nFrom Morocco to Turkey\, Ethiopia to Iraq\, learn about and taste haroset from around the world. We’ll explore the many varied ingredients and spices of haroset plus fun ways to spice up your seder. \nUPDATE: Our presenter will be Bonnie S. Benwick! Bonnie will demo the charoset recipes originally planned by Chef Susan Barocas. Bonnie worked as a journalist in the DMV for four decades\, much of which was spent at The Washington Post. During her Food section tenure\, she wrote the “Dinner in Minutes” column and other recipe-related features\, and ran the test kitchen. She edited The Washington Post Cookbook: Readers’ Favorite Recipes (2013). As a freelance editor and recipe tester\, Bonnie is now involved in cookbook production\, and teaches classes at the Hill Center (Capitol Hill). She also serves as honorary chair of Tzedek DC’s annual Eat Well Do Justice chefs’ competition\, and co-chairs the Hesed Cooking committee at Adas Israel. \nPlus\, have you ever wondered what makes wine Kosher for Passover? Our wine expert\, Shoshana Danon\, will answer all your questions and introduce us to the wide world of Passover wines including how the choices grew from traditional Manischewitz options to the vast variety of Passover wines today.  Shoshana Danon is a WSET Level 3 certified wine consultant for KosherWine.com — an advanced level qualification for professionals working in the wine industry. \nWe will have an opportunity to sample both 4-5 haroset recipes and Kosher for Passover wines. All participants will leave with a copy of the recipes to try out yourselves and a list of reasonably priced kosher wines.  \nRegister
URL:https://calendar.adasisrael.org/event/sisterhood-event-2/
LOCATION:Kay Hall
ATTACH;FMTTYPE=image/jpeg:https://calendar.adasisrael.org/wp-content/uploads/2025/03/SPECIALEVENTImage1jpg-3GDx69.tmp_-scaled.jpg
END:VEVENT
BEGIN:VEVENT
DTSTART;TZID=America/New_York:20250321T190000
DTEND;TZID=America/New_York:20250321T203000
DTSTAMP:20260421T111614
CREATED:20250312T163601Z
LAST-MODIFIED:20250321T235002Z
UID:10007581-1742583600-1742589000@calendar.adasisrael.org
SUMMARY:Lechu Neranena Dinner
DESCRIPTION:
URL:https://calendar.adasisrael.org/event/lechu-neranena-dinner-4/
LOCATION:Kay Hall
ATTACH;FMTTYPE=image/jpeg:https://calendar.adasisrael.org/wp-content/uploads/2023/07/Front-Professional.jpg
END:VEVENT
BEGIN:VEVENT
DTSTART;TZID=America/New_York:20250307T193000
DTEND;TZID=America/New_York:20250307T213000
DTSTAMP:20260421T111614
CREATED:20250207T012510Z
LAST-MODIFIED:20250308T021502Z
UID:10007130-1741375800-1741383000@calendar.adasisrael.org
SUMMARY:Traditional Egalitarian Minyan Kabbalat Community Shabbat Dinner
DESCRIPTION:Register
URL:https://calendar.adasisrael.org/event/traditional-egalitarian-minyan-kabbalat-community-shabbat-dinner-6/
LOCATION:Kay Hall
CATEGORIES:Shabbat
ATTACH;FMTTYPE=image/jpeg:https://calendar.adasisrael.org/wp-content/uploads/2023/07/Front-Professional.jpg
END:VEVENT
BEGIN:VEVENT
DTSTART;TZID=America/New_York:20250305T183000
DTEND;TZID=America/New_York:20250305T213000
DTSTAMP:20260421T111614
CREATED:20250304T183508Z
LAST-MODIFIED:20250306T020002Z
UID:10007520-1741199400-1741210200@calendar.adasisrael.org
SUMMARY:Hesed Cooking
DESCRIPTION:Register
URL:https://calendar.adasisrael.org/event/hesed-cooking-3/
LOCATION:Kay Hall
ATTACH;FMTTYPE=image/jpeg:https://calendar.adasisrael.org/wp-content/uploads/2023/07/Front-Professional.jpg
END:VEVENT
BEGIN:VEVENT
DTSTART;TZID=America/New_York:20250226T183000
DTEND;TZID=America/New_York:20250226T213000
DTSTAMP:20260421T111614
CREATED:20250207T012507Z
LAST-MODIFIED:20250227T014502Z
UID:10007084-1740594600-1740605400@calendar.adasisrael.org
SUMMARY:Jewish Study Center Latke Hamentaschen Debate
DESCRIPTION:
URL:https://calendar.adasisrael.org/event/jewish-study-center-latke-hamentaschen-debate-2/
LOCATION:Kay Hall
ATTACH;FMTTYPE=image/jpeg:https://calendar.adasisrael.org/wp-content/uploads/2023/07/Front-Professional.jpg
END:VEVENT
BEGIN:VEVENT
DTSTART;TZID=America/New_York:20250221T190000
DTEND;TZID=America/New_York:20250221T203000
DTSTAMP:20260421T111614
CREATED:20250219T173521Z
LAST-MODIFIED:20250222T003002Z
UID:10007446-1740164400-1740169800@calendar.adasisrael.org
SUMMARY:Lechu Neranena Dinner
DESCRIPTION:
URL:https://calendar.adasisrael.org/event/lechu-neranena-dinner-2/
LOCATION:Kay Hall
ATTACH;FMTTYPE=image/jpeg:https://calendar.adasisrael.org/wp-content/uploads/2023/07/Front-Professional.jpg
END:VEVENT
BEGIN:VEVENT
DTSTART;TZID=America/New_York:20250214T200000
DTEND;TZID=America/New_York:20250214T213000
DTSTAMP:20260421T111614
CREATED:20250207T012504Z
LAST-MODIFIED:20250215T014001Z
UID:10007025-1739563200-1739568600@calendar.adasisrael.org
SUMMARY:Friday Night Festival Community Dinner
DESCRIPTION:Register
URL:https://calendar.adasisrael.org/event/friday-night-festival-community-dinner-4/
LOCATION:Kay Hall
CATEGORIES:Shabbat
ATTACH;FMTTYPE=image/jpeg:https://calendar.adasisrael.org/wp-content/uploads/2023/07/Front-Professional.jpg
END:VEVENT
BEGIN:VEVENT
DTSTART;TZID=America/New_York:20250201T171500
DTEND;TZID=America/New_York:20250201T183000
DTSTAMP:20260421T111614
CREATED:20250115T153641Z
LAST-MODIFIED:20250201T222502Z
UID:10006883-1738430100-1738434600@calendar.adasisrael.org
SUMMARY:K-2nd Grade Families - Tu BiShvat Program
DESCRIPTION:
URL:https://calendar.adasisrael.org/event/families-with-young-children-tu-bishvat-program/
LOCATION:Kay Hall
ATTACH;FMTTYPE=image/jpeg:https://calendar.adasisrael.org/wp-content/uploads/2023/07/Front-Professional.jpg
END:VEVENT
BEGIN:VEVENT
DTSTART;TZID=America/New_York:20250124T190000
DTEND;TZID=America/New_York:20250124T203000
DTSTAMP:20260421T111614
CREATED:20250124T152007Z
LAST-MODIFIED:20250125T002002Z
UID:10006917-1737745200-1737750600@calendar.adasisrael.org
SUMMARY:Lechu Neranena Dinner
DESCRIPTION:
URL:https://calendar.adasisrael.org/event/lechu-neranena-dinner/
LOCATION:Kay Hall
ATTACH;FMTTYPE=image/jpeg:https://calendar.adasisrael.org/wp-content/uploads/2023/07/Front-Professional.jpg
END:VEVENT
BEGIN:VEVENT
DTSTART;TZID=America/New_York:20250110T174500
DTEND;TZID=America/New_York:20250110T190000
DTSTAMP:20260421T111614
CREATED:20241219T212131Z
LAST-MODIFIED:20250110T233502Z
UID:10006745-1736531100-1736535600@calendar.adasisrael.org
SUMMARY:Families With Young Children Shabbat Dinner
DESCRIPTION:
URL:https://calendar.adasisrael.org/event/families-with-young-children-shabbat-dinner-3/
LOCATION:Kay Hall
CATEGORIES:Shabbat
ATTACH;FMTTYPE=image/jpeg:https://calendar.adasisrael.org/wp-content/uploads/2023/07/Front-Professional.jpg
END:VEVENT
BEGIN:VEVENT
DTSTART;TZID=America/New_York:20250103T193000
DTEND;TZID=America/New_York:20250103T213000
DTSTAMP:20260421T111614
CREATED:20241124T134513Z
LAST-MODIFIED:20250104T021001Z
UID:10006373-1735932600-1735939800@calendar.adasisrael.org
SUMMARY:Traditional Egalitarian Minyan Kabbalat Community Shabbat Dinner
DESCRIPTION:Register
URL:https://calendar.adasisrael.org/event/traditional-egalitarian-minyan-kabbalat-community-shabbat-dinner-5/
LOCATION:Kay Hall
CATEGORIES:Shabbat
ATTACH;FMTTYPE=image/jpeg:https://calendar.adasisrael.org/wp-content/uploads/2023/07/Front-Professional.jpg
END:VEVENT
BEGIN:VEVENT
DTSTART;TZID=America/New_York:20241215T143000
DTEND;TZID=America/New_York:20241215T163000
DTSTAMP:20260421T111614
CREATED:20241124T134508Z
LAST-MODIFIED:20241215T203002Z
UID:10006310-1734273000-1734280200@calendar.adasisrael.org
SUMMARY:Sisterhood Hanukkah Event
DESCRIPTION:
URL:https://calendar.adasisrael.org/event/sisterhood-hanukkah-event/
LOCATION:Kay Hall
ATTACH;FMTTYPE=image/jpeg:https://calendar.adasisrael.org/wp-content/uploads/2023/07/Front-Professional.jpg
END:VEVENT
BEGIN:VEVENT
DTSTART;TZID=America/New_York:20241215T093000
DTEND;TZID=America/New_York:20241215T113000
DTSTAMP:20260421T111614
CREATED:20241210T182046Z
LAST-MODIFIED:20241215T152501Z
UID:10006702-1734255000-1734262200@calendar.adasisrael.org
SUMMARY:Dan Kaufman Memorial Hanukkah Party
DESCRIPTION:
URL:https://calendar.adasisrael.org/event/dan-kaufman-memorial-hanukkah-party-5/
LOCATION:Kay Hall
ATTACH;FMTTYPE=image/jpeg:https://calendar.adasisrael.org/wp-content/uploads/2023/07/Front-Professional.jpg
END:VEVENT
BEGIN:VEVENT
DTSTART;TZID=America/New_York:20241213T200000
DTEND;TZID=America/New_York:20241213T213000
DTSTAMP:20260421T111614
CREATED:20241124T134508Z
LAST-MODIFIED:20241214T021502Z
UID:10006295-1734120000-1734125400@calendar.adasisrael.org
SUMMARY:Friday Night Festival Community Dinner
DESCRIPTION:Calling all corners of our community for a soulful\, extravagant Shabbat festival experience. Gather with friends\, old and new\, to recharge your spirit with uplifting prayer\, joyful song\, (and of course) lots of food.  \nFull Schedule:  \n5:00pm: Youth and Family Service5:30pm: Young Professionals Happy Hour5:30pm: Community Happy Hour 5:45pm: Youth and Family Dinner 6:30pm: Musical Shabbat Service8pm: Shabbat Dinner  \nRegister
URL:https://calendar.adasisrael.org/event/friday-night-festival-community-dinner-3/
LOCATION:Kay Hall
CATEGORIES:Shabbat
ATTACH;FMTTYPE=image/jpeg:https://calendar.adasisrael.org/wp-content/uploads/2023/07/pexels-matheus-bertelli-7510728-X0cpfd.tmp_-scaled.jpg
END:VEVENT
BEGIN:VEVENT
DTSTART;TZID=America/New_York:20241211T183000
DTEND;TZID=America/New_York:20241211T213000
DTSTAMP:20260421T111614
CREATED:20241124T134507Z
LAST-MODIFIED:20241212T013002Z
UID:10006279-1733941800-1733952600@calendar.adasisrael.org
SUMMARY:Hesed Cooking
DESCRIPTION:Register
URL:https://calendar.adasisrael.org/event/hesed-cooking-2/
LOCATION:Kay Hall
CATEGORIES:Learn & Engage
ATTACH;FMTTYPE=image/jpeg:https://calendar.adasisrael.org/wp-content/uploads/2023/07/Front-Professional.jpg
END:VEVENT
BEGIN:VEVENT
DTSTART;TZID=America/New_York:20241208T130000
DTEND;TZID=America/New_York:20241208T160000
DTSTAMP:20260421T111614
CREATED:20241124T134506Z
LAST-MODIFIED:20241208T201002Z
UID:10006263-1733662800-1733673600@calendar.adasisrael.org
SUMMARY:Hesed Hanukkah Cookie Baking
DESCRIPTION:Register
URL:https://calendar.adasisrael.org/event/hesed-hanukkah-cookie-baking/
LOCATION:Kay Hall
CATEGORIES:Learn & Engage
ATTACH;FMTTYPE=image/jpeg:https://calendar.adasisrael.org/wp-content/uploads/2023/07/Front-Professional.jpg
END:VEVENT
BEGIN:VEVENT
DTSTART;TZID=America/New_York:20241206T193000
DTEND;TZID=America/New_York:20241206T213000
DTSTAMP:20260421T111614
CREATED:20241124T134505Z
LAST-MODIFIED:20241207T015502Z
UID:10006248-1733513400-1733520600@calendar.adasisrael.org
SUMMARY:Traditional Egalitarian Minyan Kabbalat Community Shabbat Dinner
DESCRIPTION:Register
URL:https://calendar.adasisrael.org/event/traditional-egalitarian-minyan-kabbalat-community-shabbat-dinner-4/
LOCATION:Kay Hall
CATEGORIES:Shabbat
ATTACH;FMTTYPE=image/jpeg:https://calendar.adasisrael.org/wp-content/uploads/2023/07/Front-Professional.jpg
END:VEVENT
BEGIN:VEVENT
DTSTART;TZID=America/New_York:20241117T130000
DTEND;TZID=America/New_York:20241117T160000
DTSTAMP:20260421T111614
CREATED:20241103T052143Z
LAST-MODIFIED:20241117T210002Z
UID:10005892-1731848400-1731859200@calendar.adasisrael.org
SUMMARY:DC Klezmer Rehearsal
DESCRIPTION:
URL:https://calendar.adasisrael.org/event/dc-klezmer-rehearsal-2/
LOCATION:Kay Hall
ATTACH;FMTTYPE=image/jpeg:https://calendar.adasisrael.org/wp-content/uploads/2023/07/Front-Professional.jpg
END:VEVENT
BEGIN:VEVENT
DTSTART;TZID=America/New_York:20241117T090000
DTEND;TZID=America/New_York:20241117T103000
DTSTAMP:20260421T111614
CREATED:20241113T172036Z
LAST-MODIFIED:20241117T152002Z
UID:10006131-1731834000-1731839400@calendar.adasisrael.org
SUMMARY:Camp\, GAP Year & Israel Program Fair
DESCRIPTION:
URL:https://calendar.adasisrael.org/event/camp-gap-year-israel-program-fair/
LOCATION:Kay Hall
ATTACH;FMTTYPE=image/jpeg:https://calendar.adasisrael.org/wp-content/uploads/2023/07/Front-Professional.jpg
END:VEVENT
END:VCALENDAR