BEGIN:VCALENDAR
VERSION:2.0
PRODID:-//Adas Israel Congregation - ECPv6.2.9//NONSGML v1.0//EN
CALSCALE:GREGORIAN
METHOD:PUBLISH
X-ORIGINAL-URL:https://calendar.adasisrael.org
X-WR-CALDESC:Events for Adas Israel Congregation
REFRESH-INTERVAL;VALUE=DURATION:PT1H
X-Robots-Tag:noindex
X-PUBLISHED-TTL:PT1H
BEGIN:VTIMEZONE
TZID:America/New_York
BEGIN:DAYLIGHT
TZOFFSETFROM:-0500
TZOFFSETTO:-0400
TZNAME:EDT
DTSTART:20250309T070000
END:DAYLIGHT
BEGIN:STANDARD
TZOFFSETFROM:-0400
TZOFFSETTO:-0500
TZNAME:EST
DTSTART:20251102T060000
END:STANDARD
BEGIN:DAYLIGHT
TZOFFSETFROM:-0500
TZOFFSETTO:-0400
TZNAME:EDT
DTSTART:20260308T070000
END:DAYLIGHT
BEGIN:STANDARD
TZOFFSETFROM:-0400
TZOFFSETTO:-0500
TZNAME:EST
DTSTART:20261101T060000
END:STANDARD
END:VTIMEZONE
BEGIN:VEVENT
DTSTART;TZID=America/New_York:20260415T183000
DTEND;TZID=America/New_York:20260415T210000
DTSTAMP:20260421T075808
CREATED:20260414T191241Z
LAST-MODIFIED:20260416T005509Z
UID:10012581-1776277800-1776286800@calendar.adasisrael.org
SUMMARY:Hesed Cooking
DESCRIPTION:
URL:https://calendar.adasisrael.org/event/hesed-cooking-13/
LOCATION:Kay Hall
ATTACH;FMTTYPE=image/jpeg:https://calendar.adasisrael.org/wp-content/uploads/2023/07/Front-Professional.jpg
END:VEVENT
BEGIN:VEVENT
DTSTART;TZID=America/New_York:20260409T120000
DTEND;TZID=America/New_York:20260409T140000
DTSTAMP:20260421T075808
CREATED:20260330T162037Z
LAST-MODIFIED:20260409T180002Z
UID:10012147-1775736000-1775743200@calendar.adasisrael.org
SUMMARY:Congregational Kiddush - Passover Last Day
DESCRIPTION:No Registration Required \nWe are excited to relaunch the tradition of offering a free community lunch on Passover. By Day 7\, we know how messy all of your kitchens will be\, so as a special treat\, please join us for a special Passover Luncheon. Rabbi Yolkut will be teaching some Torah during the meal\, as well. All are welcome. No reservations required!
URL:https://calendar.adasisrael.org/event/congregational-kiddush-passover-last-day-2/
LOCATION:Kay Hall
ATTACH;FMTTYPE=image/jpeg:https://calendar.adasisrael.org/wp-content/uploads/2026/03/pexels-ella-olsson-1640777-KtyCzE-scaled.jpg
END:VEVENT
BEGIN:VEVENT
DTSTART;TZID=America/New_York:20260402T120000
DTEND;TZID=America/New_York:20260402T140000
DTSTAMP:20260421T075808
CREATED:20260330T162011Z
LAST-MODIFIED:20260402T175502Z
UID:10012129-1775131200-1775138400@calendar.adasisrael.org
SUMMARY:Congregational Kiddush - Passover Day 1
DESCRIPTION:No Registration Required \nWe are excited to relaunch the tradition of offering a free community lunch on Passover. By Day 7\, we know how messy all of your kitchens will be\, so as a special treat\, please join us for a special Passover Luncheon. Rabbi Yolkut will be teaching some Torah during the meal\, as well. All are welcome. No reservations required!
URL:https://calendar.adasisrael.org/event/congregational-kiddush-passover-day-1-2/
LOCATION:Kay Hall
ATTACH;FMTTYPE=image/jpeg:https://calendar.adasisrael.org/wp-content/uploads/2026/03/pexels-ella-olsson-1640777-KtyCzE-scaled.jpg
END:VEVENT
BEGIN:VEVENT
DTSTART;TZID=America/New_York:20260320T190000
DTEND;TZID=America/New_York:20260320T203000
DTSTAMP:20260421T075808
CREATED:20260318T202007Z
LAST-MODIFIED:20260320T211003Z
UID:10011598-1774033200-1774038600@calendar.adasisrael.org
SUMMARY:Lechu Neranena Service & Dinner
DESCRIPTION:Lechu Neranena Community Service and Dinner \nServices @ 6:00 PM in Smith Sanctuary | Dinner at 7:00 PM in Kay Hall \nCome sing! Join us for a spirited musical community service on Friday night at 6:00pm in the Smith Sanctuary. Rabbi Weissfeld\, Cantor Brown\, and Adas musicians create an inclusive and joyful atmosphere engaging children and offering adults an uplifting experience of t’filah (prayer). We will feature participation of our students in this multi-generation Kabbalat Shabbat service. Services are followed by an informal Shabbat dinner. Pre-registration for dinner is required.   \nRegister
URL:https://calendar.adasisrael.org/event/lechu-neranena-service-dinner-5/
LOCATION:Kay Hall
ATTACH;FMTTYPE=image/jpeg:https://calendar.adasisrael.org/wp-content/uploads/2023/07/Front-Professional.jpg
END:VEVENT
BEGIN:VEVENT
DTSTART;TZID=America/New_York:20260306T190000
DTEND;TZID=America/New_York:20260306T203000
DTSTAMP:20260421T075808
CREATED:20260113T234038Z
LAST-MODIFIED:20260307T005002Z
UID:10010585-1772823600-1772829000@calendar.adasisrael.org
SUMMARY:Traditional Egalitarian Minyan Kabbalat Community Shabbat Dinner
DESCRIPTION:Register
URL:https://calendar.adasisrael.org/event/traditional-egalitarian-minyan-kabbalat-community-shabbat-dinner-15/
LOCATION:Kay Hall
CATEGORIES:Shabbat
ATTACH;FMTTYPE=image/jpeg:https://calendar.adasisrael.org/wp-content/uploads/2023/07/Front-Professional.jpg
END:VEVENT
BEGIN:VEVENT
DTSTART;TZID=America/New_York:20260302T170000
DTEND;TZID=America/New_York:20260302T174500
DTSTAMP:20260421T075808
CREATED:20260113T234035Z
LAST-MODIFIED:20260302T215002Z
UID:10010564-1772470800-1772473500@calendar.adasisrael.org
SUMMARY:Erev Purim Family Dinner
DESCRIPTION:
URL:https://calendar.adasisrael.org/event/erev-purim-family-dinner/
LOCATION:Kay Hall
ATTACH;FMTTYPE=image/jpeg:https://calendar.adasisrael.org/wp-content/uploads/2023/07/Front-Professional.jpg
END:VEVENT
BEGIN:VEVENT
DTSTART;TZID=America/New_York:20260301T093000
DTEND;TZID=America/New_York:20260301T120000
DTSTAMP:20260421T075808
CREATED:20260225T203533Z
LAST-MODIFIED:20260301T161001Z
UID:10011027-1772357400-1772366400@calendar.adasisrael.org
SUMMARY:Purim Carnival
DESCRIPTION:
URL:https://calendar.adasisrael.org/event/purim-carnival-3/
LOCATION:Kay Hall
ATTACH;FMTTYPE=image/jpeg:https://calendar.adasisrael.org/wp-content/uploads/2023/07/Front-Professional.jpg
END:VEVENT
BEGIN:VEVENT
DTSTART;TZID=America/New_York:20260225T183000
DTEND;TZID=America/New_York:20260225T213000
DTSTAMP:20260421T075808
CREATED:20260202T190728Z
LAST-MODIFIED:20260226T014502Z
UID:10010878-1772044200-1772055000@calendar.adasisrael.org
SUMMARY:Jewish Study Center Latke Hamentaschen Debate
DESCRIPTION:
URL:https://calendar.adasisrael.org/event/jewish-study-center-latke-hamentaschen-debate-4/
LOCATION:Kay Hall
ATTACH;FMTTYPE=image/jpeg:https://calendar.adasisrael.org/wp-content/uploads/2023/07/Front-Professional.jpg
END:VEVENT
BEGIN:VEVENT
DTSTART;TZID=America/New_York:20260220T190000
DTEND;TZID=America/New_York:20260220T203000
DTSTAMP:20260421T075808
CREATED:20260113T234029Z
LAST-MODIFIED:20260221T011026Z
UID:10010516-1771614000-1771619400@calendar.adasisrael.org
SUMMARY:Lechu Neranena Service & Dinner
DESCRIPTION:Lechu Neranena Community Service and Dinner \nServices @ 6:00 PM in Smith Sanctuary | Dinner at 7:00 PM in Kay Hall \nCome sing! Join us for a spirited musical community service on Friday night at 6:00pm in the Smith Sanctuary. Rabbi Weissfeld\, Cantor Brown\, and Adas musicians create an inclusive and joyful atmosphere engaging children and offering adults an uplifting experience of t’filah (prayer). We will feature participation of our students in this multi-generation Kabbalat Shabbat service. Services are followed by an informal Shabbat dinner. Pre-registration for dinner is required.   \nRegister
URL:https://calendar.adasisrael.org/event/lechu-neranena-service-dinner-2/
LOCATION:Kay Hall
ATTACH;FMTTYPE=image/jpeg:https://calendar.adasisrael.org/wp-content/uploads/2023/07/Front-Professional.jpg
END:VEVENT
BEGIN:VEVENT
DTSTART;TZID=America/New_York:20260206T190000
DTEND;TZID=America/New_York:20260206T203000
DTSTAMP:20260421T075808
CREATED:20260113T234019Z
LAST-MODIFIED:20260207T005002Z
UID:10010443-1770404400-1770409800@calendar.adasisrael.org
SUMMARY:Traditional Egalitarian Minyan Kabbalat Community Shabbat Dinner
DESCRIPTION:Register
URL:https://calendar.adasisrael.org/event/traditional-egalitarian-minyan-kabbalat-community-shabbat-dinner-14/
LOCATION:Kay Hall
CATEGORIES:Shabbat
ATTACH;FMTTYPE=image/jpeg:https://calendar.adasisrael.org/wp-content/uploads/2023/07/Front-Professional.jpg
END:VEVENT
BEGIN:VEVENT
DTSTART;TZID=America/New_York:20260204T183000
DTEND;TZID=America/New_York:20260204T210000
DTSTAMP:20260421T075808
CREATED:20260113T234017Z
LAST-MODIFIED:20260205T011002Z
UID:10010429-1770229800-1770238800@calendar.adasisrael.org
SUMMARY:Hesed Cooking
DESCRIPTION:
URL:https://calendar.adasisrael.org/event/hesed-cooking-9/
LOCATION:Kay Hall
ATTACH;FMTTYPE=image/jpeg:https://calendar.adasisrael.org/wp-content/uploads/2023/07/Front-Professional.jpg
END:VEVENT
BEGIN:VEVENT
DTSTART;TZID=America/New_York:20260123T190000
DTEND;TZID=America/New_York:20260123T203000
DTSTAMP:20260421T075808
CREATED:20260113T234008Z
LAST-MODIFIED:20260124T011001Z
UID:10010368-1769194800-1769200200@calendar.adasisrael.org
SUMMARY:Lechu Neranena Service & Dinner
DESCRIPTION:Lechu Neranena Community Service and Dinner \nServices @ 6:00 PM in Smith Sanctuary | Dinner at 7:00 PM in Kay Hall \nCome sing! Join us for a spirited musical community service on Friday night at 6:00pm in the Smith Sanctuary. Rabbi Weissfeld\, Cantor Brown\, and Adas musicians create an inclusive and joyful atmosphere engaging children and offering adults an uplifting experience of t’filah (prayer). We will feature participation of our students in this multi-generation Kabbalat Shabbat service. Services are followed by an informal Shabbat dinner. Pre-registration for dinner is required.   \nRegister
URL:https://calendar.adasisrael.org/event/lechu-neranena-service-dinner/
LOCATION:Kay Hall
ATTACH;FMTTYPE=image/jpeg:https://calendar.adasisrael.org/wp-content/uploads/2023/07/Front-Professional.jpg
END:VEVENT
BEGIN:VEVENT
DTSTART;TZID=America/New_York:20260116T194500
DTEND;TZID=America/New_York:20260116T220000
DTSTAMP:20260421T075808
CREATED:20260113T234004Z
LAST-MODIFIED:20260117T023002Z
UID:10010334-1768592700-1768600800@calendar.adasisrael.org
SUMMARY:MLK Shabbat Community Dinner
DESCRIPTION:Register
URL:https://calendar.adasisrael.org/event/mlk-shabbat-community-dinner/
LOCATION:Kay Hall
CATEGORIES:Shabbat
ATTACH;FMTTYPE=image/jpeg:https://calendar.adasisrael.org/wp-content/uploads/2023/07/Front-Professional.jpg
END:VEVENT
BEGIN:VEVENT
DTSTART;TZID=America/New_York:20260109T190000
DTEND;TZID=America/New_York:20260109T203000
DTSTAMP:20260421T075808
CREATED:20251127T153017Z
LAST-MODIFIED:20260110T002502Z
UID:10009829-1767985200-1767990600@calendar.adasisrael.org
SUMMARY:Traditional Egalitarian Minyan Kabbalat Community Shabbat Dinner
DESCRIPTION:Register
URL:https://calendar.adasisrael.org/event/traditional-egalitarian-minyan-kabbalat-community-shabbat-dinner-13/
LOCATION:Kay Hall
CATEGORIES:Shabbat
ATTACH;FMTTYPE=image/jpeg:https://calendar.adasisrael.org/wp-content/uploads/2023/07/Front-Professional.jpg
END:VEVENT
BEGIN:VEVENT
DTSTART;TZID=America/New_York:20251214T090000
DTEND;TZID=America/New_York:20251214T103000
DTSTAMP:20260421T075808
CREATED:20251210T182042Z
LAST-MODIFIED:20251214T144502Z
UID:10010144-1765702800-1765708200@calendar.adasisrael.org
SUMMARY:Dan Kaufman Memorial Latke Party
DESCRIPTION:
URL:https://calendar.adasisrael.org/event/dan-kaufman-memorial-latke-party-3/
LOCATION:Kay Hall
CATEGORIES:Holiday
ATTACH;FMTTYPE=image/jpeg:https://calendar.adasisrael.org/wp-content/uploads/2023/07/Front-Professional.jpg
END:VEVENT
BEGIN:VEVENT
DTSTART;TZID=America/New_York:20251212T174500
DTEND;TZID=America/New_York:20251212T190000
DTSTAMP:20260421T075808
CREATED:20251210T182020Z
LAST-MODIFIED:20251212T225502Z
UID:10010140-1765561500-1765566000@calendar.adasisrael.org
SUMMARY:Families With Young Children Shabbat Service & Dinner
DESCRIPTION:Our monthly Shabbat dinners for families with young children are back! Join us for services at 5pm\, followed by dinner. Geared towards ages 0-7. Children must be accompanied by an adult. Please register\, if your family plans to stay for dinner following services! \nRegister
URL:https://calendar.adasisrael.org/event/families-with-young-children-shabbat-service-dinner-20/
LOCATION:Kay Hall
ATTACH;FMTTYPE=image/jpeg:https://calendar.adasisrael.org/wp-content/uploads/2023/07/Front-Professional.jpg
END:VEVENT
BEGIN:VEVENT
DTSTART;TZID=America/New_York:20251210T183000
DTEND;TZID=America/New_York:20251210T213000
DTSTAMP:20260421T075808
CREATED:20251127T153006Z
LAST-MODIFIED:20251211T021502Z
UID:10009701-1765391400-1765402200@calendar.adasisrael.org
SUMMARY:Hesed Cooking
DESCRIPTION:
URL:https://calendar.adasisrael.org/event/hesed-cooking-8/
LOCATION:Kay Hall
ATTACH;FMTTYPE=image/jpeg:https://calendar.adasisrael.org/wp-content/uploads/2023/07/Front-Professional.jpg
END:VEVENT
BEGIN:VEVENT
DTSTART;TZID=America/New_York:20251207T130000
DTEND;TZID=America/New_York:20251207T160000
DTSTAMP:20260421T075808
CREATED:20251127T153004Z
LAST-MODIFIED:20251207T203002Z
UID:10009685-1765112400-1765123200@calendar.adasisrael.org
SUMMARY:Hesed Hanukkah Cookie Baking
DESCRIPTION:
URL:https://calendar.adasisrael.org/event/hesed-hanukkah-cookie-baking-2/
LOCATION:Kay Hall
ATTACH;FMTTYPE=image/jpeg:https://calendar.adasisrael.org/wp-content/uploads/2023/07/Front-Professional.jpg
END:VEVENT
BEGIN:VEVENT
DTSTART;TZID=America/New_York:20251206T140000
DTEND;TZID=America/New_York:20251206T153000
DTSTAMP:20260421T075808
CREATED:20251127T153004Z
LAST-MODIFIED:20251206T202514Z
UID:10009668-1765029600-1765035000@calendar.adasisrael.org
SUMMARY:Shabbat is Awesome Afternoon
DESCRIPTION:
URL:https://calendar.adasisrael.org/event/shabbat-is-awesome-afternoon/
LOCATION:Kay Hall
ATTACH;FMTTYPE=image/jpeg:https://calendar.adasisrael.org/wp-content/uploads/2023/07/Front-Professional.jpg
END:VEVENT
BEGIN:VEVENT
DTSTART;TZID=America/New_York:20251205T190000
DTEND;TZID=America/New_York:20251205T203000
DTSTAMP:20260421T075808
CREATED:20251127T153003Z
LAST-MODIFIED:20251206T012502Z
UID:10009661-1764961200-1764966600@calendar.adasisrael.org
SUMMARY:Traditional Egalitarian Minyan Kabbalat Community Shabbat Dinner
DESCRIPTION:Register
URL:https://calendar.adasisrael.org/event/traditional-egalitarian-minyan-kabbalat-community-shabbat-dinner-12/
LOCATION:Kay Hall
CATEGORIES:Shabbat
ATTACH;FMTTYPE=image/jpeg:https://calendar.adasisrael.org/wp-content/uploads/2023/07/Front-Professional.jpg
END:VEVENT
BEGIN:VEVENT
DTSTART;TZID=America/New_York:20251114T174500
DTEND;TZID=America/New_York:20251114T190000
DTSTAMP:20260421T075808
CREATED:20250815T054019Z
LAST-MODIFIED:20251114T231002Z
UID:10008959-1763142300-1763146800@calendar.adasisrael.org
SUMMARY:Families With Young Children Shabbat Service & Dinner
DESCRIPTION:Our monthly Shabbat dinners for families with young children are back! Join us for services at 5pm\, followed by dinner. Geared towards ages 0-7. Children must be accompanied by an adult. Please register\, if your family plans to stay for dinner following services! \nRegister
URL:https://calendar.adasisrael.org/event/families-with-young-children-shabbat-service-dinner-19/
LOCATION:Kay Hall
ATTACH;FMTTYPE=image/jpeg:https://calendar.adasisrael.org/wp-content/uploads/2023/07/Front-Professional.jpg
END:VEVENT
BEGIN:VEVENT
DTSTART;TZID=America/New_York:20251109T090000
DTEND;TZID=America/New_York:20251109T103000
DTSTAMP:20260421T075808
CREATED:20251105T202033Z
LAST-MODIFIED:20251109T152512Z
UID:10009488-1762678800-1762684200@calendar.adasisrael.org
SUMMARY:Camp\, Gap Year\, & Israel Programs Fair
DESCRIPTION:
URL:https://calendar.adasisrael.org/event/camp-gap-year-israel-programs-fair/
LOCATION:Kay Hall
ATTACH;FMTTYPE=image/jpeg:https://calendar.adasisrael.org/wp-content/uploads/2023/07/Front-Professional.jpg
END:VEVENT
BEGIN:VEVENT
DTSTART;TZID=America/New_York:20251105T183000
DTEND;TZID=America/New_York:20251105T213000
DTSTAMP:20260421T075808
CREATED:20250806T052516Z
LAST-MODIFIED:20251106T013002Z
UID:10008900-1762367400-1762378200@calendar.adasisrael.org
SUMMARY:Hesed Cooking
DESCRIPTION:
URL:https://calendar.adasisrael.org/event/hesed-cooking-7/
LOCATION:Kay Hall
ATTACH;FMTTYPE=image/jpeg:https://calendar.adasisrael.org/wp-content/uploads/2023/07/Front-Professional.jpg
END:VEVENT
BEGIN:VEVENT
DTSTART;TZID=America/New_York:20251031T190000
DTEND;TZID=America/New_York:20251031T203000
DTSTAMP:20260421T075808
CREATED:20250801T052018Z
LAST-MODIFIED:20251031T235502Z
UID:10008877-1761937200-1761942600@calendar.adasisrael.org
SUMMARY:Traditional Egalitarian Minyan Kabbalat Community Shabbat Dinner W/ Scholar
DESCRIPTION:Register
URL:https://calendar.adasisrael.org/event/traditional-egalitarian-minyan-kabbalat-community-shabbat-dinner-11/
LOCATION:Kay Hall
CATEGORIES:Shabbat
ATTACH;FMTTYPE=image/jpeg:https://calendar.adasisrael.org/wp-content/uploads/2023/07/Front-Professional.jpg
END:VEVENT
BEGIN:VEVENT
DTSTART;TZID=America/New_York:20251014T183000
DTEND;TZID=America/New_York:20251014T220000
DTSTAMP:20260421T075808
CREATED:20251009T170545Z
LAST-MODIFIED:20251015T011001Z
UID:10009313-1760466600-1760479200@calendar.adasisrael.org
SUMMARY:Erev Simchat Torah Services
DESCRIPTION:
URL:https://calendar.adasisrael.org/event/erev-simchat-torah-services/
LOCATION:Kay Hall
CATEGORIES:Holiday
ATTACH;FMTTYPE=image/jpeg:https://calendar.adasisrael.org/wp-content/uploads/2023/07/Front-Professional.jpg
END:VEVENT
BEGIN:VEVENT
DTSTART;TZID=America/New_York:20251012T100000
DTEND;TZID=America/New_York:20251012T113000
DTSTAMP:20260421T075808
CREATED:20250713T055015Z
LAST-MODIFIED:20251012T152502Z
UID:10008786-1760263200-1760268600@calendar.adasisrael.org
SUMMARY:Rain Plan: Family Sukkot Brunch & Crafts
DESCRIPTION:
URL:https://calendar.adasisrael.org/event/family-sukkot-brunch-crafts-2/
LOCATION:Kay Hall
ATTACH;FMTTYPE=image/jpeg:https://calendar.adasisrael.org/wp-content/uploads/2023/07/Front-Professional.jpg
END:VEVENT
BEGIN:VEVENT
DTSTART;TZID=America/New_York:20251010T200000
DTEND;TZID=America/New_York:20251010T213000
DTSTAMP:20260421T075808
CREATED:20250712T052515Z
LAST-MODIFIED:20251011T011002Z
UID:10008776-1760126400-1760131800@calendar.adasisrael.org
SUMMARY:Friday Night Festival Community Dinner- Rain Plan
DESCRIPTION:Register
URL:https://calendar.adasisrael.org/event/friday-night-festival-community-dinner-rain-plan/
LOCATION:Kay Hall
CATEGORIES:Shabbat
ATTACH;FMTTYPE=image/jpeg:https://calendar.adasisrael.org/wp-content/uploads/2023/07/Front-Professional.jpg
END:VEVENT
BEGIN:VEVENT
DTSTART;TZID=America/New_York:20251010T174500
DTEND;TZID=America/New_York:20251010T190000
DTSTAMP:20260421T075808
CREATED:20251006T192031Z
LAST-MODIFIED:20251010T225002Z
UID:10009295-1760118300-1760122800@calendar.adasisrael.org
SUMMARY:Families With Young Children Shabbat Service & Dinner
DESCRIPTION:
URL:https://calendar.adasisrael.org/event/families-with-young-children-shabbat-service-dinner-16/
LOCATION:Kay Hall
CATEGORIES:Shabbat
ATTACH;FMTTYPE=image/jpeg:https://calendar.adasisrael.org/wp-content/uploads/2023/07/Front-Professional.jpg
END:VEVENT
BEGIN:VEVENT
DTSTART;TZID=America/New_York:20251008T120000
DTEND;TZID=America/New_York:20251008T140000
DTSTAMP:20260421T075808
CREATED:20251003T182020Z
LAST-MODIFIED:20251008T175507Z
UID:10009277-1759924800-1759932000@calendar.adasisrael.org
SUMMARY:Congregational Kiddush Sukkot Day 2 - Rain Plan
DESCRIPTION:
URL:https://calendar.adasisrael.org/event/congregational-kiddush-sukkot-day-2-rain-plan/
LOCATION:Kay Hall
ATTACH;FMTTYPE=image/jpeg:https://calendar.adasisrael.org/wp-content/uploads/2023/07/Front-Professional.jpg
END:VEVENT
BEGIN:VEVENT
DTSTART;TZID=America/New_York:20250927T120000
DTEND;TZID=America/New_York:20250927T131500
DTSTAMP:20260421T075808
CREATED:20250628T061014Z
LAST-MODIFIED:20250927T162502Z
UID:10008741-1758974400-1758978900@calendar.adasisrael.org
SUMMARY:Congregational Kiddush
DESCRIPTION:
URL:https://calendar.adasisrael.org/event/congregational-kiddush-119/
LOCATION:Kay Hall
CATEGORIES:Shabbat
ATTACH;FMTTYPE=image/jpeg:https://calendar.adasisrael.org/wp-content/uploads/2023/07/Front-Professional.jpg
END:VEVENT
END:VCALENDAR