BEGIN:VCALENDAR
VERSION:2.0
PRODID:-//Adas Israel Congregation - ECPv6.2.9//NONSGML v1.0//EN
CALSCALE:GREGORIAN
METHOD:PUBLISH
X-ORIGINAL-URL:https://calendar.adasisrael.org
X-WR-CALDESC:Events for Adas Israel Congregation
REFRESH-INTERVAL;VALUE=DURATION:PT1H
X-Robots-Tag:noindex
X-PUBLISHED-TTL:PT1H
BEGIN:VTIMEZONE
TZID:America/New_York
BEGIN:DAYLIGHT
TZOFFSETFROM:-0500
TZOFFSETTO:-0400
TZNAME:EDT
DTSTART:20250309T070000
END:DAYLIGHT
BEGIN:STANDARD
TZOFFSETFROM:-0400
TZOFFSETTO:-0500
TZNAME:EST
DTSTART:20251102T060000
END:STANDARD
END:VTIMEZONE
BEGIN:VEVENT
DTSTART;TZID=America/New_York:20250328T180000
DTEND;TZID=America/New_York:20250328T190000
DTSTAMP:20260421T170452
CREATED:20250207T012516Z
LAST-MODIFIED:20250328T215502Z
UID:10007226-1743184800-1743188400@calendar.adasisrael.org
SUMMARY:Kabbalat Shabbat Services
DESCRIPTION:The tone of this service is traditional\, passionate\, joyful\, and spiritual. We will join together in rousing traditional melodies\, along with moments of depth and quiet contemplation. Our rabbis and other community members will share short divrei Torah (words of Torah). You will leave the service feeling renewed and in time to enjoy a wonderful Shabbat evening.
URL:https://calendar.adasisrael.org/event/kabbalat-shabbat-services-35/
LOCATION:Gewirz Beit Am
CATEGORIES:Shabbat
ATTACH;FMTTYPE=image/jpeg:https://calendar.adasisrael.org/wp-content/uploads/2024/01/253816_orig-kIYbWj.tmp_.jpg
END:VEVENT
BEGIN:VEVENT
DTSTART;TZID=America/New_York:20250323T130000
DTEND;TZID=America/New_York:20250323T160000
DTSTAMP:20260421T170452
CREATED:20250207T012514Z
LAST-MODIFIED:20250323T191002Z
UID:10007203-1742734800-1742745600@calendar.adasisrael.org
SUMMARY:DC Klezmer Rehearsal
DESCRIPTION:
URL:https://calendar.adasisrael.org/event/dc-klezmer-rehearsal-6/
LOCATION:Gewirz Beit Am
ATTACH;FMTTYPE=image/jpeg:https://calendar.adasisrael.org/wp-content/uploads/2023/07/Front-Professional.jpg
END:VEVENT
BEGIN:VEVENT
DTSTART;TZID=America/New_York:20250323T100000
DTEND;TZID=America/New_York:20250323T113000
DTSTAMP:20260421T170452
CREATED:20250213T163837Z
LAST-MODIFIED:20250323T152502Z
UID:10007407-1742724000-1742729400@calendar.adasisrael.org
SUMMARY:SAC Meeting
DESCRIPTION:
URL:https://calendar.adasisrael.org/event/sac-meeting/
LOCATION:Gewirz Beit Am
ATTACH;FMTTYPE=image/jpeg:https://calendar.adasisrael.org/wp-content/uploads/2023/07/Front-Professional.jpg
END:VEVENT
BEGIN:VEVENT
DTSTART;TZID=America/New_York:20250322T133000
DTEND;TZID=America/New_York:20250322T203000
DTSTAMP:20260421T170452
CREATED:20250321T145021Z
LAST-MODIFIED:20250322T235502Z
UID:10007630-1742650200-1742675400@calendar.adasisrael.org
SUMMARY:TEM Shabbaton
DESCRIPTION:Register
URL:https://calendar.adasisrael.org/event/tem-shabbaton-6/
LOCATION:Gewirz Beit Am
ATTACH;FMTTYPE=image/jpeg:https://calendar.adasisrael.org/wp-content/uploads/2023/07/Front-Professional.jpg
END:VEVENT
BEGIN:VEVENT
DTSTART;TZID=America/New_York:20250322T124500
DTEND;TZID=America/New_York:20250322T133000
DTSTAMP:20260421T170452
CREATED:20250207T012514Z
LAST-MODIFIED:20250322T162502Z
UID:10007196-1742647500-1742650200@calendar.adasisrael.org
SUMMARY:Shabbat Mincha Service
DESCRIPTION:Join us for a Saturday afternoon of prayer and Torah. The content of the mincha prayers reflects the essential goal of menucha (rest) on the Sabbath day.
URL:https://calendar.adasisrael.org/event/shabbat-mincha-service-88/
LOCATION:Gewirz Beit Am
CATEGORIES:Shabbat
ATTACH;FMTTYPE=image/jpeg:https://calendar.adasisrael.org/wp-content/uploads/2023/07/minchaservice600x400-sc8WO8.tmp_.jpg
END:VEVENT
BEGIN:VEVENT
DTSTART;TZID=America/New_York:20250322T093000
DTEND;TZID=America/New_York:20250322T120000
DTSTAMP:20260421T170452
CREATED:20250207T012514Z
LAST-MODIFIED:20250322T151002Z
UID:10007193-1742635800-1742644800@calendar.adasisrael.org
SUMMARY:TEM Shabbat Services
DESCRIPTION:The Traditional Egalitarian Minyan (TEM) is a warm\, spirited service\, committed to participatory worship. It meets in the Gewirz Beit Am every Shabbat morning and on some holidays at 9:30 a.m. Led by volunteers with the occasional assistance of Adas clergy\, the TEM service offers a full P’sukei D’Zimrah (introductory Psalms)\, Shacharit\, Torah service (starting around 10:20 a.m.) and Musaf. We read the entire weekly Torah portion\, and a D’var Torah is shared every week by a member of the TEM community. Our service ends around the same time as Adas’s Smith Sanctuary service\, and we will join the the congregational Kiddush once it resumes following the pandemic.
URL:https://calendar.adasisrael.org/event/tem-shabbat-services-86/
LOCATION:Gewirz Beit Am
CATEGORIES:Shabbat
ATTACH;FMTTYPE=image/png:https://calendar.adasisrael.org/wp-content/uploads/2023/07/Screenshot2023-06-23at10.20.20AM-p4sN6R.tmp_.png
END:VEVENT
BEGIN:VEVENT
DTSTART;TZID=America/New_York:20250318T184500
DTEND;TZID=America/New_York:20250318T201500
DTSTAMP:20260421T170452
CREATED:20250313T162033Z
LAST-MODIFIED:20250318T233502Z
UID:10007585-1742323500-1742328900@calendar.adasisrael.org
SUMMARY:Wellness Center: Meditation
DESCRIPTION:
URL:https://calendar.adasisrael.org/event/wellness-center-meditation-8/
LOCATION:Gewirz Beit Am
ATTACH;FMTTYPE=image/jpeg:https://calendar.adasisrael.org/wp-content/uploads/2023/07/Front-Professional.jpg
END:VEVENT
BEGIN:VEVENT
DTSTART;TZID=America/New_York:20250315T093000
DTEND;TZID=America/New_York:20250315T120000
DTSTAMP:20260421T170452
CREATED:20250207T012512Z
LAST-MODIFIED:20250315T145502Z
UID:10007162-1742031000-1742040000@calendar.adasisrael.org
SUMMARY:TEM Shabbat Services
DESCRIPTION:The Traditional Egalitarian Minyan (TEM) is a warm\, spirited service\, committed to participatory worship. It meets in the Gewirz Beit Am every Shabbat morning and on some holidays at 9:30 a.m. Led by volunteers with the occasional assistance of Adas clergy\, the TEM service offers a full P’sukei D’Zimrah (introductory Psalms)\, Shacharit\, Torah service (starting around 10:20 a.m.) and Musaf. We read the entire weekly Torah portion\, and a D’var Torah is shared every week by a member of the TEM community. Our service ends around the same time as Adas’s Smith Sanctuary service\, and we will join the the congregational Kiddush once it resumes following the pandemic.
URL:https://calendar.adasisrael.org/event/tem-shabbat-services-85/
LOCATION:Gewirz Beit Am
CATEGORIES:Shabbat
ATTACH;FMTTYPE=image/png:https://calendar.adasisrael.org/wp-content/uploads/2023/07/Screenshot2023-06-23at10.20.20AM-p4sN6R.tmp_.png
END:VEVENT
BEGIN:VEVENT
DTSTART;TZID=America/New_York:20250314T183000
DTEND;TZID=America/New_York:20250314T203000
DTSTAMP:20260421T170452
CREATED:20250207T012512Z
LAST-MODIFIED:20250314T234502Z
UID:10007159-1741977000-1741984200@calendar.adasisrael.org
SUMMARY:Shabbat Friday Night Musical Services
DESCRIPTION:
URL:https://calendar.adasisrael.org/event/shabbat-friday-night-musical-services-14/
LOCATION:Gewirz Beit Am
CATEGORIES:Shabbat
ATTACH;FMTTYPE=image/jpeg:https://calendar.adasisrael.org/wp-content/uploads/2023/07/Front-Professional.jpg
END:VEVENT
BEGIN:VEVENT
DTSTART;TZID=America/New_York:20250308T093000
DTEND;TZID=America/New_York:20250308T120000
DTSTAMP:20260421T170452
CREATED:20250207T012510Z
LAST-MODIFIED:20250308T161002Z
UID:10007133-1741426200-1741435200@calendar.adasisrael.org
SUMMARY:TEM Shabbat Services
DESCRIPTION:The Traditional Egalitarian Minyan (TEM) is a warm\, spirited service\, committed to participatory worship. It meets in the Gewirz Beit Am every Shabbat morning and on some holidays at 9:30 a.m. Led by volunteers with the occasional assistance of Adas clergy\, the TEM service offers a full P’sukei D’Zimrah (introductory Psalms)\, Shacharit\, Torah service (starting around 10:20 a.m.) and Musaf. We read the entire weekly Torah portion\, and a D’var Torah is shared every week by a member of the TEM community. Our service ends around the same time as Adas’s Smith Sanctuary service\, and we will join the the congregational Kiddush once it resumes following the pandemic.
URL:https://calendar.adasisrael.org/event/tem-shabbat-services-84/
LOCATION:Gewirz Beit Am
CATEGORIES:Shabbat
ATTACH;FMTTYPE=image/png:https://calendar.adasisrael.org/wp-content/uploads/2023/07/Screenshot2023-06-23at10.20.20AM-p4sN6R.tmp_.png
END:VEVENT
BEGIN:VEVENT
DTSTART;TZID=America/New_York:20250307T180000
DTEND;TZID=America/New_York:20250307T190000
DTSTAMP:20260421T170452
CREATED:20250207T012510Z
LAST-MODIFIED:20250307T234002Z
UID:10007129-1741370400-1741374000@calendar.adasisrael.org
SUMMARY:Traditional Egalitarian Minyan Kabbalat Shabbat
DESCRIPTION:Join the Traditional Egalitarian Minyan in the Gewirz Beit Am for Kabbalat Shabbat. Come lend your voices and welcome Shabbat with us\, at a spirited\, traditional Friday night davening. All are welcome!
URL:https://calendar.adasisrael.org/event/traditional-egalitarian-minyan-kabbalat-shabbat-17/
LOCATION:Gewirz Beit Am
CATEGORIES:Shabbat
ATTACH;FMTTYPE=image/jpeg:https://calendar.adasisrael.org/wp-content/uploads/2023/07/ShabbatImage-600x400-pGK88z.tmp_.jpg
END:VEVENT
BEGIN:VEVENT
DTSTART;TZID=America/New_York:20250304T190000
DTEND;TZID=America/New_York:20250304T210000
DTSTAMP:20260421T170452
CREATED:20250207T012509Z
LAST-MODIFIED:20250305T005502Z
UID:10007115-1741114800-1741122000@calendar.adasisrael.org
SUMMARY:Brave Conversations: Israel and the Diaspora
DESCRIPTION:Join a small group of fellow Adas community members in brave conversations about topics and ideas that will challenge us to disagree with respect\, to debate with nuance and thoughtfulness\, and to remain in deep relationship with one another. These Adas-member facilitated conversations will be based on articles and/or podcasts selected in consultation with your rabbinic team. \nLimit to 30 registrants per sessionDecember 3rd: Register HereJanuary 7th: Register HereFebruary 4th: Register HereMarch 4th: Register HereApril 1st: Register Here
URL:https://calendar.adasisrael.org/event/brave-conversations-israel-and-the-diaspora-2/
LOCATION:Gewirz Beit Am
ATTACH;FMTTYPE=image/jpeg:https://calendar.adasisrael.org/wp-content/uploads/2024/04/pexels-haley-black-2087387-n7GWP8.tmp_.jpg
END:VEVENT
BEGIN:VEVENT
DTSTART;TZID=America/New_York:20250301T124500
DTEND;TZID=America/New_York:20250301T133000
DTSTAMP:20260421T170452
CREATED:20250207T012508Z
LAST-MODIFIED:20250301T180502Z
UID:10007102-1740833100-1740835800@calendar.adasisrael.org
SUMMARY:Shabbat Mincha Service
DESCRIPTION:Join us for a Saturday afternoon of prayer and Torah. The content of the mincha prayers reflects the essential goal of menucha (rest) on the Sabbath day.
URL:https://calendar.adasisrael.org/event/shabbat-mincha-service-85/
LOCATION:Gewirz Beit Am
CATEGORIES:Shabbat
ATTACH;FMTTYPE=image/jpeg:https://calendar.adasisrael.org/wp-content/uploads/2023/07/minchaservice600x400-sc8WO8.tmp_.jpg
END:VEVENT
BEGIN:VEVENT
DTSTART;TZID=America/New_York:20250301T093000
DTEND;TZID=America/New_York:20250301T120000
DTSTAMP:20260421T170452
CREATED:20250207T012508Z
LAST-MODIFIED:20250301T165002Z
UID:10007099-1740821400-1740830400@calendar.adasisrael.org
SUMMARY:TEM Shabbat Services
DESCRIPTION:The Traditional Egalitarian Minyan (TEM) is a warm\, spirited service\, committed to participatory worship. It meets in the Gewirz Beit Am every Shabbat morning and on some holidays at 9:30 a.m. Led by volunteers with the occasional assistance of Adas clergy\, the TEM service offers a full P’sukei D’Zimrah (introductory Psalms)\, Shacharit\, Torah service (starting around 10:20 a.m.) and Musaf. We read the entire weekly Torah portion\, and a D’var Torah is shared every week by a member of the TEM community. Our service ends around the same time as Adas’s Smith Sanctuary service\, and we will join the the congregational Kiddush once it resumes following the pandemic.
URL:https://calendar.adasisrael.org/event/tem-shabbat-services-83/
LOCATION:Gewirz Beit Am
CATEGORIES:Shabbat
ATTACH;FMTTYPE=image/png:https://calendar.adasisrael.org/wp-content/uploads/2023/07/Screenshot2023-06-23at10.20.20AM-p4sN6R.tmp_.png
END:VEVENT
BEGIN:VEVENT
DTSTART;TZID=America/New_York:20250222T093000
DTEND;TZID=America/New_York:20250222T120000
DTSTAMP:20260421T170452
CREATED:20250207T012506Z
LAST-MODIFIED:20250222T165502Z
UID:10007065-1740216600-1740225600@calendar.adasisrael.org
SUMMARY:TEM Shabbat Services
DESCRIPTION:The Traditional Egalitarian Minyan (TEM) is a warm\, spirited service\, committed to participatory worship. It meets in the Gewirz Beit Am every Shabbat morning and on some holidays at 9:30 a.m. Led by volunteers with the occasional assistance of Adas clergy\, the TEM service offers a full P’sukei D’Zimrah (introductory Psalms)\, Shacharit\, Torah service (starting around 10:20 a.m.) and Musaf. We read the entire weekly Torah portion\, and a D’var Torah is shared every week by a member of the TEM community. Our service ends around the same time as Adas’s Smith Sanctuary service\, and we will join the the congregational Kiddush once it resumes following the pandemic.
URL:https://calendar.adasisrael.org/event/tem-shabbat-services-82/
LOCATION:Gewirz Beit Am
CATEGORIES:Shabbat
ATTACH;FMTTYPE=image/png:https://calendar.adasisrael.org/wp-content/uploads/2023/07/Screenshot2023-06-23at10.20.20AM-p4sN6R.tmp_.png
END:VEVENT
BEGIN:VEVENT
DTSTART;TZID=America/New_York:20250221T190000
DTEND;TZID=America/New_York:20250221T210000
DTSTAMP:20260421T170452
CREATED:20250207T012506Z
LAST-MODIFIED:20250222T014002Z
UID:10007062-1740164400-1740171600@calendar.adasisrael.org
SUMMARY:Sisterhood Shabbat Dinner
DESCRIPTION:
URL:https://calendar.adasisrael.org/event/sisterhood-shabbat-dinner/
LOCATION:Gewirz Beit Am
ATTACH;FMTTYPE=image/jpeg:https://calendar.adasisrael.org/wp-content/uploads/2023/07/Front-Professional.jpg
END:VEVENT
BEGIN:VEVENT
DTSTART;TZID=America/New_York:20250215T093000
DTEND;TZID=America/New_York:20250215T120000
DTSTAMP:20260421T170452
CREATED:20250207T012504Z
LAST-MODIFIED:20250215T165502Z
UID:10007027-1739611800-1739620800@calendar.adasisrael.org
SUMMARY:TEM Shabbat Services
DESCRIPTION:The Traditional Egalitarian Minyan (TEM) is a warm\, spirited service\, committed to participatory worship. It meets in the Gewirz Beit Am every Shabbat morning and on some holidays at 9:30 a.m. Led by volunteers with the occasional assistance of Adas clergy\, the TEM service offers a full P’sukei D’Zimrah (introductory Psalms)\, Shacharit\, Torah service (starting around 10:20 a.m.) and Musaf. We read the entire weekly Torah portion\, and a D’var Torah is shared every week by a member of the TEM community. Our service ends around the same time as Adas’s Smith Sanctuary service\, and we will join the the congregational Kiddush once it resumes following the pandemic.
URL:https://calendar.adasisrael.org/event/tem-shabbat-services-81/
LOCATION:Gewirz Beit Am
CATEGORIES:Shabbat
ATTACH;FMTTYPE=image/png:https://calendar.adasisrael.org/wp-content/uploads/2023/07/Screenshot2023-06-23at10.20.20AM-p4sN6R.tmp_.png
END:VEVENT
BEGIN:VEVENT
DTSTART;TZID=America/New_York:20250214T183000
DTEND;TZID=America/New_York:20250214T203000
DTSTAMP:20260421T170452
CREATED:20250207T012504Z
LAST-MODIFIED:20250215T002502Z
UID:10007020-1739557800-1739565000@calendar.adasisrael.org
SUMMARY:Shabbat Friday Night Musical Services
DESCRIPTION:
URL:https://calendar.adasisrael.org/event/shabbat-friday-night-musical-services-13/
LOCATION:Gewirz Beit Am
CATEGORIES:Shabbat
ATTACH;FMTTYPE=image/jpeg:https://calendar.adasisrael.org/wp-content/uploads/2023/07/Front-Professional.jpg
END:VEVENT
BEGIN:VEVENT
DTSTART;TZID=America/New_York:20250208T124500
DTEND;TZID=America/New_York:20250208T133000
DTSTAMP:20260421T170452
CREATED:20250207T012502Z
LAST-MODIFIED:20250208T175502Z
UID:10006997-1739018700-1739021400@calendar.adasisrael.org
SUMMARY:Shabbat Mincha Service
DESCRIPTION:Join us for a Saturday afternoon of prayer and Torah. The content of the mincha prayers reflects the essential goal of menucha (rest) on the Sabbath day.
URL:https://calendar.adasisrael.org/event/shabbat-mincha-service-82/
LOCATION:Gewirz Beit Am
CATEGORIES:Shabbat
ATTACH;FMTTYPE=image/jpeg:https://calendar.adasisrael.org/wp-content/uploads/2023/07/minchaservice600x400-sc8WO8.tmp_.jpg
END:VEVENT
BEGIN:VEVENT
DTSTART;TZID=America/New_York:20250208T091500
DTEND;TZID=America/New_York:20250208T114500
DTSTAMP:20260421T170452
CREATED:20250207T012502Z
LAST-MODIFIED:20250208T164002Z
UID:10006993-1739006100-1739015100@calendar.adasisrael.org
SUMMARY:TEM Shabbat Services
DESCRIPTION:The Traditional Egalitarian Minyan (TEM) is a warm\, spirited service\, committed to participatory worship. It meets in the Gewirz Beit Am every Shabbat morning and on some holidays at 9:30 a.m. Led by volunteers with the occasional assistance of Adas clergy\, the TEM service offers a full P’sukei D’Zimrah (introductory Psalms)\, Shacharit\, Torah service (starting around 10:20 a.m.) and Musaf. We read the entire weekly Torah portion\, and a D’var Torah is shared every week by a member of the TEM community. Our service ends around the same time as Adas’s Smith Sanctuary service\, and we will join the the congregational Kiddush once it resumes following the pandemic.
URL:https://calendar.adasisrael.org/event/tem-shabbat-services-80/
LOCATION:Gewirz Beit Am
CATEGORIES:Shabbat
ATTACH;FMTTYPE=image/png:https://calendar.adasisrael.org/wp-content/uploads/2023/07/Screenshot2023-06-23at10.20.20AM-p4sN6R.tmp_.png
END:VEVENT
BEGIN:VEVENT
DTSTART;TZID=America/New_York:20250207T180000
DTEND;TZID=America/New_York:20250207T190000
DTSTAMP:20260421T170452
CREATED:20250207T012502Z
LAST-MODIFIED:20250207T230002Z
UID:10006990-1738951200-1738954800@calendar.adasisrael.org
SUMMARY:Traditional Egalitarian Minyan Kabbalat Shabbat
DESCRIPTION:Join the Traditional Egalitarian Minyan in the Gewirz Beit Am for Kabbalat Shabbat. Come lend your voices and welcome Shabbat with us\, at a spirited\, traditional Friday night davening. All are welcome!
URL:https://calendar.adasisrael.org/event/traditional-egalitarian-minyan-kabbalat-shabbat-16/
LOCATION:Gewirz Beit Am
CATEGORIES:Shabbat
ATTACH;FMTTYPE=image/jpeg:https://calendar.adasisrael.org/wp-content/uploads/2023/07/ShabbatImage-600x400-pGK88z.tmp_.jpg
END:VEVENT
BEGIN:VEVENT
DTSTART;TZID=America/New_York:20250204T190000
DTEND;TZID=America/New_York:20250204T210000
DTSTAMP:20260421T170452
CREATED:20241124T134524Z
LAST-MODIFIED:20250205T013002Z
UID:10006523-1738695600-1738702800@calendar.adasisrael.org
SUMMARY:Brave Conversations: Israel and the Diaspora
DESCRIPTION:Join a small group of fellow Adas community members in brave conversations about topics and ideas that will challenge us to disagree with respect\, to debate with nuance and thoughtfulness\, and to remain in deep relationship with one another. These Adas-member facilitated conversations will be based on articles and/or podcasts selected in consultation with your rabbinic team. \nLimit to 30 registrants per sessionDecember 3rd: Register HereJanuary 7th: Register HereFebruary 4th: Register HereMarch 4th: Register HereApril 1st: Register Here
URL:https://calendar.adasisrael.org/event/brave-conversations-israel-and-the-diaspora-3/
LOCATION:Gewirz Beit Am
ATTACH;FMTTYPE=image/jpeg:https://calendar.adasisrael.org/wp-content/uploads/2024/04/pexels-haley-black-2087387-n7GWP8.tmp_.jpg
END:VEVENT
BEGIN:VEVENT
DTSTART;TZID=America/New_York:20250201T124500
DTEND;TZID=America/New_York:20250201T133000
DTSTAMP:20260421T170452
CREATED:20241124T134523Z
LAST-MODIFIED:20250201T182502Z
UID:10006512-1738413900-1738416600@calendar.adasisrael.org
SUMMARY:Shabbat Mincha Service
DESCRIPTION:Join us for a Saturday afternoon of prayer and Torah. The content of the mincha prayers reflects the essential goal of menucha (rest) on the Sabbath day.
URL:https://calendar.adasisrael.org/event/shabbat-mincha-service-81/
LOCATION:Gewirz Beit Am
CATEGORIES:Shabbat
ATTACH;FMTTYPE=image/jpeg:https://calendar.adasisrael.org/wp-content/uploads/2023/07/minchaservice600x400-sc8WO8.tmp_.jpg
END:VEVENT
BEGIN:VEVENT
DTSTART;TZID=America/New_York:20250201T093000
DTEND;TZID=America/New_York:20250201T120000
DTSTAMP:20260421T170452
CREATED:20241124T134523Z
LAST-MODIFIED:20250201T155502Z
UID:10006508-1738402200-1738411200@calendar.adasisrael.org
SUMMARY:TEM Shabbat Services
DESCRIPTION:The Traditional Egalitarian Minyan (TEM) is a warm\, spirited service\, committed to participatory worship. It meets in the Gewirz Beit Am every Shabbat morning and on some holidays at 9:30 a.m. Led by volunteers with the occasional assistance of Adas clergy\, the TEM service offers a full P’sukei D’Zimrah (introductory Psalms)\, Shacharit\, Torah service (starting around 10:20 a.m.) and Musaf. We read the entire weekly Torah portion\, and a D’var Torah is shared every week by a member of the TEM community. Our service ends around the same time as Adas’s Smith Sanctuary service\, and we will join the the congregational Kiddush once it resumes following the pandemic.
URL:https://calendar.adasisrael.org/event/tem-shabbat-services-79/
LOCATION:Gewirz Beit Am
CATEGORIES:Shabbat
ATTACH;FMTTYPE=image/png:https://calendar.adasisrael.org/wp-content/uploads/2023/07/Screenshot2023-06-23at10.20.20AM-p4sN6R.tmp_.png
END:VEVENT
BEGIN:VEVENT
DTSTART;TZID=America/New_York:20250128T184500
DTEND;TZID=America/New_York:20250128T210000
DTSTAMP:20260421T170452
CREATED:20250123T180532Z
LAST-MODIFIED:20250129T013002Z
UID:10006911-1738089900-1738098000@calendar.adasisrael.org
SUMMARY:At the Well Wellness Center Partnership Program
DESCRIPTION:Moon by Moon: A Community Integration of Spiritual Time Based on the Hebrew CalendarIn Partnership with At The Well \nJewish tradition holds the world’s best-kept wellness secrets—these ancient practices support our wholeness individually and in community. Please join in this collaborative experience as At the Well and the Wellness Center @ Adas partner to explore the wisdom of the lunar calendar through the sacred technology of Rosh Chodesh. The Hebrew Calendar invites each of us into cyclical time\, present-moment awareness\, embodiment\, and collective care. \nJewish tradition holds the world’s best-kept wellness secrets—these ancient practices support our wholeness individually and in community. Please join in this collaborative experience as At the Well and the Wellness Center @ Adas partner to explore the wisdom of the lunar calendar through the sacred technology of Rosh Chodesh. The Hebrew Calendar invites each of us into cyclical time\, present-moment awareness\, embodiment\, and collective care. \nTuesday\, December 3rd @ 6:45pm–KISLEVIn Kislev\, we awaken to our subconscious selves\, tap into the spirituality of dreaming\, hone in on sleep to nourish us in winter\, and connect with the miracles of the season. Guided by Sarah Waxman\, we will learn the teachings of this sacred months\, with a sound bath led by Leemor Chandally and a creative dream exploration led by Andrea Lee Zucker. \nTuesday\, January 28th @ 6:45pm–SHVATWith At The WellIn Shvat we find rejuvenation through our connection to the natural world – just like the trees we celebrate on Tu B’Shvat (full moon)\, we continue to grow and renew even through the harshness of winter. We will be awakening from our hibernation and planting seeds for the spring to come. \nTuesday\, April 1st @6:45pm–NISSANWith Rabbi Lauren HoltzblattIn Nissan\, we celebrate the origins of Rosh Chodesh and embody liberation by owning our own time. This month invites us to take a step towards our own wholeness\, each setting intentions for freedom. \nTuesday\, May 20th @6:45pm–SIVAN With Rabbi Elianna YolkutIn Sivan we open up to receive divine wisdom and share our wisdom generously\, finding strength and harmony in community and collective care. \nRegister
URL:https://calendar.adasisrael.org/event/at-the-well-wellness-center-partnership-program-2/
LOCATION:Gewirz Beit Am
ATTACH;FMTTYPE=image/jpeg:https://calendar.adasisrael.org/wp-content/uploads/2024/11/pexels-ruvim-1807011-3622517copy-Q05fTI.tmp_-scaled.jpg
END:VEVENT
BEGIN:VEVENT
DTSTART;TZID=America/New_York:20250125T124500
DTEND;TZID=America/New_York:20250125T133000
DTSTAMP:20260421T170452
CREATED:20241124T134520Z
LAST-MODIFIED:20250125T181002Z
UID:10006479-1737809100-1737811800@calendar.adasisrael.org
SUMMARY:Shabbat Mincha Service
DESCRIPTION:Join us for a Saturday afternoon of prayer and Torah. The content of the mincha prayers reflects the essential goal of menucha (rest) on the Sabbath day.
URL:https://calendar.adasisrael.org/event/shabbat-mincha-service-80/
LOCATION:Gewirz Beit Am
CATEGORIES:Shabbat
ATTACH;FMTTYPE=image/jpeg:https://calendar.adasisrael.org/wp-content/uploads/2023/07/minchaservice600x400-sc8WO8.tmp_.jpg
END:VEVENT
BEGIN:VEVENT
DTSTART;TZID=America/New_York:20250125T093000
DTEND;TZID=America/New_York:20250125T120000
DTSTAMP:20260421T170452
CREATED:20241124T134520Z
LAST-MODIFIED:20250125T170002Z
UID:10006476-1737797400-1737806400@calendar.adasisrael.org
SUMMARY:TEM Shabbat Services
DESCRIPTION:The Traditional Egalitarian Minyan (TEM) is a warm\, spirited service\, committed to participatory worship. It meets in the Gewirz Beit Am every Shabbat morning and on some holidays at 9:30 a.m. Led by volunteers with the occasional assistance of Adas clergy\, the TEM service offers a full P’sukei D’Zimrah (introductory Psalms)\, Shacharit\, Torah service (starting around 10:20 a.m.) and Musaf. We read the entire weekly Torah portion\, and a D’var Torah is shared every week by a member of the TEM community. Our service ends around the same time as Adas’s Smith Sanctuary service\, and we will join the the congregational Kiddush once it resumes following the pandemic.
URL:https://calendar.adasisrael.org/event/tem-shabbat-services-78/
LOCATION:Gewirz Beit Am
CATEGORIES:Shabbat
ATTACH;FMTTYPE=image/png:https://calendar.adasisrael.org/wp-content/uploads/2023/07/Screenshot2023-06-23at10.20.20AM-p4sN6R.tmp_.png
END:VEVENT
BEGIN:VEVENT
DTSTART;TZID=America/New_York:20250118T124500
DTEND;TZID=America/New_York:20250118T133000
DTSTAMP:20260421T170452
CREATED:20241124T134518Z
LAST-MODIFIED:20250118T180502Z
UID:10006449-1737204300-1737207000@calendar.adasisrael.org
SUMMARY:Shabbat Mincha Service
DESCRIPTION:Join us for a Saturday afternoon of prayer and Torah. The content of the mincha prayers reflects the essential goal of menucha (rest) on the Sabbath day.
URL:https://calendar.adasisrael.org/event/shabbat-mincha-service-79/
LOCATION:Gewirz Beit Am
CATEGORIES:Shabbat
ATTACH;FMTTYPE=image/jpeg:https://calendar.adasisrael.org/wp-content/uploads/2023/07/minchaservice600x400-sc8WO8.tmp_.jpg
END:VEVENT
BEGIN:VEVENT
DTSTART;TZID=America/New_York:20250118T093000
DTEND;TZID=America/New_York:20250118T120000
DTSTAMP:20260421T170452
CREATED:20241124T134518Z
LAST-MODIFIED:20250118T164002Z
UID:10006447-1737192600-1737201600@calendar.adasisrael.org
SUMMARY:TEM Shabbat Services
DESCRIPTION:The Traditional Egalitarian Minyan (TEM) is a warm\, spirited service\, committed to participatory worship. It meets in the Gewirz Beit Am every Shabbat morning and on some holidays at 9:30 a.m. Led by volunteers with the occasional assistance of Adas clergy\, the TEM service offers a full P’sukei D’Zimrah (introductory Psalms)\, Shacharit\, Torah service (starting around 10:20 a.m.) and Musaf. We read the entire weekly Torah portion\, and a D’var Torah is shared every week by a member of the TEM community. Our service ends around the same time as Adas’s Smith Sanctuary service\, and we will join the the congregational Kiddush once it resumes following the pandemic.
URL:https://calendar.adasisrael.org/event/tem-shabbat-services-77/
LOCATION:Gewirz Beit Am
CATEGORIES:Shabbat
ATTACH;FMTTYPE=image/png:https://calendar.adasisrael.org/wp-content/uploads/2023/07/Screenshot2023-06-23at10.20.20AM-p4sN6R.tmp_.png
END:VEVENT
BEGIN:VEVENT
DTSTART;TZID=America/New_York:20250112T130000
DTEND;TZID=America/New_York:20250112T160000
DTSTAMP:20260421T170452
CREATED:20241124T134516Z
LAST-MODIFIED:20250112T201002Z
UID:10006422-1736686800-1736697600@calendar.adasisrael.org
SUMMARY:DC Klezmer Rehearsal
DESCRIPTION:
URL:https://calendar.adasisrael.org/event/dc-klezmer-rehearsal-4/
LOCATION:Gewirz Beit Am
ATTACH;FMTTYPE=image/jpeg:https://calendar.adasisrael.org/wp-content/uploads/2023/07/Front-Professional.jpg
END:VEVENT
END:VCALENDAR