BEGIN:VCALENDAR
VERSION:2.0
PRODID:-//Adas Israel Congregation - ECPv6.2.9//NONSGML v1.0//EN
CALSCALE:GREGORIAN
METHOD:PUBLISH
X-WR-CALNAME:Adas Israel Congregation
X-ORIGINAL-URL:https://calendar.adasisrael.org
X-WR-CALDESC:Events for Adas Israel Congregation
REFRESH-INTERVAL;VALUE=DURATION:PT1H
X-Robots-Tag:noindex
X-PUBLISHED-TTL:PT1H
BEGIN:VTIMEZONE
TZID:America/New_York
BEGIN:DAYLIGHT
TZOFFSETFROM:-0500
TZOFFSETTO:-0400
TZNAME:EDT
DTSTART:20250309T070000
END:DAYLIGHT
BEGIN:STANDARD
TZOFFSETFROM:-0400
TZOFFSETTO:-0500
TZNAME:EST
DTSTART:20251102T060000
END:STANDARD
END:VTIMEZONE
BEGIN:VEVENT
DTSTART;TZID=America/New_York:20250823T093000
DTEND;TZID=America/New_York:20250823T120000
DTSTAMP:20260421T140500
CREATED:20250624T215523Z
LAST-MODIFIED:20250823T155502Z
UID:10008565-1755941400-1755950400@calendar.adasisrael.org
SUMMARY:TEM Shabbat Services
DESCRIPTION:The Traditional Egalitarian Minyan (TEM) is a warm\, spirited service\, committed to participatory worship. It meets in the Gewirz Beit Am every Shabbat morning and on some holidays at 9:30 a.m. Led by volunteers with the occasional assistance of Adas clergy\, the TEM service offers a full P’sukei D’Zimrah (introductory Psalms)\, Shacharit\, Torah service (starting around 10:20 a.m.) and Musaf. We read the entire weekly Torah portion\, and a D’var Torah is shared every week by a member of the TEM community. Our service ends around the same time as Adas’s Smith Sanctuary service\, and we will join the the congregational Kiddush once it resumes following the pandemic.
URL:https://calendar.adasisrael.org/event/tem-shabbat-services-106/
LOCATION:Gewirz Beit Am
CATEGORIES:Shabbat
ATTACH;FMTTYPE=image/png:https://calendar.adasisrael.org/wp-content/uploads/2023/07/Screenshot2023-06-23at10.20.20AM-p4sN6R.tmp_.png
END:VEVENT
BEGIN:VEVENT
DTSTART;TZID=America/New_York:20250816T093000
DTEND;TZID=America/New_York:20250816T120000
DTSTAMP:20260421T140500
CREATED:20250624T215521Z
LAST-MODIFIED:20250816T151502Z
UID:10008544-1755336600-1755345600@calendar.adasisrael.org
SUMMARY:TEM Shabbat Services
DESCRIPTION:The Traditional Egalitarian Minyan (TEM) is a warm\, spirited service\, committed to participatory worship. It meets in the Gewirz Beit Am every Shabbat morning and on some holidays at 9:30 a.m. Led by volunteers with the occasional assistance of Adas clergy\, the TEM service offers a full P’sukei D’Zimrah (introductory Psalms)\, Shacharit\, Torah service (starting around 10:20 a.m.) and Musaf. We read the entire weekly Torah portion\, and a D’var Torah is shared every week by a member of the TEM community. Our service ends around the same time as Adas’s Smith Sanctuary service\, and we will join the the congregational Kiddush once it resumes following the pandemic.
URL:https://calendar.adasisrael.org/event/tem-shabbat-services-105/
LOCATION:Gewirz Beit Am
CATEGORIES:Shabbat
ATTACH;FMTTYPE=image/png:https://calendar.adasisrael.org/wp-content/uploads/2023/07/Screenshot2023-06-23at10.20.20AM-p4sN6R.tmp_.png
END:VEVENT
BEGIN:VEVENT
DTSTART;TZID=America/New_York:20250809T093000
DTEND;TZID=America/New_York:20250809T120000
DTSTAMP:20260421T140500
CREATED:20250624T215518Z
LAST-MODIFIED:20250809T145502Z
UID:10008523-1754731800-1754740800@calendar.adasisrael.org
SUMMARY:TEM Shabbat Services
DESCRIPTION:The Traditional Egalitarian Minyan (TEM) is a warm\, spirited service\, committed to participatory worship. It meets in the Gewirz Beit Am every Shabbat morning and on some holidays at 9:30 a.m. Led by volunteers with the occasional assistance of Adas clergy\, the TEM service offers a full P’sukei D’Zimrah (introductory Psalms)\, Shacharit\, Torah service (starting around 10:20 a.m.) and Musaf. We read the entire weekly Torah portion\, and a D’var Torah is shared every week by a member of the TEM community. Our service ends around the same time as Adas’s Smith Sanctuary service\, and we will join the the congregational Kiddush once it resumes following the pandemic.
URL:https://calendar.adasisrael.org/event/tem-shabbat-services-104/
LOCATION:Gewirz Beit Am
CATEGORIES:Shabbat
ATTACH;FMTTYPE=image/png:https://calendar.adasisrael.org/wp-content/uploads/2023/07/Screenshot2023-06-23at10.20.20AM-p4sN6R.tmp_.png
END:VEVENT
BEGIN:VEVENT
DTSTART;TZID=America/New_York:20250802T093000
DTEND;TZID=America/New_York:20250802T120000
DTSTAMP:20260421T140500
CREATED:20250624T215516Z
LAST-MODIFIED:20250802T153502Z
UID:10008502-1754127000-1754136000@calendar.adasisrael.org
SUMMARY:TEM Shabbat Services
DESCRIPTION:The Traditional Egalitarian Minyan (TEM) is a warm\, spirited service\, committed to participatory worship. It meets in the Gewirz Beit Am every Shabbat morning and on some holidays at 9:30 a.m. Led by volunteers with the occasional assistance of Adas clergy\, the TEM service offers a full P’sukei D’Zimrah (introductory Psalms)\, Shacharit\, Torah service (starting around 10:20 a.m.) and Musaf. We read the entire weekly Torah portion\, and a D’var Torah is shared every week by a member of the TEM community. Our service ends around the same time as Adas’s Smith Sanctuary service\, and we will join the the congregational Kiddush once it resumes following the pandemic.
URL:https://calendar.adasisrael.org/event/tem-shabbat-services-103/
LOCATION:Gewirz Beit Am
CATEGORIES:Shabbat
ATTACH;FMTTYPE=image/png:https://calendar.adasisrael.org/wp-content/uploads/2023/07/Screenshot2023-06-23at10.20.20AM-p4sN6R.tmp_.png
END:VEVENT
BEGIN:VEVENT
DTSTART;TZID=America/New_York:20250726T091500
DTEND;TZID=America/New_York:20250726T120000
DTSTAMP:20260421T140500
CREATED:20250624T215513Z
LAST-MODIFIED:20250726T145502Z
UID:10008480-1753521300-1753531200@calendar.adasisrael.org
SUMMARY:TEM Shabbat Services
DESCRIPTION:The Traditional Egalitarian Minyan (TEM) is a warm\, spirited service\, committed to participatory worship. It meets in the Gewirz Beit Am every Shabbat morning and on some holidays at 9:30 a.m. Led by volunteers with the occasional assistance of Adas clergy\, the TEM service offers a full P’sukei D’Zimrah (introductory Psalms)\, Shacharit\, Torah service (starting around 10:20 a.m.) and Musaf. We read the entire weekly Torah portion\, and a D’var Torah is shared every week by a member of the TEM community. Our service ends around the same time as Adas’s Smith Sanctuary service\, and we will join the the congregational Kiddush once it resumes following the pandemic.
URL:https://calendar.adasisrael.org/event/tem-shabbat-services-102/
LOCATION:Gewirz Beit Am
CATEGORIES:Shabbat
ATTACH;FMTTYPE=image/png:https://calendar.adasisrael.org/wp-content/uploads/2023/07/Screenshot2023-06-23at10.20.20AM-p4sN6R.tmp_.png
END:VEVENT
BEGIN:VEVENT
DTSTART;TZID=America/New_York:20250719T093000
DTEND;TZID=America/New_York:20250719T120000
DTSTAMP:20260421T140500
CREATED:20250624T215511Z
LAST-MODIFIED:20250719T153002Z
UID:10008456-1752917400-1752926400@calendar.adasisrael.org
SUMMARY:TEM Shabbat Services
DESCRIPTION:The Traditional Egalitarian Minyan (TEM) is a warm\, spirited service\, committed to participatory worship. It meets in the Gewirz Beit Am every Shabbat morning and on some holidays at 9:30 a.m. Led by volunteers with the occasional assistance of Adas clergy\, the TEM service offers a full P’sukei D’Zimrah (introductory Psalms)\, Shacharit\, Torah service (starting around 10:20 a.m.) and Musaf. We read the entire weekly Torah portion\, and a D’var Torah is shared every week by a member of the TEM community. Our service ends around the same time as Adas’s Smith Sanctuary service\, and we will join the the congregational Kiddush once it resumes following the pandemic.
URL:https://calendar.adasisrael.org/event/tem-shabbat-services-101/
LOCATION:Gewirz Beit Am
CATEGORIES:Shabbat
ATTACH;FMTTYPE=image/png:https://calendar.adasisrael.org/wp-content/uploads/2023/07/Screenshot2023-06-23at10.20.20AM-p4sN6R.tmp_.png
END:VEVENT
BEGIN:VEVENT
DTSTART;TZID=America/New_York:20250712T093000
DTEND;TZID=America/New_York:20250712T120000
DTSTAMP:20260421T140500
CREATED:20250624T215508Z
LAST-MODIFIED:20250712T145502Z
UID:10008433-1752312600-1752321600@calendar.adasisrael.org
SUMMARY:TEM Shabbat Services
DESCRIPTION:The Traditional Egalitarian Minyan (TEM) is a warm\, spirited service\, committed to participatory worship. It meets in the Gewirz Beit Am every Shabbat morning and on some holidays at 9:30 a.m. Led by volunteers with the occasional assistance of Adas clergy\, the TEM service offers a full P’sukei D’Zimrah (introductory Psalms)\, Shacharit\, Torah service (starting around 10:20 a.m.) and Musaf. We read the entire weekly Torah portion\, and a D’var Torah is shared every week by a member of the TEM community. Our service ends around the same time as Adas’s Smith Sanctuary service\, and we will join the the congregational Kiddush once it resumes following the pandemic.
URL:https://calendar.adasisrael.org/event/tem-shabbat-services-100/
LOCATION:Gewirz Beit Am
CATEGORIES:Shabbat
ATTACH;FMTTYPE=image/png:https://calendar.adasisrael.org/wp-content/uploads/2023/07/Screenshot2023-06-23at10.20.20AM-p4sN6R.tmp_.png
END:VEVENT
BEGIN:VEVENT
DTSTART;TZID=America/New_York:20250705T093000
DTEND;TZID=America/New_York:20250705T120000
DTSTAMP:20260421T140500
CREATED:20250624T215506Z
LAST-MODIFIED:20250705T151001Z
UID:10008413-1751707800-1751716800@calendar.adasisrael.org
SUMMARY:Shabbat Services
DESCRIPTION:Click Here To Livestream \nLed by our inspiring Rabbis and Cantor\, this service includes a D’var Torah and sermon and often includes participation by members and B’nai Mitzvah. \nShabbat Service Links: \nSiddur Lev Shalem: Kabbalat Shabbat | Click Here to DownloadSiddur Lev Shalem: Shabbat Morning | Click Here to Download
URL:https://calendar.adasisrael.org/event/shabbat-services/
LOCATION:Gewirz Beit Am
CATEGORIES:Shabbat
ATTACH;FMTTYPE=image/jpeg:https://calendar.adasisrael.org/wp-content/uploads/2024/03/AdasShabbat-YxiwDc.tmp_.jpg
END:VEVENT
BEGIN:VEVENT
DTSTART;TZID=America/New_York:20250628T093000
DTEND;TZID=America/New_York:20250628T120000
DTSTAMP:20260421T140500
CREATED:20250624T215504Z
LAST-MODIFIED:20250628T151502Z
UID:10008391-1751103000-1751112000@calendar.adasisrael.org
SUMMARY:TEM Shabbat Services
DESCRIPTION:The Traditional Egalitarian Minyan (TEM) is a warm\, spirited service\, committed to participatory worship. It meets in the Gewirz Beit Am every Shabbat morning and on some holidays at 9:30 a.m. Led by volunteers with the occasional assistance of Adas clergy\, the TEM service offers a full P’sukei D’Zimrah (introductory Psalms)\, Shacharit\, Torah service (starting around 10:20 a.m.) and Musaf. We read the entire weekly Torah portion\, and a D’var Torah is shared every week by a member of the TEM community. Our service ends around the same time as Adas’s Smith Sanctuary service\, and we will join the the congregational Kiddush once it resumes following the pandemic.
URL:https://calendar.adasisrael.org/event/tem-shabbat-services-99/
LOCATION:Gewirz Beit Am
CATEGORIES:Shabbat
ATTACH;FMTTYPE=image/png:https://calendar.adasisrael.org/wp-content/uploads/2023/07/Screenshot2023-06-23at10.20.20AM-p4sN6R.tmp_.png
END:VEVENT
BEGIN:VEVENT
DTSTART;TZID=America/New_York:20250625T200000
DTEND;TZID=America/New_York:20250625T213000
DTSTAMP:20260421T140500
CREATED:20250624T215503Z
LAST-MODIFIED:20250626T012502Z
UID:10008378-1750881600-1750887000@calendar.adasisrael.org
SUMMARY:CLP Hartman Event with Yehuda Kurtzer
DESCRIPTION:
URL:https://calendar.adasisrael.org/event/clp-hartman-event-with-yehuda-kurtzer-2/
LOCATION:Gewirz Beit Am
ATTACH;FMTTYPE=image/jpeg:https://calendar.adasisrael.org/wp-content/uploads/2023/07/Front-Professional.jpg
END:VEVENT
BEGIN:VEVENT
DTSTART;TZID=America/New_York:20250621T093000
DTEND;TZID=America/New_York:20250621T120000
DTSTAMP:20260421T140500
CREATED:20250621T054002Z
LAST-MODIFIED:20250621T155502Z
UID:10008027-1750498200-1750507200@calendar.adasisrael.org
SUMMARY:TEM Shabbat Services
DESCRIPTION:The Traditional Egalitarian Minyan (TEM) is a warm\, spirited service\, committed to participatory worship. It meets in the Gewirz Beit Am every Shabbat morning and on some holidays at 9:30 a.m. Led by volunteers with the occasional assistance of Adas clergy\, the TEM service offers a full P’sukei D’Zimrah (introductory Psalms)\, Shacharit\, Torah service (starting around 10:20 a.m.) and Musaf. We read the entire weekly Torah portion\, and a D’var Torah is shared every week by a member of the TEM community. Our service ends around the same time as Adas’s Smith Sanctuary service\, and we will join the the congregational Kiddush once it resumes following the pandemic.
URL:https://calendar.adasisrael.org/event/tem-shabbat-services-98/
LOCATION:Gewirz Beit Am
CATEGORIES:Shabbat
ATTACH;FMTTYPE=image/png:https://calendar.adasisrael.org/wp-content/uploads/2023/07/Screenshot2023-06-23at10.20.20AM-p4sN6R.tmp_.png
END:VEVENT
BEGIN:VEVENT
DTSTART;TZID=America/New_York:20250620T180000
DTEND;TZID=America/New_York:20250620T190000
DTSTAMP:20260421T140500
CREATED:20250321T055517Z
LAST-MODIFIED:20250620T225501Z
UID:10007629-1750442400-1750446000@calendar.adasisrael.org
SUMMARY:Kabbalat Shabbat Services
DESCRIPTION:Community Kabbalat Shabbat \nThe tone of this service is traditional\, passionate\, joyful\, and spiritual. We will join together in rousing traditional melodies\, along with moments of depth and quiet contemplation. Our rabbis and other community members will share short divrei Torah (words of Torah). You will leave the service feeling renewed and in time to enjoy a wonderful Shabbat evening.
URL:https://calendar.adasisrael.org/event/kabbalat-shabbat-services-40/
LOCATION:Gewirz Beit Am
CATEGORIES:Shabbat
ATTACH;FMTTYPE=image/jpeg:https://calendar.adasisrael.org/wp-content/uploads/2024/01/253816_orig-kIYbWj.tmp_.jpg
END:VEVENT
BEGIN:VEVENT
DTSTART;TZID=America/New_York:20250614T093000
DTEND;TZID=America/New_York:20250614T120000
DTSTAMP:20260421T140500
CREATED:20250315T061017Z
LAST-MODIFIED:20250614T154002Z
UID:10007598-1749893400-1749902400@calendar.adasisrael.org
SUMMARY:TEM Shabbat Services
DESCRIPTION:The Traditional Egalitarian Minyan (TEM) is a warm\, spirited service\, committed to participatory worship. It meets in the Gewirz Beit Am every Shabbat morning and on some holidays at 9:30 a.m. Led by volunteers with the occasional assistance of Adas clergy\, the TEM service offers a full P’sukei D’Zimrah (introductory Psalms)\, Shacharit\, Torah service (starting around 10:20 a.m.) and Musaf. We read the entire weekly Torah portion\, and a D’var Torah is shared every week by a member of the TEM community. Our service ends around the same time as Adas’s Smith Sanctuary service\, and we will join the the congregational Kiddush once it resumes following the pandemic.
URL:https://calendar.adasisrael.org/event/tem-shabbat-services-97/
LOCATION:Gewirz Beit Am
CATEGORIES:Shabbat
ATTACH;FMTTYPE=image/png:https://calendar.adasisrael.org/wp-content/uploads/2023/07/Screenshot2023-06-23at10.20.20AM-p4sN6R.tmp_.png
END:VEVENT
BEGIN:VEVENT
DTSTART;TZID=America/New_York:20250613T183000
DTEND;TZID=America/New_York:20250613T203000
DTSTAMP:20260421T140500
CREATED:20250314T052518Z
LAST-MODIFIED:20250613T234002Z
UID:10007593-1749839400-1749846600@calendar.adasisrael.org
SUMMARY:Shabbat Friday Night Musical Services
DESCRIPTION:
URL:https://calendar.adasisrael.org/event/shabbat-friday-night-musical-services-17/
LOCATION:Gewirz Beit Am
CATEGORIES:Shabbat
ATTACH;FMTTYPE=image/jpeg:https://calendar.adasisrael.org/wp-content/uploads/2023/07/Front-Professional.jpg
END:VEVENT
BEGIN:VEVENT
DTSTART;TZID=America/New_York:20250610T190000
DTEND;TZID=America/New_York:20250610T200000
DTSTAMP:20260421T140500
CREATED:20250529T152106Z
LAST-MODIFIED:20250610T230502Z
UID:10007907-1749582000-1749585600@calendar.adasisrael.org
SUMMARY:Wellness Center Meditation
DESCRIPTION:
URL:https://calendar.adasisrael.org/event/wellness-center-meditation-6/
LOCATION:Gewirz Beit Am
ATTACH;FMTTYPE=image/jpeg:https://calendar.adasisrael.org/wp-content/uploads/2023/07/Front-Professional.jpg
END:VEVENT
BEGIN:VEVENT
DTSTART;TZID=America/New_York:20250608T130000
DTEND;TZID=America/New_York:20250608T160000
DTSTAMP:20260421T140500
CREATED:20250309T060018Z
LAST-MODIFIED:20250608T195502Z
UID:10007557-1749387600-1749398400@calendar.adasisrael.org
SUMMARY:DC Klezmer Rehearsal
DESCRIPTION:
URL:https://calendar.adasisrael.org/event/dc-klezmer-rehearsal-9/
LOCATION:Gewirz Beit Am
ATTACH;FMTTYPE=image/jpeg:https://calendar.adasisrael.org/wp-content/uploads/2023/07/Front-Professional.jpg
END:VEVENT
BEGIN:VEVENT
DTSTART;TZID=America/New_York:20250607T093000
DTEND;TZID=America/New_York:20250607T120000
DTSTAMP:20260421T140500
CREATED:20250308T060017Z
LAST-MODIFIED:20250607T154001Z
UID:10007550-1749288600-1749297600@calendar.adasisrael.org
SUMMARY:TEM Shabbat Services
DESCRIPTION:The Traditional Egalitarian Minyan (TEM) is a warm\, spirited service\, committed to participatory worship. It meets in the Gewirz Beit Am every Shabbat morning and on some holidays at 9:30 a.m. Led by volunteers with the occasional assistance of Adas clergy\, the TEM service offers a full P’sukei D’Zimrah (introductory Psalms)\, Shacharit\, Torah service (starting around 10:20 a.m.) and Musaf. We read the entire weekly Torah portion\, and a D’var Torah is shared every week by a member of the TEM community. Our service ends around the same time as Adas’s Smith Sanctuary service\, and we will join the the congregational Kiddush once it resumes following the pandemic.
URL:https://calendar.adasisrael.org/event/tem-shabbat-services-96/
LOCATION:Gewirz Beit Am
CATEGORIES:Shabbat
ATTACH;FMTTYPE=image/png:https://calendar.adasisrael.org/wp-content/uploads/2023/07/Screenshot2023-06-23at10.20.20AM-p4sN6R.tmp_.png
END:VEVENT
BEGIN:VEVENT
DTSTART;TZID=America/New_York:20250606T183000
DTEND;TZID=America/New_York:20250606T193000
DTSTAMP:20260421T140500
CREATED:20250307T055518Z
LAST-MODIFIED:20250606T231002Z
UID:10007545-1749234600-1749238200@calendar.adasisrael.org
SUMMARY:Traditional Egalitarian Minyan Kabbalat Shabbat
DESCRIPTION:Join the Traditional Egalitarian Minyan in the Gewirz Beit Am for Kabbalat Shabbat. Come lend your voices and welcome Shabbat with us\, at a spirited\, traditional Friday night davening. All are welcome!
URL:https://calendar.adasisrael.org/event/traditional-egalitarian-minyan-kabbalat-shabbat-20/
LOCATION:Gewirz Beit Am
CATEGORIES:Shabbat
ATTACH;FMTTYPE=image/jpeg:https://calendar.adasisrael.org/wp-content/uploads/2023/07/ShabbatImage-600x400-pGK88z.tmp_.jpg
END:VEVENT
BEGIN:VEVENT
DTSTART;TZID=America/New_York:20250531T093000
DTEND;TZID=America/New_York:20250531T120000
DTSTAMP:20260421T140500
CREATED:20250301T060517Z
LAST-MODIFIED:20250531T154001Z
UID:10007511-1748683800-1748692800@calendar.adasisrael.org
SUMMARY:TEM Shabbat Services
DESCRIPTION:The Traditional Egalitarian Minyan (TEM) is a warm\, spirited service\, committed to participatory worship. It meets in the Gewirz Beit Am every Shabbat morning and on some holidays at 9:30 a.m. Led by volunteers with the occasional assistance of Adas clergy\, the TEM service offers a full P’sukei D’Zimrah (introductory Psalms)\, Shacharit\, Torah service (starting around 10:20 a.m.) and Musaf. We read the entire weekly Torah portion\, and a D’var Torah is shared every week by a member of the TEM community. Our service ends around the same time as Adas’s Smith Sanctuary service\, and we will join the the congregational Kiddush once it resumes following the pandemic.
URL:https://calendar.adasisrael.org/event/tem-shabbat-services-95/
LOCATION:Gewirz Beit Am
CATEGORIES:Shabbat
ATTACH;FMTTYPE=image/png:https://calendar.adasisrael.org/wp-content/uploads/2023/07/Screenshot2023-06-23at10.20.20AM-p4sN6R.tmp_.png
END:VEVENT
BEGIN:VEVENT
DTSTART;TZID=America/New_York:20250524T093000
DTEND;TZID=America/New_York:20250524T120000
DTSTAMP:20260421T140500
CREATED:20250225T053017Z
LAST-MODIFIED:20250524T151502Z
UID:10007477-1748079000-1748088000@calendar.adasisrael.org
SUMMARY:TEM Shabbat Services
DESCRIPTION:The Traditional Egalitarian Minyan (TEM) is a warm\, spirited service\, committed to participatory worship. It meets in the Gewirz Beit Am every Shabbat morning and on some holidays at 9:30 a.m. Led by volunteers with the occasional assistance of Adas clergy\, the TEM service offers a full P’sukei D’Zimrah (introductory Psalms)\, Shacharit\, Torah service (starting around 10:20 a.m.) and Musaf. We read the entire weekly Torah portion\, and a D’var Torah is shared every week by a member of the TEM community. Our service ends around the same time as Adas’s Smith Sanctuary service\, and we will join the the congregational Kiddush once it resumes following the pandemic.
URL:https://calendar.adasisrael.org/event/tem-shabbat-services-94/
LOCATION:Gewirz Beit Am
CATEGORIES:Shabbat
ATTACH;FMTTYPE=image/png:https://calendar.adasisrael.org/wp-content/uploads/2023/07/Screenshot2023-06-23at10.20.20AM-p4sN6R.tmp_.png
END:VEVENT
BEGIN:VEVENT
DTSTART;TZID=America/New_York:20250523T180000
DTEND;TZID=America/New_York:20250523T190000
DTSTAMP:20260421T140500
CREATED:20250224T063015Z
LAST-MODIFIED:20250523T223502Z
UID:10007473-1748023200-1748026800@calendar.adasisrael.org
SUMMARY:Kabbalat Shabbat Services
DESCRIPTION:
URL:https://calendar.adasisrael.org/event/kabbalat-shabbat-services-38/
LOCATION:Gewirz Beit Am
CATEGORIES:Shabbat
ATTACH;FMTTYPE=image/jpeg:https://calendar.adasisrael.org/wp-content/uploads/2024/01/253816_orig-kIYbWj.tmp_.jpg
END:VEVENT
BEGIN:VEVENT
DTSTART;TZID=America/New_York:20250518T130000
DTEND;TZID=America/New_York:20250518T160000
DTSTAMP:20260421T140500
CREATED:20250219T063016Z
LAST-MODIFIED:20250518T195502Z
UID:10007443-1747573200-1747584000@calendar.adasisrael.org
SUMMARY:DC Klezmer Rehearsal
DESCRIPTION:
URL:https://calendar.adasisrael.org/event/dc-klezmer-rehearsal-8/
LOCATION:Gewirz Beit Am
ATTACH;FMTTYPE=image/jpeg:https://calendar.adasisrael.org/wp-content/uploads/2023/07/Front-Professional.jpg
END:VEVENT
BEGIN:VEVENT
DTSTART;TZID=America/New_York:20250517T093000
DTEND;TZID=America/New_York:20250517T120000
DTSTAMP:20260421T140500
CREATED:20250218T055516Z
LAST-MODIFIED:20250517T155002Z
UID:10007437-1747474200-1747483200@calendar.adasisrael.org
SUMMARY:TEM Shabbat Services
DESCRIPTION:The Traditional Egalitarian Minyan (TEM) is a warm\, spirited service\, committed to participatory worship. It meets in the Gewirz Beit Am every Shabbat morning and on some holidays at 9:30 a.m. Led by volunteers with the occasional assistance of Adas clergy\, the TEM service offers a full P’sukei D’Zimrah (introductory Psalms)\, Shacharit\, Torah service (starting around 10:20 a.m.) and Musaf. We read the entire weekly Torah portion\, and a D’var Torah is shared every week by a member of the TEM community. Our service ends around the same time as Adas’s Smith Sanctuary service\, and we will join the the congregational Kiddush once it resumes following the pandemic.
URL:https://calendar.adasisrael.org/event/tem-shabbat-services-93/
LOCATION:Gewirz Beit Am
CATEGORIES:Shabbat
ATTACH;FMTTYPE=image/png:https://calendar.adasisrael.org/wp-content/uploads/2023/07/Screenshot2023-06-23at10.20.20AM-p4sN6R.tmp_.png
END:VEVENT
BEGIN:VEVENT
DTSTART;TZID=America/New_York:20250510T093000
DTEND;TZID=America/New_York:20250510T120000
DTSTAMP:20260421T140500
CREATED:20250211T061015Z
LAST-MODIFIED:20250510T155510Z
UID:10007396-1746869400-1746878400@calendar.adasisrael.org
SUMMARY:TEM Shabbat Services
DESCRIPTION:The Traditional Egalitarian Minyan (TEM) is a warm\, spirited service\, committed to participatory worship. It meets in the Gewirz Beit Am every Shabbat morning and on some holidays at 9:30 a.m. Led by volunteers with the occasional assistance of Adas clergy\, the TEM service offers a full P’sukei D’Zimrah (introductory Psalms)\, Shacharit\, Torah service (starting around 10:20 a.m.) and Musaf. We read the entire weekly Torah portion\, and a D’var Torah is shared every week by a member of the TEM community. Our service ends around the same time as Adas’s Smith Sanctuary service\, and we will join the the congregational Kiddush once it resumes following the pandemic.
URL:https://calendar.adasisrael.org/event/tem-shabbat-services-92/
LOCATION:Gewirz Beit Am
CATEGORIES:Shabbat
ATTACH;FMTTYPE=image/png:https://calendar.adasisrael.org/wp-content/uploads/2023/07/Screenshot2023-06-23at10.20.20AM-p4sN6R.tmp_.png
END:VEVENT
BEGIN:VEVENT
DTSTART;TZID=America/New_York:20250509T183000
DTEND;TZID=America/New_York:20250509T203000
DTSTAMP:20260421T140500
CREATED:20250210T061015Z
LAST-MODIFIED:20250509T234002Z
UID:10007391-1746815400-1746822600@calendar.adasisrael.org
SUMMARY:Shabbat Friday Night Musical Services
DESCRIPTION:
URL:https://calendar.adasisrael.org/event/shabbat-friday-night-musical-services-16/
LOCATION:Gewirz Beit Am
CATEGORIES:Shabbat
ATTACH;FMTTYPE=image/jpeg:https://calendar.adasisrael.org/wp-content/uploads/2023/07/Front-Professional.jpg
END:VEVENT
BEGIN:VEVENT
DTSTART;TZID=America/New_York:20250503T093000
DTEND;TZID=America/New_York:20250503T120000
DTSTAMP:20260421T140500
CREATED:20250207T012525Z
LAST-MODIFIED:20250503T154002Z
UID:10007366-1746264600-1746273600@calendar.adasisrael.org
SUMMARY:TEM Shabbat Services
DESCRIPTION:The Traditional Egalitarian Minyan (TEM) is a warm\, spirited service\, committed to participatory worship. It meets in the Gewirz Beit Am every Shabbat morning and on some holidays at 9:30 a.m. Led by volunteers with the occasional assistance of Adas clergy\, the TEM service offers a full P’sukei D’Zimrah (introductory Psalms)\, Shacharit\, Torah service (starting around 10:20 a.m.) and Musaf. We read the entire weekly Torah portion\, and a D’var Torah is shared every week by a member of the TEM community. Our service ends around the same time as Adas’s Smith Sanctuary service\, and we will join the the congregational Kiddush once it resumes following the pandemic.
URL:https://calendar.adasisrael.org/event/tem-shabbat-services-91/
LOCATION:Gewirz Beit Am
CATEGORIES:Shabbat
ATTACH;FMTTYPE=image/png:https://calendar.adasisrael.org/wp-content/uploads/2023/07/Screenshot2023-06-23at10.20.20AM-p4sN6R.tmp_.png
END:VEVENT
BEGIN:VEVENT
DTSTART;TZID=America/New_York:20250502T183000
DTEND;TZID=America/New_York:20250502T193000
DTSTAMP:20260421T140500
CREATED:20250207T012525Z
LAST-MODIFIED:20250502T224002Z
UID:10007362-1746210600-1746214200@calendar.adasisrael.org
SUMMARY:Traditional Egalitarian Minyan Kabbalat Shabbat
DESCRIPTION:Join the Traditional Egalitarian Minyan in the Gewirz Beit Am for Kabbalat Shabbat. Come lend your voices and welcome Shabbat with us\, at a spirited\, traditional Friday night davening. All are welcome!
URL:https://calendar.adasisrael.org/event/traditional-egalitarian-minyan-kabbalat-shabbat-19/
LOCATION:Gewirz Beit Am
CATEGORIES:Shabbat
ATTACH;FMTTYPE=image/jpeg:https://calendar.adasisrael.org/wp-content/uploads/2023/07/ShabbatImage-600x400-pGK88z.tmp_.jpg
END:VEVENT
BEGIN:VEVENT
DTSTART;TZID=America/New_York:20250430T190000
DTEND;TZID=America/New_York:20250430T213000
DTSTAMP:20260421T140500
CREATED:20250228T165014Z
LAST-MODIFIED:20250501T002502Z
UID:10007491-1746039600-1746048600@calendar.adasisrael.org
SUMMARY:Yom HaZikaron/Yom Ha'atzmaut Gathering
DESCRIPTION:Join us at Adas Israel to recognize Yom Ha’zikaron and Yom Ha’atzmaut with music and a special screening of Ben-Gurion\, Epilogue\, a compelling 2016 documentary featuring an interview from 1968 with David Ben-Gurion\, Israel’s founding father and first prime minister. \nIn this intimate conversation\, Ben-Gurion reflects candidly on leadership\, Zionism\, and Israel’s future\, offering insights that remain strikingly relevant today. The film will be followed by a brief discussion with Adas Israel member Lauren Strauss\, Director of Undergraduate Studies for Jewish Studies at American University. Light Israeli refreshments will be available. \nRegister
URL:https://calendar.adasisrael.org/event/yom-hazikaron-yom-haatzmaut-gathering/
LOCATION:Gewirz Beit Am
ATTACH;FMTTYPE=image/jpeg:https://calendar.adasisrael.org/wp-content/uploads/2025/03/yomhaatzmaut2025-LdRZlu.tmp_.jpg
END:VEVENT
BEGIN:VEVENT
DTSTART;TZID=America/New_York:20250427T130000
DTEND;TZID=America/New_York:20250427T160000
DTSTAMP:20260421T140500
CREATED:20250207T012523Z
LAST-MODIFIED:20250427T195502Z
UID:10007341-1745758800-1745769600@calendar.adasisrael.org
SUMMARY:DC Klezmer Rehearsal
DESCRIPTION:
URL:https://calendar.adasisrael.org/event/dc-klezmer-rehearsal-7/
LOCATION:Gewirz Beit Am
ATTACH;FMTTYPE=image/jpeg:https://calendar.adasisrael.org/wp-content/uploads/2023/07/Front-Professional.jpg
END:VEVENT
BEGIN:VEVENT
DTSTART;TZID=America/New_York:20250426T124500
DTEND;TZID=America/New_York:20250426T133000
DTSTAMP:20260421T140500
CREATED:20250207T012523Z
LAST-MODIFIED:20250426T162502Z
UID:10007336-1745671500-1745674200@calendar.adasisrael.org
SUMMARY:Shabbat Mincha Service
DESCRIPTION:Join us for a Saturday afternoon of prayer and Torah. The content of the mincha prayers reflects the essential goal of menucha (rest) on the Sabbath day.
URL:https://calendar.adasisrael.org/event/shabbat-mincha-service-93/
LOCATION:Gewirz Beit Am
CATEGORIES:Shabbat
ATTACH;FMTTYPE=image/jpeg:https://calendar.adasisrael.org/wp-content/uploads/2023/07/minchaservice600x400-sc8WO8.tmp_.jpg
END:VEVENT
END:VCALENDAR