BEGIN:VCALENDAR
VERSION:2.0
PRODID:-//Adas Israel Congregation - ECPv6.2.9//NONSGML v1.0//EN
CALSCALE:GREGORIAN
METHOD:PUBLISH
X-WR-CALNAME:Adas Israel Congregation
X-ORIGINAL-URL:https://calendar.adasisrael.org
X-WR-CALDESC:Events for Adas Israel Congregation
REFRESH-INTERVAL;VALUE=DURATION:PT1H
X-Robots-Tag:noindex
X-PUBLISHED-TTL:PT1H
BEGIN:VTIMEZONE
TZID:America/New_York
BEGIN:DAYLIGHT
TZOFFSETFROM:-0500
TZOFFSETTO:-0400
TZNAME:EDT
DTSTART:20250309T070000
END:DAYLIGHT
BEGIN:STANDARD
TZOFFSETFROM:-0400
TZOFFSETTO:-0500
TZNAME:EST
DTSTART:20251102T060000
END:STANDARD
END:VTIMEZONE
BEGIN:VEVENT
DTSTART;TZID=America/New_York:20251213T093000
DTEND;TZID=America/New_York:20251213T120000
DTSTAMP:20260421T111630
CREATED:20251127T153007Z
LAST-MODIFIED:20251213T164002Z
UID:10009721-1765618200-1765627200@calendar.adasisrael.org
SUMMARY:TEM Shabbat Services
DESCRIPTION:The Traditional Egalitarian Minyan (TEM) is a warm\, spirited service\, committed to participatory worship. It meets in the Gewirz Beit Am every Shabbat morning and on some holidays at 9:30 a.m. Led by volunteers with the occasional assistance of Adas clergy\, the TEM service offers a full P’sukei D’Zimrah (introductory Psalms)\, Shacharit\, Torah service (starting around 10:20 a.m.) and Musaf. We read the entire weekly Torah portion\, and a D’var Torah is shared every week by a member of the TEM community. Our service ends around the same time as Adas’s Smith Sanctuary service\, and we will join the the congregational Kiddush once it resumes following the pandemic.
URL:https://calendar.adasisrael.org/event/tem-shabbat-services-120/
LOCATION:Gewirz Beit Am
CATEGORIES:Shabbat
ATTACH;FMTTYPE=image/png:https://calendar.adasisrael.org/wp-content/uploads/2023/07/Screenshot2023-06-23at10.20.20AM-p4sN6R.tmp_.png
END:VEVENT
BEGIN:VEVENT
DTSTART;TZID=America/New_York:20251212T183000
DTEND;TZID=America/New_York:20251212T200000
DTSTAMP:20260421T111630
CREATED:20251127T153007Z
LAST-MODIFIED:20251213T001001Z
UID:10009717-1765564200-1765569600@calendar.adasisrael.org
SUMMARY:Shabbat Friday Night Musical Services
DESCRIPTION:
URL:https://calendar.adasisrael.org/event/shabbat-friday-night-musical-services-20/
LOCATION:Gewirz Beit Am
CATEGORIES:Shabbat
ATTACH;FMTTYPE=image/jpeg:https://calendar.adasisrael.org/wp-content/uploads/2023/07/Front-Professional.jpg
END:VEVENT
BEGIN:VEVENT
DTSTART;TZID=America/New_York:20251210T190000
DTEND;TZID=America/New_York:20251210T203000
DTSTAMP:20260421T111630
CREATED:20251127T153006Z
LAST-MODIFIED:20251211T005502Z
UID:10009702-1765393200-1765398600@calendar.adasisrael.org
SUMMARY:Trump’s Gaza Plan: Can it Lead to Arab-Israeli Peace?
DESCRIPTION:Phase one of the Gaza plan seems to be holding. But the real test of the initiative’s success is yet to come. Can the US overcome the security\, governance\, and reconstruction challenges let alone build on ending the war in Gaza to address the broader issue of Israel-Palestinian and regional peace?  Join Aaron David Miller and a panel of well-known experts and analysts to discuss these and other issues. \n \nGhaith al-Omari — the Rosalinde and Arthur Gilbert Foundation Senior Fellow in The Washington Institute For Near East Policy \nYael Lempert\, VP of Outreach\, Middle East Institute & former US Ambassador to Jordan \nNatan Sachs\, Senior Fellow at the Middle East Institute\, former Director of the Brookings Institution’s Center for Middle East Policy \nRegister
URL:https://calendar.adasisrael.org/event/trumps-gaza-plan-can-it-lead-to-arab-israeli-peace/
LOCATION:Gewirz Beit Am
CATEGORIES:Learn & Engage
ATTACH;FMTTYPE=image/jpeg:https://calendar.adasisrael.org/wp-content/uploads/2023/07/Front-Professional.jpg
END:VEVENT
BEGIN:VEVENT
DTSTART;TZID=America/New_York:20251207T130000
DTEND;TZID=America/New_York:20251207T150000
DTSTAMP:20260421T111630
CREATED:20251127T153005Z
LAST-MODIFIED:20251207T191502Z
UID:10009686-1765112400-1765119600@calendar.adasisrael.org
SUMMARY:Klezmer Workshop w/ Dance
DESCRIPTION:
URL:https://calendar.adasisrael.org/event/klezmer-workshop-w-dance/
LOCATION:Gewirz Beit Am
ATTACH;FMTTYPE=image/jpeg:https://calendar.adasisrael.org/wp-content/uploads/2023/07/Front-Professional.jpg
END:VEVENT
BEGIN:VEVENT
DTSTART;TZID=America/New_York:20251206T120000
DTEND;TZID=America/New_York:20251206T200000
DTSTAMP:20260421T111630
CREATED:20251127T153004Z
LAST-MODIFIED:20251207T001001Z
UID:10009675-1765022400-1765051200@calendar.adasisrael.org
SUMMARY:TEM Shabbaton
DESCRIPTION:
URL:https://calendar.adasisrael.org/event/tem-shabbaton-8/
LOCATION:Gewirz Beit Am
ATTACH;FMTTYPE=image/jpeg:https://calendar.adasisrael.org/wp-content/uploads/2023/07/Front-Professional.jpg
END:VEVENT
BEGIN:VEVENT
DTSTART;TZID=America/New_York:20251206T093000
DTEND;TZID=America/New_York:20251206T120000
DTSTAMP:20260421T111630
CREATED:20251127T153004Z
LAST-MODIFIED:20251206T163001Z
UID:10009664-1765013400-1765022400@calendar.adasisrael.org
SUMMARY:TEM Shabbat Services
DESCRIPTION:The Traditional Egalitarian Minyan (TEM) is a warm\, spirited service\, committed to participatory worship. It meets in the Gewirz Beit Am every Shabbat morning and on some holidays at 9:30 a.m. Led by volunteers with the occasional assistance of Adas clergy\, the TEM service offers a full P’sukei D’Zimrah (introductory Psalms)\, Shacharit\, Torah service (starting around 10:20 a.m.) and Musaf. We read the entire weekly Torah portion\, and a D’var Torah is shared every week by a member of the TEM community. Our service ends around the same time as Adas’s Smith Sanctuary service\, and we will join the the congregational Kiddush once it resumes following the pandemic.
URL:https://calendar.adasisrael.org/event/tem-shabbat-services-119/
LOCATION:Gewirz Beit Am
CATEGORIES:Shabbat
ATTACH;FMTTYPE=image/png:https://calendar.adasisrael.org/wp-content/uploads/2023/07/Screenshot2023-06-23at10.20.20AM-p4sN6R.tmp_.png
END:VEVENT
BEGIN:VEVENT
DTSTART;TZID=America/New_York:20251205T180000
DTEND;TZID=America/New_York:20251205T190000
DTSTAMP:20260421T111630
CREATED:20251127T153003Z
LAST-MODIFIED:20251205T235506Z
UID:10009660-1764957600-1764961200@calendar.adasisrael.org
SUMMARY:Traditional Egalitarian Minyan Kabbalat Shabbat
DESCRIPTION:Join the Traditional Egalitarian Minyan in the Gewirz Beit Am for Kabbalat Shabbat. Come lend your voices and welcome Shabbat with us\, at a spirited\, traditional Friday night davening. All are welcome!
URL:https://calendar.adasisrael.org/event/traditional-egalitarian-minyan-kabbalat-shabbat-26/
LOCATION:Gewirz Beit Am
CATEGORIES:Shabbat
ATTACH;FMTTYPE=image/jpeg:https://calendar.adasisrael.org/wp-content/uploads/2023/07/ShabbatImage-600x400-pGK88z.tmp_.jpg
END:VEVENT
BEGIN:VEVENT
DTSTART;TZID=America/New_York:20251129T093000
DTEND;TZID=America/New_York:20251129T120000
DTSTAMP:20260421T111630
CREATED:20251127T153001Z
LAST-MODIFIED:20251129T155501Z
UID:10009633-1764408600-1764417600@calendar.adasisrael.org
SUMMARY:Shabbat Service
DESCRIPTION:Click Here To Livestream \nLed by our inspiring Rabbis and Cantor\, this service includes a D’var Torah and sermon and often includes participation by members and B’nai Mitzvah. \nShabbat Service Links: \nSiddur Lev Shalem: Kabbalat Shabbat | Click Here to DownloadSiddur Lev Shalem: Shabbat Morning | Click Here to Download
URL:https://calendar.adasisrael.org/event/shabbat-service/
LOCATION:Gewirz Beit Am
CATEGORIES:Shabbat
ATTACH;FMTTYPE=image/jpeg:https://calendar.adasisrael.org/wp-content/uploads/2024/03/AdasShabbat-YxiwDc.tmp_.jpg
END:VEVENT
BEGIN:VEVENT
DTSTART;TZID=America/New_York:20251122T093000
DTEND;TZID=America/New_York:20251122T120000
DTSTAMP:20260421T111630
CREATED:20250823T054018Z
LAST-MODIFIED:20251122T164002Z
UID:10009017-1763803800-1763812800@calendar.adasisrael.org
SUMMARY:TEM Shabbat Services
DESCRIPTION:The Traditional Egalitarian Minyan (TEM) is a warm\, spirited service\, committed to participatory worship. It meets in the Gewirz Beit Am every Shabbat morning and on some holidays at 9:30 a.m. Led by volunteers with the occasional assistance of Adas clergy\, the TEM service offers a full P’sukei D’Zimrah (introductory Psalms)\, Shacharit\, Torah service (starting around 10:20 a.m.) and Musaf. We read the entire weekly Torah portion\, and a D’var Torah is shared every week by a member of the TEM community. Our service ends around the same time as Adas’s Smith Sanctuary service\, and we will join the the congregational Kiddush once it resumes following the pandemic.
URL:https://calendar.adasisrael.org/event/tem-shabbat-services-118/
LOCATION:Gewirz Beit Am
CATEGORIES:Shabbat
ATTACH;FMTTYPE=image/png:https://calendar.adasisrael.org/wp-content/uploads/2023/07/Screenshot2023-06-23at10.20.20AM-p4sN6R.tmp_.png
END:VEVENT
BEGIN:VEVENT
DTSTART;TZID=America/New_York:20251115T124500
DTEND;TZID=America/New_York:20251115T131500
DTSTAMP:20260421T111630
CREATED:20250816T055519Z
LAST-MODIFIED:20251115T171002Z
UID:10008973-1763210700-1763212500@calendar.adasisrael.org
SUMMARY:Shabbat Mincha Service
DESCRIPTION:Join us for a Saturday afternoon of prayer and Torah. The content of the mincha prayers reflects the essential goal of menucha (rest) on the Sabbath day.
URL:https://calendar.adasisrael.org/event/shabbat-mincha-service-122/
LOCATION:Gewirz Beit Am
CATEGORIES:Shabbat
ATTACH;FMTTYPE=image/jpeg:https://calendar.adasisrael.org/wp-content/uploads/2023/07/minchaservice600x400-sc8WO8.tmp_.jpg
END:VEVENT
BEGIN:VEVENT
DTSTART;TZID=America/New_York:20251115T093000
DTEND;TZID=America/New_York:20251115T120000
DTSTAMP:20260421T111630
CREATED:20250816T055519Z
LAST-MODIFIED:20251115T155502Z
UID:10008969-1763199000-1763208000@calendar.adasisrael.org
SUMMARY:TEM Shabbat Services
DESCRIPTION:The Traditional Egalitarian Minyan (TEM) is a warm\, spirited service\, committed to participatory worship. It meets in the Gewirz Beit Am every Shabbat morning and on some holidays at 9:30 a.m. Led by volunteers with the occasional assistance of Adas clergy\, the TEM service offers a full P’sukei D’Zimrah (introductory Psalms)\, Shacharit\, Torah service (starting around 10:20 a.m.) and Musaf. We read the entire weekly Torah portion\, and a D’var Torah is shared every week by a member of the TEM community. Our service ends around the same time as Adas’s Smith Sanctuary service\, and we will join the the congregational Kiddush once it resumes following the pandemic.
URL:https://calendar.adasisrael.org/event/tem-shabbat-services-117/
LOCATION:Gewirz Beit Am
CATEGORIES:Shabbat
ATTACH;FMTTYPE=image/png:https://calendar.adasisrael.org/wp-content/uploads/2023/07/Screenshot2023-06-23at10.20.20AM-p4sN6R.tmp_.png
END:VEVENT
BEGIN:VEVENT
DTSTART;TZID=America/New_York:20251114T183000
DTEND;TZID=America/New_York:20251114T200000
DTSTAMP:20260421T111630
CREATED:20250815T054019Z
LAST-MODIFIED:20251115T003002Z
UID:10008960-1763145000-1763150400@calendar.adasisrael.org
SUMMARY:Shabbat Friday Night Musical Services
DESCRIPTION:
URL:https://calendar.adasisrael.org/event/shabbat-friday-night-musical-services-19/
LOCATION:Gewirz Beit Am
CATEGORIES:Shabbat
ATTACH;FMTTYPE=image/jpeg:https://calendar.adasisrael.org/wp-content/uploads/2023/07/Front-Professional.jpg
END:VEVENT
BEGIN:VEVENT
DTSTART;TZID=America/New_York:20251109T140000
DTEND;TZID=America/New_York:20251109T160000
DTSTAMP:20260421T111630
CREATED:20251106T212032Z
LAST-MODIFIED:20251109T210002Z
UID:10009495-1762696800-1762704000@calendar.adasisrael.org
SUMMARY:Sisterhood Event
DESCRIPTION:
URL:https://calendar.adasisrael.org/event/sisterhood-event-6/
LOCATION:Gewirz Beit Am
ATTACH;FMTTYPE=image/jpeg:https://calendar.adasisrael.org/wp-content/uploads/2023/07/Front-Professional.jpg
END:VEVENT
BEGIN:VEVENT
DTSTART;TZID=America/New_York:20251108T093000
DTEND;TZID=America/New_York:20251108T120000
DTSTAMP:20260421T111630
CREATED:20250809T061019Z
LAST-MODIFIED:20251108T162502Z
UID:10008915-1762594200-1762603200@calendar.adasisrael.org
SUMMARY:TEM Shabbat Services
DESCRIPTION:The Traditional Egalitarian Minyan (TEM) is a warm\, spirited service\, committed to participatory worship. It meets in the Gewirz Beit Am every Shabbat morning and on some holidays at 9:30 a.m. Led by volunteers with the occasional assistance of Adas clergy\, the TEM service offers a full P’sukei D’Zimrah (introductory Psalms)\, Shacharit\, Torah service (starting around 10:20 a.m.) and Musaf. We read the entire weekly Torah portion\, and a D’var Torah is shared every week by a member of the TEM community. Our service ends around the same time as Adas’s Smith Sanctuary service\, and we will join the the congregational Kiddush once it resumes following the pandemic.
URL:https://calendar.adasisrael.org/event/tem-shabbat-services-116/
LOCATION:Gewirz Beit Am
CATEGORIES:Shabbat
ATTACH;FMTTYPE=image/png:https://calendar.adasisrael.org/wp-content/uploads/2023/07/Screenshot2023-06-23at10.20.20AM-p4sN6R.tmp_.png
END:VEVENT
BEGIN:VEVENT
DTSTART;TZID=America/New_York:20251105T190000
DTEND;TZID=America/New_York:20251105T210000
DTSTAMP:20260421T111630
CREATED:20250807T060019Z
LAST-MODIFIED:20251106T013002Z
UID:10008901-1762369200-1762376400@calendar.adasisrael.org
SUMMARY:Brotherhood Panel: Married More Than 50
DESCRIPTION:When you’re young\, you think love will last forever (or just hope it will). If you’re a parent with a thousand responsibilities\, you may be wondering if love can possibly last. We invite you and your spouse to come and hear from a panel of couples who’ve survived 50 years together\, to learn about love and laughter. \nRegister
URL:https://calendar.adasisrael.org/event/brotherhood-panel-married-more-than-50/
LOCATION:Gewirz Beit Am
ATTACH;FMTTYPE=image/jpeg:https://calendar.adasisrael.org/wp-content/uploads/2025/08/MarriedOver50Event-Xu6zq5.jpg
END:VEVENT
BEGIN:VEVENT
DTSTART;TZID=America/New_York:20251101T124500
DTEND;TZID=America/New_York:20251101T133000
DTSTAMP:20260421T111630
CREATED:20250802T061018Z
LAST-MODIFIED:20251101T170002Z
UID:10008885-1762001100-1762003800@calendar.adasisrael.org
SUMMARY:Shabbat Mincha Service
DESCRIPTION:Join us for a Saturday afternoon of prayer and Torah. The content of the mincha prayers reflects the essential goal of menucha (rest) on the Sabbath day.
URL:https://calendar.adasisrael.org/event/shabbat-mincha-service-120/
LOCATION:Gewirz Beit Am
CATEGORIES:Shabbat
ATTACH;FMTTYPE=image/jpeg:https://calendar.adasisrael.org/wp-content/uploads/2023/07/minchaservice600x400-sc8WO8.tmp_.jpg
END:VEVENT
BEGIN:VEVENT
DTSTART;TZID=America/New_York:20251101T093000
DTEND;TZID=America/New_York:20251101T120000
DTSTAMP:20260421T111630
CREATED:20250802T061018Z
LAST-MODIFIED:20251101T154002Z
UID:10008881-1761989400-1761998400@calendar.adasisrael.org
SUMMARY:TEM Shabbat Services
DESCRIPTION:The Traditional Egalitarian Minyan (TEM) is a warm\, spirited service\, committed to participatory worship. It meets in the Gewirz Beit Am every Shabbat morning and on some holidays at 9:30 a.m. Led by volunteers with the occasional assistance of Adas clergy\, the TEM service offers a full P’sukei D’Zimrah (introductory Psalms)\, Shacharit\, Torah service (starting around 10:20 a.m.) and Musaf. We read the entire weekly Torah portion\, and a D’var Torah is shared every week by a member of the TEM community. Our service ends around the same time as Adas’s Smith Sanctuary service\, and we will join the the congregational Kiddush once it resumes following the pandemic.
URL:https://calendar.adasisrael.org/event/tem-shabbat-services-115/
LOCATION:Gewirz Beit Am
CATEGORIES:Shabbat
ATTACH;FMTTYPE=image/png:https://calendar.adasisrael.org/wp-content/uploads/2023/07/Screenshot2023-06-23at10.20.20AM-p4sN6R.tmp_.png
END:VEVENT
BEGIN:VEVENT
DTSTART;TZID=America/New_York:20251031T180000
DTEND;TZID=America/New_York:20251031T190000
DTSTAMP:20260421T111630
CREATED:20250801T052018Z
LAST-MODIFIED:20251031T224002Z
UID:10008876-1761933600-1761937200@calendar.adasisrael.org
SUMMARY:Traditional Egalitarian Minyan Kabbalat Shabbat
DESCRIPTION:Join the Traditional Egalitarian Minyan in the Gewirz Beit Am for Kabbalat Shabbat. Come lend your voices and welcome Shabbat with us\, at a spirited\, traditional Friday night davening. All are welcome!
URL:https://calendar.adasisrael.org/event/traditional-egalitarian-minyan-kabbalat-shabbat-24/
LOCATION:Gewirz Beit Am
CATEGORIES:Shabbat
ATTACH;FMTTYPE=image/jpeg:https://calendar.adasisrael.org/wp-content/uploads/2023/07/ShabbatImage-600x400-pGK88z.tmp_.jpg
END:VEVENT
BEGIN:VEVENT
DTSTART;TZID=America/New_York:20251028T184500
DTEND;TZID=America/New_York:20251028T210000
DTSTAMP:20260421T111630
CREATED:20250729T060520Z
LAST-MODIFIED:20251029T005502Z
UID:10008861-1761677100-1761685200@calendar.adasisrael.org
SUMMARY:Wellness Center: Moon by Moon
DESCRIPTION:
URL:https://calendar.adasisrael.org/event/moon-to-moon-2/
LOCATION:Gewirz Beit Am
ATTACH;FMTTYPE=image/jpeg:https://calendar.adasisrael.org/wp-content/uploads/2023/07/Front-Professional.jpg
END:VEVENT
BEGIN:VEVENT
DTSTART;TZID=America/New_York:20251026T130000
DTEND;TZID=America/New_York:20251026T150000
DTSTAMP:20260421T111630
CREATED:20250727T060518Z
LAST-MODIFIED:20251026T181503Z
UID:10008851-1761483600-1761490800@calendar.adasisrael.org
SUMMARY:Klezmer Workshop
DESCRIPTION:
URL:https://calendar.adasisrael.org/event/klezmer-workshop-2/
LOCATION:Gewirz Beit Am
ATTACH;FMTTYPE=image/jpeg:https://calendar.adasisrael.org/wp-content/uploads/2023/07/Front-Professional.jpg
END:VEVENT
BEGIN:VEVENT
DTSTART;TZID=America/New_York:20251025T093000
DTEND;TZID=America/New_York:20251025T120000
DTSTAMP:20260421T111630
CREATED:20250726T061018Z
LAST-MODIFIED:20251025T153502Z
UID:10008845-1761384600-1761393600@calendar.adasisrael.org
SUMMARY:TEM Shabbat Services
DESCRIPTION:The Traditional Egalitarian Minyan (TEM) is a warm\, spirited service\, committed to participatory worship. It meets in the Gewirz Beit Am every Shabbat morning and on some holidays at 9:30 a.m. Led by volunteers with the occasional assistance of Adas clergy\, the TEM service offers a full P’sukei D’Zimrah (introductory Psalms)\, Shacharit\, Torah service (starting around 10:20 a.m.) and Musaf. We read the entire weekly Torah portion\, and a D’var Torah is shared every week by a member of the TEM community. Our service ends around the same time as Adas’s Smith Sanctuary service\, and we will join the the congregational Kiddush once it resumes following the pandemic.
URL:https://calendar.adasisrael.org/event/tem-shabbat-services-114/
LOCATION:Gewirz Beit Am
CATEGORIES:Shabbat
ATTACH;FMTTYPE=image/png:https://calendar.adasisrael.org/wp-content/uploads/2023/07/Screenshot2023-06-23at10.20.20AM-p4sN6R.tmp_.png
END:VEVENT
BEGIN:VEVENT
DTSTART;TZID=America/New_York:20251024T170000
DTEND;TZID=America/New_York:20251024T180000
DTSTAMP:20260421T111630
CREATED:20250725T070017Z
LAST-MODIFIED:20251024T214002Z
UID:10008836-1761325200-1761328800@calendar.adasisrael.org
SUMMARY:Traditional Egalitarian Minyan Kabbalat Shabbat
DESCRIPTION:Join the Traditional Egalitarian Minyan in the Gewirz Beit Am for Kabbalat Shabbat. Come lend your voices and welcome Shabbat with us\, at a spirited\, traditional Friday night davening. All are welcome!
URL:https://calendar.adasisrael.org/event/traditional-egalitarian-minyan-kabbalat-shabbat-23/
LOCATION:Gewirz Beit Am
CATEGORIES:Shabbat
ATTACH;FMTTYPE=image/jpeg:https://calendar.adasisrael.org/wp-content/uploads/2023/07/ShabbatImage-600x400-pGK88z.tmp_.jpg
END:VEVENT
BEGIN:VEVENT
DTSTART;TZID=America/New_York:20251018T093000
DTEND;TZID=America/New_York:20251018T120000
DTSTAMP:20260421T111630
CREATED:20250719T055516Z
LAST-MODIFIED:20251018T152502Z
UID:10008804-1760779800-1760788800@calendar.adasisrael.org
SUMMARY:TEM Shabbat Services
DESCRIPTION:The Traditional Egalitarian Minyan (TEM) is a warm\, spirited service\, committed to participatory worship. It meets in the Gewirz Beit Am every Shabbat morning and on some holidays at 9:30 a.m. Led by volunteers with the occasional assistance of Adas clergy\, the TEM service offers a full P’sukei D’Zimrah (introductory Psalms)\, Shacharit\, Torah service (starting around 10:20 a.m.) and Musaf. We read the entire weekly Torah portion\, and a D’var Torah is shared every week by a member of the TEM community. Our service ends around the same time as Adas’s Smith Sanctuary service\, and we will join the the congregational Kiddush once it resumes following the pandemic.
URL:https://calendar.adasisrael.org/event/tem-shabbat-services-113/
LOCATION:Gewirz Beit Am
CATEGORIES:Shabbat
ATTACH;FMTTYPE=image/png:https://calendar.adasisrael.org/wp-content/uploads/2023/07/Screenshot2023-06-23at10.20.20AM-p4sN6R.tmp_.png
END:VEVENT
BEGIN:VEVENT
DTSTART;TZID=America/New_York:20251014T091500
DTEND;TZID=America/New_York:20251014T120000
DTSTAMP:20260421T111630
CREATED:20251009T170532Z
LAST-MODIFIED:20251014T154502Z
UID:10009311-1760433300-1760443200@calendar.adasisrael.org
SUMMARY:Shmini Atzeret Services
DESCRIPTION:
URL:https://calendar.adasisrael.org/event/shmini-atzeret-services/
LOCATION:Gewirz Beit Am
CATEGORIES:Holiday
ATTACH;FMTTYPE=image/jpeg:https://calendar.adasisrael.org/wp-content/uploads/2023/07/Front-Professional.jpg
END:VEVENT
BEGIN:VEVENT
DTSTART;TZID=America/New_York:20251011T091500
DTEND;TZID=America/New_York:20251011T120000
DTSTAMP:20260421T111630
CREATED:20250712T052516Z
LAST-MODIFIED:20251011T152002Z
UID:10008780-1760174100-1760184000@calendar.adasisrael.org
SUMMARY:TEM Shabbat Services
DESCRIPTION:The Traditional Egalitarian Minyan (TEM) is a warm\, spirited service\, committed to participatory worship. It meets in the Gewirz Beit Am every Shabbat morning and on some holidays at 9:30 a.m. Led by volunteers with the occasional assistance of Adas clergy\, the TEM service offers a full P’sukei D’Zimrah (introductory Psalms)\, Shacharit\, Torah service (starting around 10:20 a.m.) and Musaf. We read the entire weekly Torah portion\, and a D’var Torah is shared every week by a member of the TEM community. Our service ends around the same time as Adas’s Smith Sanctuary service\, and we will join the the congregational Kiddush once it resumes following the pandemic.
URL:https://calendar.adasisrael.org/event/tem-shabbat-services-112/
LOCATION:Gewirz Beit Am
CATEGORIES:Shabbat
ATTACH;FMTTYPE=image/png:https://calendar.adasisrael.org/wp-content/uploads/2023/07/Screenshot2023-06-23at10.20.20AM-p4sN6R.tmp_.png
END:VEVENT
BEGIN:VEVENT
DTSTART;TZID=America/New_York:20251010T183000
DTEND;TZID=America/New_York:20251010T200000
DTSTAMP:20260421T111630
CREATED:20250711T061515Z
LAST-MODIFIED:20251010T235501Z
UID:10008775-1760121000-1760126400@calendar.adasisrael.org
SUMMARY:Shabbat Friday Night Musical Services
DESCRIPTION:
URL:https://calendar.adasisrael.org/event/shabbat-friday-night-musical-services-18/
LOCATION:Gewirz Beit Am
CATEGORIES:Shabbat
ATTACH;FMTTYPE=image/jpeg:https://calendar.adasisrael.org/wp-content/uploads/2023/07/Front-Professional.jpg
END:VEVENT
BEGIN:VEVENT
DTSTART;TZID=America/New_York:20251004T093000
DTEND;TZID=America/New_York:20251004T120000
DTSTAMP:20260421T111630
CREATED:20250705T055516Z
LAST-MODIFIED:20251004T145502Z
UID:10008758-1759570200-1759579200@calendar.adasisrael.org
SUMMARY:TEM Shabbat Services
DESCRIPTION:The Traditional Egalitarian Minyan (TEM) is a warm\, spirited service\, committed to participatory worship. It meets in the Gewirz Beit Am every Shabbat morning and on some holidays at 9:30 a.m. Led by volunteers with the occasional assistance of Adas clergy\, the TEM service offers a full P’sukei D’Zimrah (introductory Psalms)\, Shacharit\, Torah service (starting around 10:20 a.m.) and Musaf. We read the entire weekly Torah portion\, and a D’var Torah is shared every week by a member of the TEM community. Our service ends around the same time as Adas’s Smith Sanctuary service\, and we will join the the congregational Kiddush once it resumes following the pandemic.
URL:https://calendar.adasisrael.org/event/tem-shabbat-services-111/
LOCATION:Gewirz Beit Am
CATEGORIES:Shabbat
ATTACH;FMTTYPE=image/png:https://calendar.adasisrael.org/wp-content/uploads/2023/07/Screenshot2023-06-23at10.20.20AM-p4sN6R.tmp_.png
END:VEVENT
BEGIN:VEVENT
DTSTART;TZID=America/New_York:20250927T093000
DTEND;TZID=America/New_York:20250927T120000
DTSTAMP:20260421T111630
CREATED:20250628T061014Z
LAST-MODIFIED:20250927T151001Z
UID:10008739-1758965400-1758974400@calendar.adasisrael.org
SUMMARY:Shabbat Service- Smith Joins TEM
DESCRIPTION:Click Here To Livestream \nLed by our inspiring Rabbis and Cantor\, this service includes a D’var Torah and sermon and often includes participation by members and B’nai Mitzvah. \nShabbat Service Links: \nSiddur Lev Shalem: Kabbalat Shabbat | Click Here to DownloadSiddur Lev Shalem: Shabbat Morning | Click Here to Download
URL:https://calendar.adasisrael.org/event/shabbat-service-smith-joins-tem/
LOCATION:Gewirz Beit Am
CATEGORIES:Shabbat
ATTACH;FMTTYPE=image/jpeg:https://calendar.adasisrael.org/wp-content/uploads/2024/03/AdasShabbat-YxiwDc.tmp_.jpg
END:VEVENT
BEGIN:VEVENT
DTSTART;TZID=America/New_York:20250920T124500
DTEND;TZID=America/New_York:20250920T131500
DTSTAMP:20260421T111630
CREATED:20250624T215536Z
LAST-MODIFIED:20250920T165502Z
UID:10008693-1758372300-1758374100@calendar.adasisrael.org
SUMMARY:Shabbat Mincha Service
DESCRIPTION:Join us for a Saturday afternoon of prayer and Torah. The content of the mincha prayers reflects the essential goal of menucha (rest) on the Sabbath day.
URL:https://calendar.adasisrael.org/event/shabbat-mincha-service-114/
LOCATION:Gewirz Beit Am
CATEGORIES:Shabbat
ATTACH;FMTTYPE=image/jpeg:https://calendar.adasisrael.org/wp-content/uploads/2023/07/minchaservice600x400-sc8WO8.tmp_.jpg
END:VEVENT
BEGIN:VEVENT
DTSTART;TZID=America/New_York:20250920T093000
DTEND;TZID=America/New_York:20250920T120000
DTSTAMP:20260421T111630
CREATED:20250624T215536Z
LAST-MODIFIED:20250920T154502Z
UID:10008690-1758360600-1758369600@calendar.adasisrael.org
SUMMARY:TEM Shabbat Services
DESCRIPTION:The Traditional Egalitarian Minyan (TEM) is a warm\, spirited service\, committed to participatory worship. It meets in the Gewirz Beit Am every Shabbat morning and on some holidays at 9:30 a.m. Led by volunteers with the occasional assistance of Adas clergy\, the TEM service offers a full P’sukei D’Zimrah (introductory Psalms)\, Shacharit\, Torah service (starting around 10:20 a.m.) and Musaf. We read the entire weekly Torah portion\, and a D’var Torah is shared every week by a member of the TEM community. Our service ends around the same time as Adas’s Smith Sanctuary service\, and we will join the the congregational Kiddush once it resumes following the pandemic.
URL:https://calendar.adasisrael.org/event/tem-shabbat-services-110/
LOCATION:Gewirz Beit Am
CATEGORIES:Shabbat
ATTACH;FMTTYPE=image/png:https://calendar.adasisrael.org/wp-content/uploads/2023/07/Screenshot2023-06-23at10.20.20AM-p4sN6R.tmp_.png
END:VEVENT
END:VCALENDAR