BEGIN:VCALENDAR
VERSION:2.0
PRODID:-//Adas Israel Congregation - ECPv6.2.9//NONSGML v1.0//EN
CALSCALE:GREGORIAN
METHOD:PUBLISH
X-ORIGINAL-URL:https://calendar.adasisrael.org
X-WR-CALDESC:Events for Adas Israel Congregation
REFRESH-INTERVAL;VALUE=DURATION:PT1H
X-Robots-Tag:noindex
X-PUBLISHED-TTL:PT1H
BEGIN:VTIMEZONE
TZID:America/New_York
BEGIN:DAYLIGHT
TZOFFSETFROM:-0500
TZOFFSETTO:-0400
TZNAME:EDT
DTSTART:20260308T070000
END:DAYLIGHT
BEGIN:STANDARD
TZOFFSETFROM:-0400
TZOFFSETTO:-0500
TZNAME:EST
DTSTART:20261101T060000
END:STANDARD
END:VTIMEZONE
BEGIN:VEVENT
DTSTART;TZID=America/New_York:20260530T091500
DTEND;TZID=America/New_York:20260530T120000
DTSTAMP:20260421T082013
CREATED:20260414T191320Z
LAST-MODIFIED:20260421T121011Z
UID:10012821-1780132500-1780142400@calendar.adasisrael.org
SUMMARY:TEM Shabbat Services
DESCRIPTION:
URL:https://calendar.adasisrael.org/event/tem-shabbat-services-141/
LOCATION:Gewirz Beit Am
CATEGORIES:Shabbat
ATTACH;FMTTYPE=image/jpeg:https://calendar.adasisrael.org/wp-content/uploads/2023/07/Front-Professional.jpg
END:VEVENT
BEGIN:VEVENT
DTSTART;TZID=America/New_York:20260530T124500
DTEND;TZID=America/New_York:20260530T131500
DTSTAMP:20260421T082013
CREATED:20260414T191320Z
LAST-MODIFIED:20260421T121012Z
UID:10012824-1780145100-1780146900@calendar.adasisrael.org
SUMMARY:Shabbat Mincha Service
DESCRIPTION:
URL:https://calendar.adasisrael.org/event/shabbat-mincha-service-149/
LOCATION:Gewirz Beit Am
CATEGORIES:Shabbat
ATTACH;FMTTYPE=image/jpeg:https://calendar.adasisrael.org/wp-content/uploads/2023/07/Front-Professional.jpg
END:VEVENT
BEGIN:VEVENT
DTSTART;TZID=America/New_York:20260605T183000
DTEND;TZID=America/New_York:20260605T193000
DTSTAMP:20260421T082013
CREATED:20260414T191323Z
LAST-MODIFIED:20260421T121013Z
UID:10012849-1780684200-1780687800@calendar.adasisrael.org
SUMMARY:Traditional Egalitarian Minyan Kabbalat Shabbat
DESCRIPTION:
URL:https://calendar.adasisrael.org/event/traditional-egalitarian-minyan-kabbalat-shabbat-31/
LOCATION:Gewirz Beit Am
CATEGORIES:Shabbat
ATTACH;FMTTYPE=image/jpeg:https://calendar.adasisrael.org/wp-content/uploads/2023/07/Front-Professional.jpg
END:VEVENT
BEGIN:VEVENT
DTSTART;TZID=America/New_York:20260606T093000
DTEND;TZID=America/New_York:20260606T120000
DTSTAMP:20260421T082013
CREATED:20260414T191323Z
LAST-MODIFIED:20260421T121013Z
UID:10012856-1780738200-1780747200@calendar.adasisrael.org
SUMMARY:TEM Shabbat Services
DESCRIPTION:
URL:https://calendar.adasisrael.org/event/tem-shabbat-services-142/
LOCATION:Gewirz Beit Am
CATEGORIES:Shabbat
ATTACH;FMTTYPE=image/jpeg:https://calendar.adasisrael.org/wp-content/uploads/2023/07/Front-Professional.jpg
END:VEVENT
BEGIN:VEVENT
DTSTART;TZID=America/New_York:20260606T120000
DTEND;TZID=America/New_York:20260606T160000
DTSTAMP:20260421T082013
CREATED:20260414T191323Z
LAST-MODIFIED:20260421T121013Z
UID:10012854-1780747200-1780761600@calendar.adasisrael.org
SUMMARY:TEM Shabbaton
DESCRIPTION:
URL:https://calendar.adasisrael.org/event/tem-shabbaton-13/
LOCATION:Gewirz Beit Am
ATTACH;FMTTYPE=image/jpeg:https://calendar.adasisrael.org/wp-content/uploads/2023/07/Front-Professional.jpg
END:VEVENT
BEGIN:VEVENT
DTSTART;TZID=America/New_York:20260612T183000
DTEND;TZID=America/New_York:20260612T200000
DTSTAMP:20260421T082013
CREATED:20260414T191327Z
LAST-MODIFIED:20260421T121015Z
UID:10012893-1781289000-1781294400@calendar.adasisrael.org
SUMMARY:Shabbat Friday Night Musical Services
DESCRIPTION:
URL:https://calendar.adasisrael.org/event/shabbat-friday-night-musical-services-25/
LOCATION:Gewirz Beit Am
CATEGORIES:Shabbat
ATTACH;FMTTYPE=image/jpeg:https://calendar.adasisrael.org/wp-content/uploads/2023/07/Front-Professional.jpg
END:VEVENT
BEGIN:VEVENT
DTSTART;TZID=America/New_York:20260613T093000
DTEND;TZID=America/New_York:20260613T120000
DTSTAMP:20260421T082013
CREATED:20260414T191327Z
LAST-MODIFIED:20260421T121015Z
UID:10012896-1781343000-1781352000@calendar.adasisrael.org
SUMMARY:TEM Shabbat Services
DESCRIPTION:
URL:https://calendar.adasisrael.org/event/tem-shabbat-services-143/
LOCATION:Gewirz Beit Am
CATEGORIES:Shabbat
ATTACH;FMTTYPE=image/jpeg:https://calendar.adasisrael.org/wp-content/uploads/2023/07/Front-Professional.jpg
END:VEVENT
BEGIN:VEVENT
DTSTART;TZID=America/New_York:20260614T130000
DTEND;TZID=America/New_York:20260614T150000
DTSTAMP:20260421T082013
CREATED:20260414T191328Z
LAST-MODIFIED:20260421T121015Z
UID:10012904-1781442000-1781449200@calendar.adasisrael.org
SUMMARY:Klezmer Workshop w/ Dance
DESCRIPTION:
URL:https://calendar.adasisrael.org/event/klezmer-workshop-w-dance-2/
LOCATION:Gewirz Beit Am
ATTACH;FMTTYPE=image/jpeg:https://calendar.adasisrael.org/wp-content/uploads/2023/07/Front-Professional.jpg
END:VEVENT
BEGIN:VEVENT
DTSTART;TZID=America/New_York:20260620T093000
DTEND;TZID=America/New_York:20260620T120000
DTSTAMP:20260421T082013
CREATED:20260414T191330Z
LAST-MODIFIED:20260421T121017Z
UID:10012929-1781947800-1781956800@calendar.adasisrael.org
SUMMARY:TEM Shabbat Services
DESCRIPTION:
URL:https://calendar.adasisrael.org/event/tem-shabbat-services-144/
LOCATION:Gewirz Beit Am
CATEGORIES:Shabbat
ATTACH;FMTTYPE=image/jpeg:https://calendar.adasisrael.org/wp-content/uploads/2023/07/Front-Professional.jpg
END:VEVENT
BEGIN:VEVENT
DTSTART;TZID=America/New_York:20260627T093000
DTEND;TZID=America/New_York:20260627T120000
DTSTAMP:20260421T082013
CREATED:20260414T191333Z
LAST-MODIFIED:20260421T121018Z
UID:10012956-1782552600-1782561600@calendar.adasisrael.org
SUMMARY:TEM Shabbat Services
DESCRIPTION:
URL:https://calendar.adasisrael.org/event/tem-shabbat-services-146/
LOCATION:Gewirz Beit Am
CATEGORIES:Shabbat
ATTACH;FMTTYPE=image/jpeg:https://calendar.adasisrael.org/wp-content/uploads/2023/07/Front-Professional.jpg
END:VEVENT
END:VCALENDAR