BEGIN:VCALENDAR
VERSION:2.0
PRODID:-//Adas Israel Congregation - ECPv6.2.9//NONSGML v1.0//EN
CALSCALE:GREGORIAN
METHOD:PUBLISH
X-WR-CALNAME:Adas Israel Congregation
X-ORIGINAL-URL:https://calendar.adasisrael.org
X-WR-CALDESC:Events for Adas Israel Congregation
REFRESH-INTERVAL;VALUE=DURATION:PT1H
X-Robots-Tag:noindex
X-PUBLISHED-TTL:PT1H
BEGIN:VTIMEZONE
TZID:America/New_York
BEGIN:DAYLIGHT
TZOFFSETFROM:-0500
TZOFFSETTO:-0400
TZNAME:EDT
DTSTART:20250309T070000
END:DAYLIGHT
BEGIN:STANDARD
TZOFFSETFROM:-0400
TZOFFSETTO:-0500
TZNAME:EST
DTSTART:20251102T060000
END:STANDARD
BEGIN:DAYLIGHT
TZOFFSETFROM:-0500
TZOFFSETTO:-0400
TZNAME:EDT
DTSTART:20260308T070000
END:DAYLIGHT
BEGIN:STANDARD
TZOFFSETFROM:-0400
TZOFFSETTO:-0500
TZNAME:EST
DTSTART:20261101T060000
END:STANDARD
END:VTIMEZONE
BEGIN:VEVENT
DTSTART;TZID=America/New_York:20260217T184500
DTEND;TZID=America/New_York:20260217T200000
DTSTAMP:20260421T094636
CREATED:20260114T210825Z
LAST-MODIFIED:20260218T000002Z
UID:10010757-1771353900-1771358400@calendar.adasisrael.org
SUMMARY:Wellness Center: Moon by Moon
DESCRIPTION:
URL:https://calendar.adasisrael.org/event/wellness-center-moon-by-moon-2/
LOCATION:Gewirz Beit Am
ATTACH;FMTTYPE=image/jpeg:https://calendar.adasisrael.org/wp-content/uploads/2023/07/Front-Professional.jpg
END:VEVENT
BEGIN:VEVENT
DTSTART;TZID=America/New_York:20260214T093000
DTEND;TZID=America/New_York:20260214T120000
DTSTAMP:20260421T094636
CREATED:20260113T234024Z
LAST-MODIFIED:20260214T161502Z
UID:10010485-1771061400-1771070400@calendar.adasisrael.org
SUMMARY:TEM Shabbat Services
DESCRIPTION:The Traditional Egalitarian Minyan (TEM) is a warm\, spirited service\, committed to participatory worship. It meets in the Gewirz Beit Am every Shabbat morning and on some holidays at 9:30 a.m. Led by volunteers with the occasional assistance of Adas clergy\, the TEM service offers a full P’sukei D’Zimrah (introductory Psalms)\, Shacharit\, Torah service (starting around 10:20 a.m.) and Musaf. We read the entire weekly Torah portion\, and a D’var Torah is shared every week by a member of the TEM community. Our service ends around the same time as Adas’s Smith Sanctuary service\, and we will join the the congregational Kiddush once it resumes following the pandemic.
URL:https://calendar.adasisrael.org/event/tem-shabbat-services-128/
LOCATION:Gewirz Beit Am
CATEGORIES:Shabbat
ATTACH;FMTTYPE=image/png:https://calendar.adasisrael.org/wp-content/uploads/2023/07/Screenshot2023-06-23at10.20.20AM-p4sN6R.tmp_.png
END:VEVENT
BEGIN:VEVENT
DTSTART;TZID=America/New_York:20260213T183000
DTEND;TZID=America/New_York:20260213T200000
DTSTAMP:20260421T094636
CREATED:20260113T234024Z
LAST-MODIFIED:20260214T001002Z
UID:10010483-1771007400-1771012800@calendar.adasisrael.org
SUMMARY:Shabbat Friday Night Musical Services - Repro Shabbat 2026
DESCRIPTION:Repro Shabbat 2026: \nShira Zemel is the director of the National Council of Jewish Women (NCJW)’s abortion access campaign\, the coordinated Jewish movement for reproductive health\, rights\, and justice. Shira has led this work since before the fall of Roe v. Wade\, in preparation for the Dobbs decision\, helping guide the Jewish community through the rapid and devastating shifts in abortion access nationwide. \nIn this role\, Shira launched the Jewish Fund for Abortion Access\, creating a national Jewish communal response to fund the complex patchwork of care patients need in a post-Roe landscape. She activates and mobilizes Jewish leaders and communities to take action for abortion access\, trains clergy and lay leaders to bring Jewish values into the public square\, and leads one of the largest faith-based abortion access efforts in the country. \nShira serves as president of the ARCH board\, a local abortion fund serving patients in northern Virginia. When not getting into good trouble\, she enjoys curating feminist yard signs for her front lawn\, listening to politics podcasts\, and tackling seasonal craft projects—preferably alongside her two young kids. \nClick here to livestream \nWith Rabbi Lauren Holtzblatt\, Rabbi Aaron Alexander & Band; Join us for a reflective journey into the power of Shabbat. Featuring seasoned musicians and a spiritual\, ecstatic excursion into prayer & song.
URL:https://calendar.adasisrael.org/event/shabbat-friday-night-musical-services-22/
LOCATION:Gewirz Beit Am
CATEGORIES:Shabbat
ATTACH;FMTTYPE=image/jpeg:https://calendar.adasisrael.org/wp-content/uploads/2026/02/ShiraZemelheadshot-hsTzTn.jpg
END:VEVENT
BEGIN:VEVENT
DTSTART;TZID=America/New_York:20260208T120000
DTEND;TZID=America/New_York:20260208T150000
DTSTAMP:20260421T094636
CREATED:20260113T234020Z
LAST-MODIFIED:20260208T191002Z
UID:10010454-1770552000-1770562800@calendar.adasisrael.org
SUMMARY:Klezmer Workshop
DESCRIPTION:
URL:https://calendar.adasisrael.org/event/klezmer-workshop-5/
LOCATION:Gewirz Beit Am
ATTACH;FMTTYPE=image/jpeg:https://calendar.adasisrael.org/wp-content/uploads/2023/07/Front-Professional.jpg
END:VEVENT
BEGIN:VEVENT
DTSTART;TZID=America/New_York:20260207T093000
DTEND;TZID=America/New_York:20260207T120000
DTSTAMP:20260421T094636
CREATED:20260113T234019Z
LAST-MODIFIED:20260207T161502Z
UID:10010446-1770456600-1770465600@calendar.adasisrael.org
SUMMARY:TEM Shabbat Services
DESCRIPTION:The Traditional Egalitarian Minyan (TEM) is a warm\, spirited service\, committed to participatory worship. It meets in the Gewirz Beit Am every Shabbat morning and on some holidays at 9:30 a.m. Led by volunteers with the occasional assistance of Adas clergy\, the TEM service offers a full P’sukei D’Zimrah (introductory Psalms)\, Shacharit\, Torah service (starting around 10:20 a.m.) and Musaf. We read the entire weekly Torah portion\, and a D’var Torah is shared every week by a member of the TEM community. Our service ends around the same time as Adas’s Smith Sanctuary service\, and we will join the the congregational Kiddush once it resumes following the pandemic.
URL:https://calendar.adasisrael.org/event/tem-shabbat-services-127/
LOCATION:Gewirz Beit Am
CATEGORIES:Shabbat
ATTACH;FMTTYPE=image/png:https://calendar.adasisrael.org/wp-content/uploads/2023/07/Screenshot2023-06-23at10.20.20AM-p4sN6R.tmp_.png
END:VEVENT
BEGIN:VEVENT
DTSTART;TZID=America/New_York:20260206T180000
DTEND;TZID=America/New_York:20260206T190000
DTSTAMP:20260421T094636
CREATED:20260113T234019Z
LAST-MODIFIED:20260206T232502Z
UID:10010442-1770400800-1770404400@calendar.adasisrael.org
SUMMARY:Traditional Egalitarian Minyan Kabbalat Shabbat
DESCRIPTION:Join the Traditional Egalitarian Minyan in the Gewirz Beit Am for Kabbalat Shabbat. Come lend your voices and welcome Shabbat with us\, at a spirited\, traditional Friday night davening. All are welcome!
URL:https://calendar.adasisrael.org/event/traditional-egalitarian-minyan-kabbalat-shabbat-28/
LOCATION:Gewirz Beit Am
CATEGORIES:Shabbat
ATTACH;FMTTYPE=image/jpeg:https://calendar.adasisrael.org/wp-content/uploads/2023/07/ShabbatImage-600x400-pGK88z.tmp_.jpg
END:VEVENT
BEGIN:VEVENT
DTSTART;TZID=America/New_York:20260201T100000
DTEND;TZID=America/New_York:20260201T111500
DTSTAMP:20260421T094636
CREATED:20260122T182109Z
LAST-MODIFIED:20260201T161014Z
UID:10010830-1769940000-1769944500@calendar.adasisrael.org
SUMMARY:Healing Through Music with Chana Raskin
DESCRIPTION:CHANA RASKIN\, the founder and main facilitator of RAZA\, is an untrained vocalist who grew up entrenched in the world of Chabad Hasidut and its stirringly simple and complex melodies. In her music and song circles\, Chana strives to hold a space with others recovering from illness or traumatic injury\, or simply seeking Home. She revels in the healing powers of quiet\, laughter\, humming\, singing and movement. Participation is free\, registration required. \nRegister
URL:https://calendar.adasisrael.org/event/healing-through-music-with-chana-raskin/
LOCATION:Gewirz Beit Am
ATTACH;FMTTYPE=image/jpeg:https://calendar.adasisrael.org/wp-content/uploads/2026/01/chana_raskin_blue_headshot_-_ali_cherkis__1__720-dab608.jpg
END:VEVENT
BEGIN:VEVENT
DTSTART;TZID=America/New_York:20260131T193000
DTEND;TZID=America/New_York:20260131T210000
DTSTAMP:20260421T094636
CREATED:20260130T162021Z
LAST-MODIFIED:20260201T010002Z
UID:10010867-1769887800-1769893200@calendar.adasisrael.org
SUMMARY:Shabbat Shirah Prayer Concert
DESCRIPTION:RAZA is a musical listening project that explores the feminine voice in old Hasidic melodies. Meaning “secret” or “hidden” in Aramaic\, RAZA is an attempt to listen more deeply to sacred\, traditional melodies\, to ask a question of them\, and open up to hear them whisper something new into the world. RAZA explores both the notes and the wisdom surrounding these rich\, complex\, and uplifting melodies\, as passed down for centuries. Adults $18\, Children under 12 free. \nRegister
URL:https://calendar.adasisrael.org/event/shabbat-shirah-prayer-concert/
LOCATION:Gewirz Beit Am
ATTACH;FMTTYPE=image/jpeg:https://calendar.adasisrael.org/wp-content/uploads/2026/01/RAZANYCJCC-GretchenRobinette-VPuiDB.jpg
END:VEVENT
BEGIN:VEVENT
DTSTART;TZID=America/New_York:20260131T124500
DTEND;TZID=America/New_York:20260131T131500
DTSTAMP:20260421T094636
CREATED:20260113T234014Z
LAST-MODIFIED:20260131T181002Z
UID:10010407-1769863500-1769865300@calendar.adasisrael.org
SUMMARY:Shabbat Mincha Service
DESCRIPTION:Join us for a Saturday afternoon of prayer and Torah. The content of the mincha prayers reflects the essential goal of menucha (rest) on the Sabbath day.
URL:https://calendar.adasisrael.org/event/shabbat-mincha-service-133/
LOCATION:Gewirz Beit Am
CATEGORIES:Shabbat
ATTACH;FMTTYPE=image/jpeg:https://calendar.adasisrael.org/wp-content/uploads/2023/07/minchaservice600x400-sc8WO8.tmp_.jpg
END:VEVENT
BEGIN:VEVENT
DTSTART;TZID=America/New_York:20260131T093000
DTEND;TZID=America/New_York:20260131T120000
DTSTAMP:20260421T094636
CREATED:20260113T234013Z
LAST-MODIFIED:20260131T165516Z
UID:10010403-1769851800-1769860800@calendar.adasisrael.org
SUMMARY:TEM Shabbat Services
DESCRIPTION:The Traditional Egalitarian Minyan (TEM) is a warm\, spirited service\, committed to participatory worship. It meets in the Gewirz Beit Am every Shabbat morning and on some holidays at 9:30 a.m. Led by volunteers with the occasional assistance of Adas clergy\, the TEM service offers a full P’sukei D’Zimrah (introductory Psalms)\, Shacharit\, Torah service (starting around 10:20 a.m.) and Musaf. We read the entire weekly Torah portion\, and a D’var Torah is shared every week by a member of the TEM community. Our service ends around the same time as Adas’s Smith Sanctuary service\, and we will join the the congregational Kiddush once it resumes following the pandemic.
URL:https://calendar.adasisrael.org/event/tem-shabbat-services-126/
LOCATION:Gewirz Beit Am
CATEGORIES:Shabbat
ATTACH;FMTTYPE=image/png:https://calendar.adasisrael.org/wp-content/uploads/2023/07/Screenshot2023-06-23at10.20.20AM-p4sN6R.tmp_.png
END:VEVENT
BEGIN:VEVENT
DTSTART;TZID=America/New_York:20260124T093000
DTEND;TZID=America/New_York:20260124T120000
DTSTAMP:20260421T094636
CREATED:20260113T234009Z
LAST-MODIFIED:20260124T165502Z
UID:10010373-1769247000-1769256000@calendar.adasisrael.org
SUMMARY:TEM Shabbat Services
DESCRIPTION:The Traditional Egalitarian Minyan (TEM) is a warm\, spirited service\, committed to participatory worship. It meets in the Gewirz Beit Am every Shabbat morning and on some holidays at 9:30 a.m. Led by volunteers with the occasional assistance of Adas clergy\, the TEM service offers a full P’sukei D’Zimrah (introductory Psalms)\, Shacharit\, Torah service (starting around 10:20 a.m.) and Musaf. We read the entire weekly Torah portion\, and a D’var Torah is shared every week by a member of the TEM community. Our service ends around the same time as Adas’s Smith Sanctuary service\, and we will join the the congregational Kiddush once it resumes following the pandemic.
URL:https://calendar.adasisrael.org/event/tem-shabbat-services-125/
LOCATION:Gewirz Beit Am
CATEGORIES:Shabbat
ATTACH;FMTTYPE=image/png:https://calendar.adasisrael.org/wp-content/uploads/2023/07/Screenshot2023-06-23at10.20.20AM-p4sN6R.tmp_.png
END:VEVENT
BEGIN:VEVENT
DTSTART;TZID=America/New_York:20260120T184500
DTEND;TZID=America/New_York:20260120T200000
DTSTAMP:20260421T094636
CREATED:20260114T210533Z
LAST-MODIFIED:20260121T005002Z
UID:10010756-1768934700-1768939200@calendar.adasisrael.org
SUMMARY:Wellness Center: Moon by Moon
DESCRIPTION:
URL:https://calendar.adasisrael.org/event/wellness-center-moon-by-moon/
LOCATION:Gewirz Beit Am
ATTACH;FMTTYPE=image/jpeg:https://calendar.adasisrael.org/wp-content/uploads/2023/07/Front-Professional.jpg
END:VEVENT
BEGIN:VEVENT
DTSTART;TZID=America/New_York:20260117T093000
DTEND;TZID=America/New_York:20260117T120000
DTSTAMP:20260421T094636
CREATED:20260113T234004Z
LAST-MODIFIED:20260117T170002Z
UID:10010336-1768642200-1768651200@calendar.adasisrael.org
SUMMARY:TEM Shabbat Services
DESCRIPTION:The Traditional Egalitarian Minyan (TEM) is a warm\, spirited service\, committed to participatory worship. It meets in the Gewirz Beit Am every Shabbat morning and on some holidays at 9:30 a.m. Led by volunteers with the occasional assistance of Adas clergy\, the TEM service offers a full P’sukei D’Zimrah (introductory Psalms)\, Shacharit\, Torah service (starting around 10:20 a.m.) and Musaf. We read the entire weekly Torah portion\, and a D’var Torah is shared every week by a member of the TEM community. Our service ends around the same time as Adas’s Smith Sanctuary service\, and we will join the the congregational Kiddush once it resumes following the pandemic.
URL:https://calendar.adasisrael.org/event/tem-shabbat-services-124/
LOCATION:Gewirz Beit Am
CATEGORIES:Shabbat
ATTACH;FMTTYPE=image/png:https://calendar.adasisrael.org/wp-content/uploads/2023/07/Screenshot2023-06-23at10.20.20AM-p4sN6R.tmp_.png
END:VEVENT
BEGIN:VEVENT
DTSTART;TZID=America/New_York:20260110T093000
DTEND;TZID=America/New_York:20260110T120000
DTSTAMP:20260421T094636
CREATED:20251127T153017Z
LAST-MODIFIED:20260110T155502Z
UID:10009832-1768037400-1768046400@calendar.adasisrael.org
SUMMARY:TEM Shabbat Services
DESCRIPTION:The Traditional Egalitarian Minyan (TEM) is a warm\, spirited service\, committed to participatory worship. It meets in the Gewirz Beit Am every Shabbat morning and on some holidays at 9:30 a.m. Led by volunteers with the occasional assistance of Adas clergy\, the TEM service offers a full P’sukei D’Zimrah (introductory Psalms)\, Shacharit\, Torah service (starting around 10:20 a.m.) and Musaf. We read the entire weekly Torah portion\, and a D’var Torah is shared every week by a member of the TEM community. Our service ends around the same time as Adas’s Smith Sanctuary service\, and we will join the the congregational Kiddush once it resumes following the pandemic.
URL:https://calendar.adasisrael.org/event/tem-shabbat-services-123/
LOCATION:Gewirz Beit Am
CATEGORIES:Shabbat
ATTACH;FMTTYPE=image/png:https://calendar.adasisrael.org/wp-content/uploads/2023/07/Screenshot2023-06-23at10.20.20AM-p4sN6R.tmp_.png
END:VEVENT
BEGIN:VEVENT
DTSTART;TZID=America/New_York:20260109T180000
DTEND;TZID=America/New_York:20260109T190000
DTSTAMP:20260421T094636
CREATED:20251127T153017Z
LAST-MODIFIED:20260109T232002Z
UID:10009828-1767981600-1767985200@calendar.adasisrael.org
SUMMARY:Traditional Egalitarian Minyan Kabbalat Shabbat
DESCRIPTION:Join the Traditional Egalitarian Minyan in the Gewirz Beit Am for Kabbalat Shabbat. Come lend your voices and welcome Shabbat with us\, at a spirited\, traditional Friday night davening. All are welcome!
URL:https://calendar.adasisrael.org/event/traditional-egalitarian-minyan-kabbalat-shabbat-27/
LOCATION:Gewirz Beit Am
CATEGORIES:Shabbat
ATTACH;FMTTYPE=image/jpeg:https://calendar.adasisrael.org/wp-content/uploads/2023/07/ShabbatImage-600x400-pGK88z.tmp_.jpg
END:VEVENT
BEGIN:VEVENT
DTSTART;TZID=America/New_York:20260103T093000
DTEND;TZID=America/New_York:20260103T120000
DTSTAMP:20260421T094636
CREATED:20251127T153014Z
LAST-MODIFIED:20260103T155502Z
UID:10009800-1767432600-1767441600@calendar.adasisrael.org
SUMMARY:TEM Shabbat Services
DESCRIPTION:The Traditional Egalitarian Minyan (TEM) is a warm\, spirited service\, committed to participatory worship. It meets in the Gewirz Beit Am every Shabbat morning and on some holidays at 9:30 a.m. Led by volunteers with the occasional assistance of Adas clergy\, the TEM service offers a full P’sukei D’Zimrah (introductory Psalms)\, Shacharit\, Torah service (starting around 10:20 a.m.) and Musaf. We read the entire weekly Torah portion\, and a D’var Torah is shared every week by a member of the TEM community. Our service ends around the same time as Adas’s Smith Sanctuary service\, and we will join the the congregational Kiddush once it resumes following the pandemic.
URL:https://calendar.adasisrael.org/event/tem-shabbat-services-122/
LOCATION:Gewirz Beit Am
CATEGORIES:Shabbat
ATTACH;FMTTYPE=image/png:https://calendar.adasisrael.org/wp-content/uploads/2023/07/Screenshot2023-06-23at10.20.20AM-p4sN6R.tmp_.png
END:VEVENT
BEGIN:VEVENT
DTSTART;TZID=America/New_York:20251227T093000
DTEND;TZID=America/New_York:20251227T120000
DTSTAMP:20260421T094636
CREATED:20251127T153012Z
LAST-MODIFIED:20251227T164502Z
UID:10009781-1766827800-1766836800@calendar.adasisrael.org
SUMMARY:Shabbat Service
DESCRIPTION:Click Here To Livestream \nLed by our inspiring Rabbis and Cantor\, this service includes a D’var Torah and sermon and often includes participation by members and B’nai Mitzvah. \nShabbat Service Links: \nSiddur Lev Shalem: Kabbalat Shabbat | Click Here to DownloadSiddur Lev Shalem: Shabbat Morning | Click Here to Download
URL:https://calendar.adasisrael.org/event/shabbat-service-2/
LOCATION:Gewirz Beit Am
CATEGORIES:Shabbat
ATTACH;FMTTYPE=image/jpeg:https://calendar.adasisrael.org/wp-content/uploads/2024/03/AdasShabbat-YxiwDc.tmp_.jpg
END:VEVENT
BEGIN:VEVENT
DTSTART;TZID=America/New_York:20251220T091500
DTEND;TZID=America/New_York:20251220T120000
DTSTAMP:20260421T094636
CREATED:20251127T153010Z
LAST-MODIFIED:20251220T160002Z
UID:10009760-1766222100-1766232000@calendar.adasisrael.org
SUMMARY:TEM Shabbat Services
DESCRIPTION:The Traditional Egalitarian Minyan (TEM) is a warm\, spirited service\, committed to participatory worship. It meets in the Gewirz Beit Am every Shabbat morning and on some holidays at 9:30 a.m. Led by volunteers with the occasional assistance of Adas clergy\, the TEM service offers a full P’sukei D’Zimrah (introductory Psalms)\, Shacharit\, Torah service (starting around 10:20 a.m.) and Musaf. We read the entire weekly Torah portion\, and a D’var Torah is shared every week by a member of the TEM community. Our service ends around the same time as Adas’s Smith Sanctuary service\, and we will join the the congregational Kiddush once it resumes following the pandemic.
URL:https://calendar.adasisrael.org/event/tem-shabbat-services-121/
LOCATION:Gewirz Beit Am
CATEGORIES:Shabbat
ATTACH;FMTTYPE=image/png:https://calendar.adasisrael.org/wp-content/uploads/2023/07/Screenshot2023-06-23at10.20.20AM-p4sN6R.tmp_.png
END:VEVENT
BEGIN:VEVENT
DTSTART;TZID=America/New_York:20251214T090000
DTEND;TZID=America/New_York:20251214T100000
DTSTAMP:20260421T094636
CREATED:20251127T153008Z
LAST-MODIFIED:20251214T144502Z
UID:10009729-1765702800-1765706400@calendar.adasisrael.org
SUMMARY:Morning Minyan
DESCRIPTION:Join us in-person or on Zoom: \nSundays and Federal Holidays at 9am\, Zoom Link Here \nMondays-Fridays at 7:30am\, Zoom Link Here \nClick Here For Shacharit Pages \nWinter Break Schedule: \nThe Adas building will be open only for AM minyan on: Mon\, Dec 22 – Fri\, Dec 26\, Sun\, Dec 28\, Thu\, Jan 1\, and Fri\, Jan 2. \nPM minyan on Dec 22\, 23\, and 24\, 25\, 31 and Jan 1 will be Zoom-only.
URL:https://calendar.adasisrael.org/event/morning-minyan-730/
LOCATION:Gewirz Beit Am
CATEGORIES:Daily Minyan
ATTACH;FMTTYPE=image/jpeg:https://calendar.adasisrael.org/wp-content/uploads/2023/07/JThomas_20230521_0043-z8y1js.tmp_-scaled.jpg
END:VEVENT
BEGIN:VEVENT
DTSTART;TZID=America/New_York:20251213T190000
DTEND;TZID=America/New_York:20251213T203000
DTSTAMP:20260421T094636
CREATED:20251203T165139Z
LAST-MODIFIED:20251214T010502Z
UID:10010099-1765652400-1765657800@calendar.adasisrael.org
SUMMARY:YP Havdalah & Hot Chocolate
DESCRIPTION:
URL:https://calendar.adasisrael.org/event/yp-havdalah-hot-chocolate/
LOCATION:Gewirz Beit Am
ATTACH;FMTTYPE=image/jpeg:https://calendar.adasisrael.org/wp-content/uploads/2023/07/Front-Professional.jpg
END:VEVENT
BEGIN:VEVENT
DTSTART;TZID=America/New_York:20251213T093000
DTEND;TZID=America/New_York:20251213T120000
DTSTAMP:20260421T094636
CREATED:20251127T153007Z
LAST-MODIFIED:20251213T164002Z
UID:10009721-1765618200-1765627200@calendar.adasisrael.org
SUMMARY:TEM Shabbat Services
DESCRIPTION:The Traditional Egalitarian Minyan (TEM) is a warm\, spirited service\, committed to participatory worship. It meets in the Gewirz Beit Am every Shabbat morning and on some holidays at 9:30 a.m. Led by volunteers with the occasional assistance of Adas clergy\, the TEM service offers a full P’sukei D’Zimrah (introductory Psalms)\, Shacharit\, Torah service (starting around 10:20 a.m.) and Musaf. We read the entire weekly Torah portion\, and a D’var Torah is shared every week by a member of the TEM community. Our service ends around the same time as Adas’s Smith Sanctuary service\, and we will join the the congregational Kiddush once it resumes following the pandemic.
URL:https://calendar.adasisrael.org/event/tem-shabbat-services-120/
LOCATION:Gewirz Beit Am
CATEGORIES:Shabbat
ATTACH;FMTTYPE=image/png:https://calendar.adasisrael.org/wp-content/uploads/2023/07/Screenshot2023-06-23at10.20.20AM-p4sN6R.tmp_.png
END:VEVENT
BEGIN:VEVENT
DTSTART;TZID=America/New_York:20251212T183000
DTEND;TZID=America/New_York:20251212T200000
DTSTAMP:20260421T094636
CREATED:20251127T153007Z
LAST-MODIFIED:20251213T001001Z
UID:10009717-1765564200-1765569600@calendar.adasisrael.org
SUMMARY:Shabbat Friday Night Musical Services
DESCRIPTION:
URL:https://calendar.adasisrael.org/event/shabbat-friday-night-musical-services-20/
LOCATION:Gewirz Beit Am
CATEGORIES:Shabbat
ATTACH;FMTTYPE=image/jpeg:https://calendar.adasisrael.org/wp-content/uploads/2023/07/Front-Professional.jpg
END:VEVENT
BEGIN:VEVENT
DTSTART;TZID=America/New_York:20251210T190000
DTEND;TZID=America/New_York:20251210T203000
DTSTAMP:20260421T094636
CREATED:20251127T153006Z
LAST-MODIFIED:20251211T005502Z
UID:10009702-1765393200-1765398600@calendar.adasisrael.org
SUMMARY:Trump’s Gaza Plan: Can it Lead to Arab-Israeli Peace?
DESCRIPTION:Phase one of the Gaza plan seems to be holding. But the real test of the initiative’s success is yet to come. Can the US overcome the security\, governance\, and reconstruction challenges let alone build on ending the war in Gaza to address the broader issue of Israel-Palestinian and regional peace?  Join Aaron David Miller and a panel of well-known experts and analysts to discuss these and other issues. \n \nGhaith al-Omari — the Rosalinde and Arthur Gilbert Foundation Senior Fellow in The Washington Institute For Near East Policy \nYael Lempert\, VP of Outreach\, Middle East Institute & former US Ambassador to Jordan \nNatan Sachs\, Senior Fellow at the Middle East Institute\, former Director of the Brookings Institution’s Center for Middle East Policy \nRegister
URL:https://calendar.adasisrael.org/event/trumps-gaza-plan-can-it-lead-to-arab-israeli-peace/
LOCATION:Gewirz Beit Am
CATEGORIES:Learn & Engage
ATTACH;FMTTYPE=image/jpeg:https://calendar.adasisrael.org/wp-content/uploads/2023/07/Front-Professional.jpg
END:VEVENT
BEGIN:VEVENT
DTSTART;TZID=America/New_York:20251207T130000
DTEND;TZID=America/New_York:20251207T150000
DTSTAMP:20260421T094636
CREATED:20251127T153005Z
LAST-MODIFIED:20251207T191502Z
UID:10009686-1765112400-1765119600@calendar.adasisrael.org
SUMMARY:Klezmer Workshop w/ Dance
DESCRIPTION:
URL:https://calendar.adasisrael.org/event/klezmer-workshop-w-dance/
LOCATION:Gewirz Beit Am
ATTACH;FMTTYPE=image/jpeg:https://calendar.adasisrael.org/wp-content/uploads/2023/07/Front-Professional.jpg
END:VEVENT
BEGIN:VEVENT
DTSTART;TZID=America/New_York:20251206T120000
DTEND;TZID=America/New_York:20251206T200000
DTSTAMP:20260421T094636
CREATED:20251127T153004Z
LAST-MODIFIED:20251207T001001Z
UID:10009675-1765022400-1765051200@calendar.adasisrael.org
SUMMARY:TEM Shabbaton
DESCRIPTION:
URL:https://calendar.adasisrael.org/event/tem-shabbaton-8/
LOCATION:Gewirz Beit Am
ATTACH;FMTTYPE=image/jpeg:https://calendar.adasisrael.org/wp-content/uploads/2023/07/Front-Professional.jpg
END:VEVENT
BEGIN:VEVENT
DTSTART;TZID=America/New_York:20251206T093000
DTEND;TZID=America/New_York:20251206T120000
DTSTAMP:20260421T094636
CREATED:20251127T153004Z
LAST-MODIFIED:20251206T163001Z
UID:10009664-1765013400-1765022400@calendar.adasisrael.org
SUMMARY:TEM Shabbat Services
DESCRIPTION:The Traditional Egalitarian Minyan (TEM) is a warm\, spirited service\, committed to participatory worship. It meets in the Gewirz Beit Am every Shabbat morning and on some holidays at 9:30 a.m. Led by volunteers with the occasional assistance of Adas clergy\, the TEM service offers a full P’sukei D’Zimrah (introductory Psalms)\, Shacharit\, Torah service (starting around 10:20 a.m.) and Musaf. We read the entire weekly Torah portion\, and a D’var Torah is shared every week by a member of the TEM community. Our service ends around the same time as Adas’s Smith Sanctuary service\, and we will join the the congregational Kiddush once it resumes following the pandemic.
URL:https://calendar.adasisrael.org/event/tem-shabbat-services-119/
LOCATION:Gewirz Beit Am
CATEGORIES:Shabbat
ATTACH;FMTTYPE=image/png:https://calendar.adasisrael.org/wp-content/uploads/2023/07/Screenshot2023-06-23at10.20.20AM-p4sN6R.tmp_.png
END:VEVENT
BEGIN:VEVENT
DTSTART;TZID=America/New_York:20251205T180000
DTEND;TZID=America/New_York:20251205T190000
DTSTAMP:20260421T094636
CREATED:20251127T153003Z
LAST-MODIFIED:20251205T235506Z
UID:10009660-1764957600-1764961200@calendar.adasisrael.org
SUMMARY:Traditional Egalitarian Minyan Kabbalat Shabbat
DESCRIPTION:Join the Traditional Egalitarian Minyan in the Gewirz Beit Am for Kabbalat Shabbat. Come lend your voices and welcome Shabbat with us\, at a spirited\, traditional Friday night davening. All are welcome!
URL:https://calendar.adasisrael.org/event/traditional-egalitarian-minyan-kabbalat-shabbat-26/
LOCATION:Gewirz Beit Am
CATEGORIES:Shabbat
ATTACH;FMTTYPE=image/jpeg:https://calendar.adasisrael.org/wp-content/uploads/2023/07/ShabbatImage-600x400-pGK88z.tmp_.jpg
END:VEVENT
BEGIN:VEVENT
DTSTART;TZID=America/New_York:20251129T093000
DTEND;TZID=America/New_York:20251129T120000
DTSTAMP:20260421T094636
CREATED:20251127T153001Z
LAST-MODIFIED:20251129T155501Z
UID:10009633-1764408600-1764417600@calendar.adasisrael.org
SUMMARY:Shabbat Service
DESCRIPTION:Click Here To Livestream \nLed by our inspiring Rabbis and Cantor\, this service includes a D’var Torah and sermon and often includes participation by members and B’nai Mitzvah. \nShabbat Service Links: \nSiddur Lev Shalem: Kabbalat Shabbat | Click Here to DownloadSiddur Lev Shalem: Shabbat Morning | Click Here to Download
URL:https://calendar.adasisrael.org/event/shabbat-service/
LOCATION:Gewirz Beit Am
CATEGORIES:Shabbat
ATTACH;FMTTYPE=image/jpeg:https://calendar.adasisrael.org/wp-content/uploads/2024/03/AdasShabbat-YxiwDc.tmp_.jpg
END:VEVENT
BEGIN:VEVENT
DTSTART;TZID=America/New_York:20251122T093000
DTEND;TZID=America/New_York:20251122T120000
DTSTAMP:20260421T094636
CREATED:20250823T054018Z
LAST-MODIFIED:20251122T164002Z
UID:10009017-1763803800-1763812800@calendar.adasisrael.org
SUMMARY:TEM Shabbat Services
DESCRIPTION:The Traditional Egalitarian Minyan (TEM) is a warm\, spirited service\, committed to participatory worship. It meets in the Gewirz Beit Am every Shabbat morning and on some holidays at 9:30 a.m. Led by volunteers with the occasional assistance of Adas clergy\, the TEM service offers a full P’sukei D’Zimrah (introductory Psalms)\, Shacharit\, Torah service (starting around 10:20 a.m.) and Musaf. We read the entire weekly Torah portion\, and a D’var Torah is shared every week by a member of the TEM community. Our service ends around the same time as Adas’s Smith Sanctuary service\, and we will join the the congregational Kiddush once it resumes following the pandemic.
URL:https://calendar.adasisrael.org/event/tem-shabbat-services-118/
LOCATION:Gewirz Beit Am
CATEGORIES:Shabbat
ATTACH;FMTTYPE=image/png:https://calendar.adasisrael.org/wp-content/uploads/2023/07/Screenshot2023-06-23at10.20.20AM-p4sN6R.tmp_.png
END:VEVENT
BEGIN:VEVENT
DTSTART;TZID=America/New_York:20251115T124500
DTEND;TZID=America/New_York:20251115T131500
DTSTAMP:20260421T094636
CREATED:20250816T055519Z
LAST-MODIFIED:20251115T171002Z
UID:10008973-1763210700-1763212500@calendar.adasisrael.org
SUMMARY:Shabbat Mincha Service
DESCRIPTION:Join us for a Saturday afternoon of prayer and Torah. The content of the mincha prayers reflects the essential goal of menucha (rest) on the Sabbath day.
URL:https://calendar.adasisrael.org/event/shabbat-mincha-service-122/
LOCATION:Gewirz Beit Am
CATEGORIES:Shabbat
ATTACH;FMTTYPE=image/jpeg:https://calendar.adasisrael.org/wp-content/uploads/2023/07/minchaservice600x400-sc8WO8.tmp_.jpg
END:VEVENT
END:VCALENDAR