BEGIN:VCALENDAR
VERSION:2.0
PRODID:-//Adas Israel Congregation - ECPv6.2.9//NONSGML v1.0//EN
CALSCALE:GREGORIAN
METHOD:PUBLISH
X-WR-CALNAME:Adas Israel Congregation
X-ORIGINAL-URL:https://calendar.adasisrael.org
X-WR-CALDESC:Events for Adas Israel Congregation
REFRESH-INTERVAL;VALUE=DURATION:PT1H
X-Robots-Tag:noindex
X-PUBLISHED-TTL:PT1H
BEGIN:VTIMEZONE
TZID:America/New_York
BEGIN:DAYLIGHT
TZOFFSETFROM:-0500
TZOFFSETTO:-0400
TZNAME:EDT
DTSTART:20240310T070000
END:DAYLIGHT
BEGIN:STANDARD
TZOFFSETFROM:-0400
TZOFFSETTO:-0500
TZNAME:EST
DTSTART:20241103T060000
END:STANDARD
END:VTIMEZONE
BEGIN:VEVENT
DTSTART;TZID=America/New_York:20240420T124500
DTEND;TZID=America/New_York:20240420T133000
DTSTAMP:20260422T021330
CREATED:20240121T055514Z
LAST-MODIFIED:20240420T170002Z
UID:10004220-1713617100-1713619800@calendar.adasisrael.org
SUMMARY:Shabbat Mincha Service
DESCRIPTION:Join us for a Saturday afternoon of prayer and Torah. The content of the mincha prayers reflects the essential goal of menucha (rest) on the Sabbath day.
URL:https://calendar.adasisrael.org/event/shabbat-mincha-service-41/
LOCATION:Gewirz Beit Am
CATEGORIES:Shabbat
ATTACH;FMTTYPE=image/jpeg:https://calendar.adasisrael.org/wp-content/uploads/2023/07/minchaservice600x400-sc8WO8.tmp_.jpg
END:VEVENT
BEGIN:VEVENT
DTSTART;TZID=America/New_York:20240420T093000
DTEND;TZID=America/New_York:20240420T120000
DTSTAMP:20260422T021330
CREATED:20240121T055514Z
LAST-MODIFIED:20240420T154502Z
UID:10004218-1713605400-1713614400@calendar.adasisrael.org
SUMMARY:TEM Shabbat Services
DESCRIPTION:The Traditional Egalitarian Minyan (TEM) is a warm\, spirited service\, committed to participatory worship. It meets in the Gewirz Beit Am every Shabbat morning and on some holidays at 9:30 a.m. Led by volunteers with the occasional assistance of Adas clergy\, the TEM service offers a full P’sukei D’Zimrah (introductory Psalms)\, Shacharit\, Torah service (starting around 10:20 a.m.) and Musaf. We read the entire weekly Torah portion\, and a D’var Torah is shared every week by a member of the TEM community. Our service ends around the same time as Adas’s Smith Sanctuary service\, and we will join the the congregational Kiddush once it resumes following the pandemic.
URL:https://calendar.adasisrael.org/event/tem-shabbat-services-40/
LOCATION:Gewirz Beit Am
CATEGORIES:Shabbat
ATTACH;FMTTYPE=image/png:https://calendar.adasisrael.org/wp-content/uploads/2023/07/Screenshot2023-06-23at10.20.20AM-p4sN6R.tmp_.png
END:VEVENT
BEGIN:VEVENT
DTSTART;TZID=America/New_York:20240414T130000
DTEND;TZID=America/New_York:20240414T160000
DTSTAMP:20260422T021330
CREATED:20240115T063012Z
LAST-MODIFIED:20240414T190502Z
UID:10004179-1713099600-1713110400@calendar.adasisrael.org
SUMMARY:DC Klezmer Workshop
DESCRIPTION:The DC Klezmer Workshop is an open community orchestra dedicated to learning the traditional and modern tunes and techniques of Yiddish instrumental music\, and then playing for fun and occasional dances. Monthly workshops (2-4:00 PM in the Gewirz Beit Am) often feature some of the best international performers and teachers.  \nOther special workshops and practice sessions as announced. Contact howardungar@gmail.com to join email list for latest information.
URL:https://calendar.adasisrael.org/event/dc-klezmer-workshop-7/
LOCATION:Gewirz Beit Am
ATTACH;FMTTYPE=image/jpeg:https://calendar.adasisrael.org/wp-content/uploads/2024/01/klezmer600x400-otwL97.tmp_.jpg
END:VEVENT
BEGIN:VEVENT
DTSTART;TZID=America/New_York:20240413T130000
DTEND;TZID=America/New_York:20240413T134500
DTSTAMP:20260422T021330
CREATED:20240114T061012Z
LAST-MODIFIED:20240413T165501Z
UID:10004173-1713013200-1713015900@calendar.adasisrael.org
SUMMARY:Shabbat Mincha Service
DESCRIPTION:Join us for a Saturday afternoon of prayer and Torah. The content of the mincha prayers reflects the essential goal of menucha (rest) on the Sabbath day.
URL:https://calendar.adasisrael.org/event/shabbat-mincha-service-40/
LOCATION:Gewirz Beit Am
CATEGORIES:Shabbat
ATTACH;FMTTYPE=image/jpeg:https://calendar.adasisrael.org/wp-content/uploads/2023/07/minchaservice600x400-sc8WO8.tmp_.jpg
END:VEVENT
BEGIN:VEVENT
DTSTART;TZID=America/New_York:20240413T093000
DTEND;TZID=America/New_York:20240413T120000
DTSTAMP:20260422T021330
CREATED:20240114T061012Z
LAST-MODIFIED:20240413T155002Z
UID:10004171-1713000600-1713009600@calendar.adasisrael.org
SUMMARY:TEM Shabbat Services
DESCRIPTION:The Traditional Egalitarian Minyan (TEM) is a warm\, spirited service\, committed to participatory worship. It meets in the Gewirz Beit Am every Shabbat morning and on some holidays at 9:30 a.m. Led by volunteers with the occasional assistance of Adas clergy\, the TEM service offers a full P’sukei D’Zimrah (introductory Psalms)\, Shacharit\, Torah service (starting around 10:20 a.m.) and Musaf. We read the entire weekly Torah portion\, and a D’var Torah is shared every week by a member of the TEM community. Our service ends around the same time as Adas’s Smith Sanctuary service\, and we will join the the congregational Kiddush once it resumes following the pandemic.
URL:https://calendar.adasisrael.org/event/tem-shabbat-services-39/
LOCATION:Gewirz Beit Am
CATEGORIES:Shabbat
ATTACH;FMTTYPE=image/png:https://calendar.adasisrael.org/wp-content/uploads/2023/07/Screenshot2023-06-23at10.20.20AM-p4sN6R.tmp_.png
END:VEVENT
BEGIN:VEVENT
DTSTART;TZID=America/New_York:20240412T183000
DTEND;TZID=America/New_York:20240412T203000
DTSTAMP:20260422T021330
CREATED:20240113T053013Z
LAST-MODIFIED:20240413T003002Z
UID:10004167-1712946600-1712953800@calendar.adasisrael.org
SUMMARY:Shabbat Friday Night Musical Services
DESCRIPTION:
URL:https://calendar.adasisrael.org/event/shabbat-friday-night-musical-services-7/
LOCATION:Gewirz Beit Am
CATEGORIES:Shabbat
ATTACH;FMTTYPE=image/jpeg:https://calendar.adasisrael.org/wp-content/uploads/2023/07/Front-Professional.jpg
END:VEVENT
BEGIN:VEVENT
DTSTART;TZID=America/New_York:20240412T173000
DTEND;TZID=America/New_York:20240412T181500
DTSTAMP:20260422T021330
CREATED:20240126T230025Z
LAST-MODIFIED:20240412T214502Z
UID:10004295-1712943000-1712945700@calendar.adasisrael.org
SUMMARY:Families With Young Children Shabbat Service & Dinner
DESCRIPTION:
URL:https://calendar.adasisrael.org/event/families-with-young-children-shabbat-service-dinner-6/
LOCATION:Gewirz Beit Am
ATTACH;FMTTYPE=image/jpeg:https://calendar.adasisrael.org/wp-content/uploads/2023/07/Front-Professional.jpg
END:VEVENT
BEGIN:VEVENT
DTSTART;TZID=America/New_York:20240409T180000
DTEND;TZID=America/New_York:20240409T190000
DTSTAMP:20260422T021330
CREATED:20240110T054011Z
LAST-MODIFIED:20240409T221502Z
UID:10004153-1712685600-1712689200@calendar.adasisrael.org
SUMMARY:Evening Minyan
DESCRIPTION:Join In-Person on Mondays\, Tuesdays\, Wednesdays\, Thursdays and via Zoom every day (Sunday-Thursday). \nSiddur Pages: Mincha\, Maariv
URL:https://calendar.adasisrael.org/event/evening-minyan-194/
LOCATION:Gewirz Beit Am
CATEGORIES:Daily Minyan
ATTACH;FMTTYPE=image/jpeg:https://calendar.adasisrael.org/wp-content/uploads/2024/01/minyanheaderweb-XUfQxy.tmp_.jpg
END:VEVENT
BEGIN:VEVENT
DTSTART;TZID=America/New_York:20240406T124500
DTEND;TZID=America/New_York:20240406T133000
DTSTAMP:20260422T021330
CREATED:20240405T183505Z
LAST-MODIFIED:20240406T171502Z
UID:10004633-1712407500-1712410200@calendar.adasisrael.org
SUMMARY:Shabbat Mincha Service
DESCRIPTION:Join us for a Saturday afternoon of prayer and Torah. The content of the mincha prayers reflects the essential goal of menucha (rest) on the Sabbath day.
URL:https://calendar.adasisrael.org/event/shabbat-mincha-service-39/
LOCATION:Gewirz Beit Am
CATEGORIES:Shabbat
ATTACH;FMTTYPE=image/jpeg:https://calendar.adasisrael.org/wp-content/uploads/2023/07/minchaservice600x400-sc8WO8.tmp_.jpg
END:VEVENT
BEGIN:VEVENT
DTSTART;TZID=America/New_York:20240406T093000
DTEND;TZID=America/New_York:20240406T120000
DTSTAMP:20260422T021330
CREATED:20240107T054011Z
LAST-MODIFIED:20240406T160002Z
UID:10004134-1712395800-1712404800@calendar.adasisrael.org
SUMMARY:TEM Shabbat Services
DESCRIPTION:The Traditional Egalitarian Minyan (TEM) is a warm\, spirited service\, committed to participatory worship. It meets in the Gewirz Beit Am every Shabbat morning and on some holidays at 9:30 a.m. Led by volunteers with the occasional assistance of Adas clergy\, the TEM service offers a full P’sukei D’Zimrah (introductory Psalms)\, Shacharit\, Torah service (starting around 10:20 a.m.) and Musaf. We read the entire weekly Torah portion\, and a D’var Torah is shared every week by a member of the TEM community. Our service ends around the same time as Adas’s Smith Sanctuary service\, and we will join the the congregational Kiddush once it resumes following the pandemic.
URL:https://calendar.adasisrael.org/event/tem-shabbat-services-38/
LOCATION:Gewirz Beit Am
CATEGORIES:Shabbat
ATTACH;FMTTYPE=image/png:https://calendar.adasisrael.org/wp-content/uploads/2023/07/Screenshot2023-06-23at10.20.20AM-p4sN6R.tmp_.png
END:VEVENT
BEGIN:VEVENT
DTSTART;TZID=America/New_York:20240405T183000
DTEND;TZID=America/New_York:20240405T193000
DTSTAMP:20260422T021330
CREATED:20240106T054011Z
LAST-MODIFIED:20240405T224002Z
UID:10004129-1712341800-1712345400@calendar.adasisrael.org
SUMMARY:Traditional Egalitarian Minyan Kabbalat Shabbat
DESCRIPTION:Join the Traditional Egalitarian Minyan in the Gewirz Beit Am for Kabbalat Shabbat. Come lend your voices and welcome Shabbat with us\, at a spirited\, traditional Friday night davening. All are welcome!
URL:https://calendar.adasisrael.org/event/traditional-egalitarian-minyan-kabbalat-shabbat-8/
LOCATION:Gewirz Beit Am
CATEGORIES:Shabbat
ATTACH;FMTTYPE=image/jpeg:https://calendar.adasisrael.org/wp-content/uploads/2023/07/ShabbatImage-600x400-pGK88z.tmp_.jpg
END:VEVENT
BEGIN:VEVENT
DTSTART;TZID=America/New_York:20240402T190000
DTEND;TZID=America/New_York:20240402T203000
DTSTAMP:20260422T021330
CREATED:20240118T161010Z
LAST-MODIFIED:20240403T001001Z
UID:10004203-1712084400-1712089800@calendar.adasisrael.org
SUMMARY:Israel Listening Group
DESCRIPTION:On January 9th many of us gathered together at Adas in small\, lay-guided\, listening circles so that we could share our experiences over the past few months and feel seen and heard. That space was redemptive for so many. We’ll do this a few more times throughout the Spring. \nRegister
URL:https://calendar.adasisrael.org/event/israel-listening-group-9/
LOCATION:Gewirz Beit Am
ATTACH;FMTTYPE=image/jpeg:https://calendar.adasisrael.org/wp-content/uploads/2024/03/Makom3copy-mRDiQB.tmp_.jpg
END:VEVENT
BEGIN:VEVENT
DTSTART;TZID=America/New_York:20240330T093000
DTEND;TZID=America/New_York:20240330T120000
DTSTAMP:20260422T021330
CREATED:20231231T054011Z
LAST-MODIFIED:20240330T152002Z
UID:10004080-1711791000-1711800000@calendar.adasisrael.org
SUMMARY:TEM Shabbat Services
DESCRIPTION:The Traditional Egalitarian Minyan (TEM) is a warm\, spirited service\, committed to participatory worship. It meets in the Gewirz Beit Am every Shabbat morning and on some holidays at 9:30 a.m. Led by volunteers with the occasional assistance of Adas clergy\, the TEM service offers a full P’sukei D’Zimrah (introductory Psalms)\, Shacharit\, Torah service (starting around 10:20 a.m.) and Musaf. We read the entire weekly Torah portion\, and a D’var Torah is shared every week by a member of the TEM community. Our service ends around the same time as Adas’s Smith Sanctuary service\, and we will join the the congregational Kiddush once it resumes following the pandemic.
URL:https://calendar.adasisrael.org/event/tem-shabbat-services-37/
LOCATION:Gewirz Beit Am
CATEGORIES:Shabbat
ATTACH;FMTTYPE=image/png:https://calendar.adasisrael.org/wp-content/uploads/2023/07/Screenshot2023-06-23at10.20.20AM-p4sN6R.tmp_.png
END:VEVENT
BEGIN:VEVENT
DTSTART;TZID=America/New_York:20240323T174500
DTEND;TZID=America/New_York:20240323T193000
DTSTAMP:20260422T021330
CREATED:20240320T170518Z
LAST-MODIFIED:20240323T232006Z
UID:10004579-1711215900-1711222200@calendar.adasisrael.org
SUMMARY:Young Family Purim Carnival
DESCRIPTION:
URL:https://calendar.adasisrael.org/event/young-family-purim-carnival-2/
LOCATION:Gewirz Beit Am
ATTACH;FMTTYPE=image/jpeg:https://calendar.adasisrael.org/wp-content/uploads/2023/07/Front-Professional.jpg
END:VEVENT
BEGIN:VEVENT
DTSTART;TZID=America/New_York:20240323T093000
DTEND;TZID=America/New_York:20240323T120000
DTSTAMP:20260422T021330
CREATED:20231224T052511Z
LAST-MODIFIED:20240323T155002Z
UID:10004056-1711186200-1711195200@calendar.adasisrael.org
SUMMARY:TEM Shabbat Services
DESCRIPTION:The Traditional Egalitarian Minyan (TEM) is a warm\, spirited service\, committed to participatory worship. It meets in the Gewirz Beit Am every Shabbat morning and on some holidays at 9:30 a.m. Led by volunteers with the occasional assistance of Adas clergy\, the TEM service offers a full P’sukei D’Zimrah (introductory Psalms)\, Shacharit\, Torah service (starting around 10:20 a.m.) and Musaf. We read the entire weekly Torah portion\, and a D’var Torah is shared every week by a member of the TEM community. Our service ends around the same time as Adas’s Smith Sanctuary service\, and we will join the the congregational Kiddush once it resumes following the pandemic.
URL:https://calendar.adasisrael.org/event/tem-shabbat-services-36/
LOCATION:Gewirz Beit Am
CATEGORIES:Shabbat
ATTACH;FMTTYPE=image/png:https://calendar.adasisrael.org/wp-content/uploads/2023/07/Screenshot2023-06-23at10.20.20AM-p4sN6R.tmp_.png
END:VEVENT
BEGIN:VEVENT
DTSTART;TZID=America/New_York:20240317T130000
DTEND;TZID=America/New_York:20240317T160000
DTSTAMP:20260422T021330
CREATED:20231218T054010Z
LAST-MODIFIED:20240317T185502Z
UID:10004024-1710680400-1710691200@calendar.adasisrael.org
SUMMARY:DC Klezmer Workshop
DESCRIPTION:The DC Klezmer Workshop is an open community orchestra dedicated to learning the traditional and modern tunes and techniques of Yiddish instrumental music\, and then playing for fun and occasional dances. Monthly workshops (2-4:00 PM in the Gewirz Beit Am) often feature some of the best international performers and teachers.  \nOther special workshops and practice sessions as announced. Contact howardungar@gmail.com to join email list for latest information.
URL:https://calendar.adasisrael.org/event/dc-klezmer-workshop-6/
LOCATION:Gewirz Beit Am
ATTACH;FMTTYPE=image/jpeg:https://calendar.adasisrael.org/wp-content/uploads/2024/01/klezmer600x400-otwL97.tmp_.jpg
END:VEVENT
BEGIN:VEVENT
DTSTART;TZID=America/New_York:20240316T093000
DTEND;TZID=America/New_York:20240316T120000
DTSTAMP:20260422T021330
CREATED:20231217T060510Z
LAST-MODIFIED:20240316T154502Z
UID:10004019-1710581400-1710590400@calendar.adasisrael.org
SUMMARY:TEM Shabbat Services
DESCRIPTION:The Traditional Egalitarian Minyan (TEM) is a warm\, spirited service\, committed to participatory worship. It meets in the Gewirz Beit Am every Shabbat morning and on some holidays at 9:30 a.m. Led by volunteers with the occasional assistance of Adas clergy\, the TEM service offers a full P’sukei D’Zimrah (introductory Psalms)\, Shacharit\, Torah service (starting around 10:20 a.m.) and Musaf. We read the entire weekly Torah portion\, and a D’var Torah is shared every week by a member of the TEM community. Our service ends around the same time as Adas’s Smith Sanctuary service\, and we will join the the congregational Kiddush once it resumes following the pandemic.
URL:https://calendar.adasisrael.org/event/tem-shabbat-services-35/
LOCATION:Gewirz Beit Am
CATEGORIES:Shabbat
ATTACH;FMTTYPE=image/png:https://calendar.adasisrael.org/wp-content/uploads/2023/07/Screenshot2023-06-23at10.20.20AM-p4sN6R.tmp_.png
END:VEVENT
BEGIN:VEVENT
DTSTART;TZID=America/New_York:20240313T190000
DTEND;TZID=America/New_York:20240313T203000
DTSTAMP:20260422T021330
CREATED:20240205T173833Z
LAST-MODIFIED:20240314T001002Z
UID:10004343-1710356400-1710361800@calendar.adasisrael.org
SUMMARY:A Conversation with Jodi Rudoren
DESCRIPTION:As American Jews reeled from the horrific violence of Oct. 7 in Israel\, they faced another shock at home as antisemitism and fierce hostility toward Israel exploded in the U.S.  \nThe Forward has been at the forefront of covering this aftermath: hate-filled messages and threats to Jews’ safety not only in synagogues and other Jewish spaces but also at city council meetings\, on college campuses and in restaurants and stores. Under editor-in-chief Jodi Rudoren’s leadership and with enterprise reporter Arno Rosenfeld’s insightful investigations\, the Forward has explored the events\, root causes and stories behind the headlines.  \nJoin Jodi Rudoren and Arno Rosenfeld for a candid discussion of how rising antisemitism — and disputes over how to address it — is shaping American Jewish life.  \n \nRegister
URL:https://calendar.adasisrael.org/event/a-conversation-with-jodi-rudoren/
LOCATION:Gewirz Beit Am
CATEGORIES:Learn & Engage
ATTACH;FMTTYPE=image/png:https://calendar.adasisrael.org/wp-content/uploads/2024/02/antisemtismtalkmarch2024-lm9KO7.tmp_.png
END:VEVENT
BEGIN:VEVENT
DTSTART;TZID=America/New_York:20240309T093000
DTEND;TZID=America/New_York:20240309T120000
DTSTAMP:20260422T021330
CREATED:20231210T061013Z
LAST-MODIFIED:20240309T161002Z
UID:10003986-1709976600-1709985600@calendar.adasisrael.org
SUMMARY:TEM Shabbat Services
DESCRIPTION:The Traditional Egalitarian Minyan (TEM) is a warm\, spirited service\, committed to participatory worship. It meets in the Gewirz Beit Am every Shabbat morning and on some holidays at 9:30 a.m. Led by volunteers with the occasional assistance of Adas clergy\, the TEM service offers a full P’sukei D’Zimrah (introductory Psalms)\, Shacharit\, Torah service (starting around 10:20 a.m.) and Musaf. We read the entire weekly Torah portion\, and a D’var Torah is shared every week by a member of the TEM community. Our service ends around the same time as Adas’s Smith Sanctuary service\, and we will join the the congregational Kiddush once it resumes following the pandemic.
URL:https://calendar.adasisrael.org/event/tem-shabbat-services-34/
LOCATION:Gewirz Beit Am
CATEGORIES:Shabbat
ATTACH;FMTTYPE=image/png:https://calendar.adasisrael.org/wp-content/uploads/2023/07/Screenshot2023-06-23at10.20.20AM-p4sN6R.tmp_.png
END:VEVENT
BEGIN:VEVENT
DTSTART;TZID=America/New_York:20240308T183000
DTEND;TZID=America/New_York:20240308T203000
DTSTAMP:20260422T021330
CREATED:20231209T054012Z
LAST-MODIFIED:20240309T004502Z
UID:10003982-1709922600-1709929800@calendar.adasisrael.org
SUMMARY:Shabbat Friday Night Musical Services
DESCRIPTION:
URL:https://calendar.adasisrael.org/event/shabbat-friday-night-musical-services-6/
LOCATION:Gewirz Beit Am
CATEGORIES:Shabbat
ATTACH;FMTTYPE=image/jpeg:https://calendar.adasisrael.org/wp-content/uploads/2023/07/Front-Professional.jpg
END:VEVENT
BEGIN:VEVENT
DTSTART;TZID=America/New_York:20240308T173000
DTEND;TZID=America/New_York:20240308T181500
DTSTAMP:20260422T021330
CREATED:20240126T225351Z
LAST-MODIFIED:20240308T231002Z
UID:10004267-1709919000-1709921700@calendar.adasisrael.org
SUMMARY:Families With Young Children Shabbat Service & Dinner
DESCRIPTION:
URL:https://calendar.adasisrael.org/event/families-with-young-children-shabbat-service-dinner-3/
LOCATION:Gewirz Beit Am
ATTACH;FMTTYPE=image/jpeg:https://calendar.adasisrael.org/wp-content/uploads/2023/07/Front-Professional.jpg
END:VEVENT
BEGIN:VEVENT
DTSTART;TZID=America/New_York:20240302T093000
DTEND;TZID=America/New_York:20240302T120000
DTSTAMP:20260422T021330
CREATED:20231204T222519Z
LAST-MODIFIED:20240302T163002Z
UID:10003952-1709371800-1709380800@calendar.adasisrael.org
SUMMARY:TEM Shabbat Services
DESCRIPTION:The Traditional Egalitarian Minyan (TEM) is a warm\, spirited service\, committed to participatory worship. It meets in the Gewirz Beit Am every Shabbat morning and on some holidays at 9:30 a.m. Led by volunteers with the occasional assistance of Adas clergy\, the TEM service offers a full P’sukei D’Zimrah (introductory Psalms)\, Shacharit\, Torah service (starting around 10:20 a.m.) and Musaf. We read the entire weekly Torah portion\, and a D’var Torah is shared every week by a member of the TEM community. Our service ends around the same time as Adas’s Smith Sanctuary service\, and we will join the the congregational Kiddush once it resumes following the pandemic.
URL:https://calendar.adasisrael.org/event/tem-shabbat-services-33/
LOCATION:Gewirz Beit Am
CATEGORIES:Shabbat
ATTACH;FMTTYPE=image/png:https://calendar.adasisrael.org/wp-content/uploads/2023/07/Screenshot2023-06-23at10.20.20AM-p4sN6R.tmp_.png
END:VEVENT
BEGIN:VEVENT
DTSTART;TZID=America/New_York:20240301T180000
DTEND;TZID=America/New_York:20240301T190000
DTSTAMP:20260422T021330
CREATED:20231204T222519Z
LAST-MODIFIED:20240301T235502Z
UID:10003947-1709316000-1709319600@calendar.adasisrael.org
SUMMARY:Traditional Egalitarian Minyan Kabbalat Shabbat
DESCRIPTION:Join the Traditional Egalitarian Minyan in the Gewirz Beit Am for Kabbalat Shabbat. Come lend your voices and welcome Shabbat with us\, at a spirited\, traditional Friday night davening. All are welcome!
URL:https://calendar.adasisrael.org/event/traditional-egalitarian-minyan-kabbalat-shabbat-7/
LOCATION:Gewirz Beit Am
CATEGORIES:Shabbat
ATTACH;FMTTYPE=image/jpeg:https://calendar.adasisrael.org/wp-content/uploads/2023/07/ShabbatImage-600x400-pGK88z.tmp_.jpg
END:VEVENT
BEGIN:VEVENT
DTSTART;TZID=America/New_York:20240224T124500
DTEND;TZID=America/New_York:20240224T133000
DTSTAMP:20260422T021330
CREATED:20231204T222517Z
LAST-MODIFIED:20240219T233004Z
UID:10003926-1708778700-1708781400@calendar.adasisrael.org
SUMMARY:Shabbat Mincha Service
DESCRIPTION:Join us for a Saturday afternoon of prayer and Torah. The content of the mincha prayers reflects the essential goal of menucha (rest) on the Sabbath day.
URL:https://calendar.adasisrael.org/event/shabbat-mincha-service-33/
LOCATION:Gewirz Beit Am
CATEGORIES:Shabbat
ATTACH;FMTTYPE=image/jpeg:https://calendar.adasisrael.org/wp-content/uploads/2023/07/minchaservice600x400-sc8WO8.tmp_.jpg
END:VEVENT
BEGIN:VEVENT
DTSTART;TZID=America/New_York:20240224T093000
DTEND;TZID=America/New_York:20240224T120000
DTSTAMP:20260422T021330
CREATED:20231204T222517Z
LAST-MODIFIED:20240219T233004Z
UID:10003923-1708767000-1708776000@calendar.adasisrael.org
SUMMARY:TEM Shabbat Services
DESCRIPTION:The Traditional Egalitarian Minyan (TEM) is a warm\, spirited service\, committed to participatory worship. It meets in the Gewirz Beit Am every Shabbat morning and on some holidays at 9:30 a.m. Led by volunteers with the occasional assistance of Adas clergy\, the TEM service offers a full P’sukei D’Zimrah (introductory Psalms)\, Shacharit\, Torah service (starting around 10:20 a.m.) and Musaf. We read the entire weekly Torah portion\, and a D’var Torah is shared every week by a member of the TEM community. Our service ends around the same time as Adas’s Smith Sanctuary service\, and we will join the the congregational Kiddush once it resumes following the pandemic.
URL:https://calendar.adasisrael.org/event/tem-shabbat-services-32/
LOCATION:Gewirz Beit Am
CATEGORIES:Shabbat
ATTACH;FMTTYPE=image/png:https://calendar.adasisrael.org/wp-content/uploads/2023/07/Screenshot2023-06-23at10.20.20AM-p4sN6R.tmp_.png
END:VEVENT
BEGIN:VEVENT
DTSTART;TZID=America/New_York:20240220T183000
DTEND;TZID=America/New_York:20240220T213000
DTSTAMP:20260422T021330
CREATED:20240105T172007Z
LAST-MODIFIED:20240219T233003Z
UID:10004125-1708453800-1708464600@calendar.adasisrael.org
SUMMARY:IRC Mentor Training
DESCRIPTION:
URL:https://calendar.adasisrael.org/event/irc-mentor-training/
LOCATION:Gewirz Beit Am
ATTACH;FMTTYPE=image/jpeg:https://calendar.adasisrael.org/wp-content/uploads/2023/07/Front-Professional.jpg
END:VEVENT
BEGIN:VEVENT
DTSTART;TZID=America/New_York:20240217T124500
DTEND;TZID=America/New_York:20240217T133000
DTSTAMP:20260422T021330
CREATED:20231204T222516Z
LAST-MODIFIED:20240217T182502Z
UID:10003902-1708173900-1708176600@calendar.adasisrael.org
SUMMARY:Shabbat Mincha Service
DESCRIPTION:Join us for a Saturday afternoon of prayer and Torah. The content of the mincha prayers reflects the essential goal of menucha (rest) on the Sabbath day.
URL:https://calendar.adasisrael.org/event/shabbat-mincha-service-32/
LOCATION:Gewirz Beit Am
CATEGORIES:Shabbat
ATTACH;FMTTYPE=image/jpeg:https://calendar.adasisrael.org/wp-content/uploads/2023/07/minchaservice600x400-sc8WO8.tmp_.jpg
END:VEVENT
BEGIN:VEVENT
DTSTART;TZID=America/New_York:20240217T093000
DTEND;TZID=America/New_York:20240217T120000
DTSTAMP:20260422T021330
CREATED:20231204T222516Z
LAST-MODIFIED:20240217T164502Z
UID:10003901-1708162200-1708171200@calendar.adasisrael.org
SUMMARY:TEM Shabbat Services
DESCRIPTION:The Traditional Egalitarian Minyan (TEM) is a warm\, spirited service\, committed to participatory worship. It meets in the Gewirz Beit Am every Shabbat morning and on some holidays at 9:30 a.m. Led by volunteers with the occasional assistance of Adas clergy\, the TEM service offers a full P’sukei D’Zimrah (introductory Psalms)\, Shacharit\, Torah service (starting around 10:20 a.m.) and Musaf. We read the entire weekly Torah portion\, and a D’var Torah is shared every week by a member of the TEM community. Our service ends around the same time as Adas’s Smith Sanctuary service\, and we will join the the congregational Kiddush once it resumes following the pandemic.
URL:https://calendar.adasisrael.org/event/tem-shabbat-services-31/
LOCATION:Gewirz Beit Am
CATEGORIES:Shabbat
ATTACH;FMTTYPE=image/png:https://calendar.adasisrael.org/wp-content/uploads/2023/07/Screenshot2023-06-23at10.20.20AM-p4sN6R.tmp_.png
END:VEVENT
BEGIN:VEVENT
DTSTART;TZID=America/New_York:20240216T180000
DTEND;TZID=America/New_York:20240216T200000
DTSTAMP:20260422T021330
CREATED:20231205T171511Z
LAST-MODIFIED:20240217T004002Z
UID:10003960-1708106400-1708113600@calendar.adasisrael.org
SUMMARY:Traditional Egalitarian Minyan Kabbalat Shabbat Service
DESCRIPTION:
URL:https://calendar.adasisrael.org/event/traditional-egalitarian-minyan-kabbalat-shabbat-service/
LOCATION:Gewirz Beit Am
CATEGORIES:Shabbat
ATTACH;FMTTYPE=image/jpeg:https://calendar.adasisrael.org/wp-content/uploads/2023/07/Front-Professional.jpg
END:VEVENT
BEGIN:VEVENT
DTSTART;TZID=America/New_York:20240210T131500
DTEND;TZID=America/New_York:20240210T140000
DTSTAMP:20260422T021330
CREATED:20231204T222515Z
LAST-MODIFIED:20240210T182502Z
UID:10003874-1707570900-1707573600@calendar.adasisrael.org
SUMMARY:Shabbat Mincha Service
DESCRIPTION:Join us for a Saturday afternoon of prayer and Torah. The content of the mincha prayers reflects the essential goal of menucha (rest) on the Sabbath day.
URL:https://calendar.adasisrael.org/event/shabbat-mincha-service-31/
LOCATION:Gewirz Beit Am
CATEGORIES:Shabbat
ATTACH;FMTTYPE=image/jpeg:https://calendar.adasisrael.org/wp-content/uploads/2023/07/minchaservice600x400-sc8WO8.tmp_.jpg
END:VEVENT
END:VCALENDAR