BEGIN:VCALENDAR
VERSION:2.0
PRODID:-//Adas Israel Congregation - ECPv6.2.9//NONSGML v1.0//EN
CALSCALE:GREGORIAN
METHOD:PUBLISH
X-WR-CALNAME:Adas Israel Congregation
X-ORIGINAL-URL:https://calendar.adasisrael.org
X-WR-CALDESC:Events for Adas Israel Congregation
REFRESH-INTERVAL;VALUE=DURATION:PT1H
X-Robots-Tag:noindex
X-PUBLISHED-TTL:PT1H
BEGIN:VTIMEZONE
TZID:America/New_York
BEGIN:DAYLIGHT
TZOFFSETFROM:-0500
TZOFFSETTO:-0400
TZNAME:EDT
DTSTART:20230312T070000
END:DAYLIGHT
BEGIN:STANDARD
TZOFFSETFROM:-0400
TZOFFSETTO:-0500
TZNAME:EST
DTSTART:20231105T060000
END:STANDARD
END:VTIMEZONE
BEGIN:VEVENT
DTSTART;TZID=America/New_York:20230912T170000
DTEND;TZID=America/New_York:20230912T210000
DTSTAMP:20260421T142423
CREATED:20230910T050002Z
LAST-MODIFIED:20230912T235501Z
UID:10002621-1694538000-1694552400@calendar.adasisrael.org
SUMMARY:Not Letting It In Green Room
DESCRIPTION:
URL:https://calendar.adasisrael.org/event/not-letting-it-in-green-room/
LOCATION:Board Room
ATTACH;FMTTYPE=image/jpeg:https://calendar.adasisrael.org/wp-content/uploads/2023/07/Front-Professional.jpg
END:VEVENT
BEGIN:VEVENT
DTSTART;TZID=America/New_York:20230912T130000
DTEND;TZID=America/New_York:20230912T160000
DTSTAMP:20260421T142423
CREATED:20230912T183506Z
LAST-MODIFIED:20230912T195502Z
UID:10003062-1694523600-1694534400@calendar.adasisrael.org
SUMMARY:Gan Event
DESCRIPTION:
URL:https://calendar.adasisrael.org/event/gan-event/
LOCATION:Board Room
ATTACH;FMTTYPE=image/jpeg:https://calendar.adasisrael.org/wp-content/uploads/2023/07/Front-Professional.jpg
END:VEVENT
BEGIN:VEVENT
DTSTART;TZID=America/New_York:20230910T103000
DTEND;TZID=America/New_York:20230910T123000
DTSTAMP:20260421T142423
CREATED:20230910T050002Z
LAST-MODIFIED:20230910T162502Z
UID:10002609-1694341800-1694349000@calendar.adasisrael.org
SUMMARY:Wise Aging
DESCRIPTION:Pre-Registration Required \n“Man’s potential for change and growth is much greater than we are willing to admit and old age (can) be regarded not as the age of stagnation but as the age of opportunities for inner growth.” – Abraham Joshua Heschel \nWise Aging is a program of the Institute for Jewish Spirituality and embraces and cultivates a mindful and intentional philosophy of growing older.  The program emphasizes how mindful practices such as meditation and other contemplative practices and the use of Jewish texts and other sources of spiritual practices can guide us through the journey of aging. The main resource for the IJS program is Wise Aging:  Living with Joy\, Resilience\, and Spirit by Rabbi Rachel Cowan and Dr. Linda Thal.   \nJanice Mostow and Betsy Strauss have been co-facilitating Wise Aging groups at Adas Israel since 2015. A new group will begin in September\, meeting monthly through June. The group will meet in person (only) and is limited to ten people.
URL:https://calendar.adasisrael.org/event/wise-aging/
LOCATION:Board Room
CATEGORIES:Learn & Engage
ATTACH;FMTTYPE=image/jpeg:https://calendar.adasisrael.org/wp-content/uploads/2023/07/bloom-blooming-blur-brick-wall-68470-r8ohbW.tmp_.jpg
END:VEVENT
END:VCALENDAR