BEGIN:VCALENDAR
VERSION:2.0
PRODID:-//Adas Israel Congregation - ECPv6.2.9//NONSGML v1.0//EN
CALSCALE:GREGORIAN
METHOD:PUBLISH
X-ORIGINAL-URL:https://calendar.adasisrael.org
X-WR-CALDESC:Events for Adas Israel Congregation
REFRESH-INTERVAL;VALUE=DURATION:PT1H
X-Robots-Tag:noindex
X-PUBLISHED-TTL:PT1H
BEGIN:VTIMEZONE
TZID:America/New_York
BEGIN:DAYLIGHT
TZOFFSETFROM:-0500
TZOFFSETTO:-0400
TZNAME:EDT
DTSTART:20260308T070000
END:DAYLIGHT
BEGIN:STANDARD
TZOFFSETFROM:-0400
TZOFFSETTO:-0500
TZNAME:EST
DTSTART:20261101T060000
END:STANDARD
END:VTIMEZONE
BEGIN:VEVENT
DTSTART;TZID=America/New_York:20260426T103000
DTEND;TZID=America/New_York:20260426T120000
DTSTAMP:20260421T103718
CREATED:20260414T191302Z
LAST-MODIFIED:20260421T143530Z
UID:10012643-1777199400-1777204800@calendar.adasisrael.org
SUMMARY:I/Thou Meeting
DESCRIPTION:
URL:https://calendar.adasisrael.org/event/i-thou-meeting/
LOCATION:Board Room
ATTACH;FMTTYPE=image/jpeg:https://calendar.adasisrael.org/wp-content/uploads/2023/07/Front-Professional.jpg
END:VEVENT
BEGIN:VEVENT
DTSTART;TZID=America/New_York:20260517T103000
DTEND;TZID=America/New_York:20260517T123000
DTSTAMP:20260421T103718
CREATED:20260414T191314Z
LAST-MODIFIED:20260421T142511Z
UID:10012762-1779013800-1779021000@calendar.adasisrael.org
SUMMARY:Wise Aging
DESCRIPTION:
URL:https://calendar.adasisrael.org/event/wise-aging-27/
LOCATION:Board Room
ATTACH;FMTTYPE=image/jpeg:https://calendar.adasisrael.org/wp-content/uploads/2023/07/Front-Professional.jpg
END:VEVENT
BEGIN:VEVENT
DTSTART;TZID=America/New_York:20260606T120000
DTEND;TZID=America/New_York:20260606T160000
DTSTAMP:20260421T103718
CREATED:20260414T191323Z
LAST-MODIFIED:20260421T142517Z
UID:10012853-1780747200-1780761600@calendar.adasisrael.org
SUMMARY:TEM Shabbaton
DESCRIPTION:
URL:https://calendar.adasisrael.org/event/tem-shabbaton-12/
LOCATION:Board Room
ATTACH;FMTTYPE=image/jpeg:https://calendar.adasisrael.org/wp-content/uploads/2023/07/Front-Professional.jpg
END:VEVENT
BEGIN:VEVENT
DTSTART;TZID=America/New_York:20260621T103000
DTEND;TZID=America/New_York:20260621T143000
DTSTAMP:20260421T103718
CREATED:20260414T191331Z
LAST-MODIFIED:20260421T142522Z
UID:10012933-1782037800-1782052200@calendar.adasisrael.org
SUMMARY:Wise Aging
DESCRIPTION:
URL:https://calendar.adasisrael.org/event/wise-aging-28/
LOCATION:Board Room
ATTACH;FMTTYPE=image/jpeg:https://calendar.adasisrael.org/wp-content/uploads/2023/07/Front-Professional.jpg
END:VEVENT
END:VCALENDAR