BEGIN:VCALENDAR
VERSION:2.0
PRODID:-//Adas Israel Congregation - ECPv6.2.9//NONSGML v1.0//EN
CALSCALE:GREGORIAN
METHOD:PUBLISH
X-WR-CALNAME:Adas Israel Congregation
X-ORIGINAL-URL:https://calendar.adasisrael.org
X-WR-CALDESC:Events for Adas Israel Congregation
REFRESH-INTERVAL;VALUE=DURATION:PT1H
X-Robots-Tag:noindex
X-PUBLISHED-TTL:PT1H
BEGIN:VTIMEZONE
TZID:America/New_York
BEGIN:DAYLIGHT
TZOFFSETFROM:-0500
TZOFFSETTO:-0400
TZNAME:EDT
DTSTART:20260308T070000
END:DAYLIGHT
BEGIN:STANDARD
TZOFFSETFROM:-0400
TZOFFSETTO:-0500
TZNAME:EST
DTSTART:20261101T060000
END:STANDARD
END:VTIMEZONE
BEGIN:VEVENT
DTSTART;TZID=America/New_York:20260616T180000
DTEND;TZID=America/New_York:20260616T190000
DTSTAMP:20260421T112602
CREATED:20260414T191328Z
LAST-MODIFIED:20260421T151521Z
UID:10012914-1781632800-1781636400@calendar.adasisrael.org
SUMMARY:Evening Minyan
DESCRIPTION:
URL:https://calendar.adasisrael.org/event/evening-minyan-731/
LOCATION:Biran Beit Midrash
CATEGORIES:Daily Minyan
ATTACH;FMTTYPE=image/jpeg:https://calendar.adasisrael.org/wp-content/uploads/2023/07/Front-Professional.jpg
END:VEVENT
BEGIN:VEVENT
DTSTART;TZID=America/New_York:20260617T073000
DTEND;TZID=America/New_York:20260617T083000
DTSTAMP:20260421T112602
CREATED:20260414T191329Z
LAST-MODIFIED:20260421T151521Z
UID:10012915-1781681400-1781685000@calendar.adasisrael.org
SUMMARY:Morning Minyan
DESCRIPTION:
URL:https://calendar.adasisrael.org/event/morning-minyan-874/
LOCATION:Biran Beit Midrash
CATEGORIES:Daily Minyan
ATTACH;FMTTYPE=image/jpeg:https://calendar.adasisrael.org/wp-content/uploads/2023/07/Front-Professional.jpg
END:VEVENT
BEGIN:VEVENT
DTSTART;TZID=America/New_York:20260617T180000
DTEND;TZID=America/New_York:20260617T190000
DTSTAMP:20260421T112602
CREATED:20260414T191329Z
LAST-MODIFIED:20260421T151521Z
UID:10012917-1781719200-1781722800@calendar.adasisrael.org
SUMMARY:Evening Minyan
DESCRIPTION:
URL:https://calendar.adasisrael.org/event/evening-minyan-732/
LOCATION:Biran Beit Midrash
CATEGORIES:Daily Minyan
ATTACH;FMTTYPE=image/jpeg:https://calendar.adasisrael.org/wp-content/uploads/2023/07/Front-Professional.jpg
END:VEVENT
BEGIN:VEVENT
DTSTART;TZID=America/New_York:20260618T073000
DTEND;TZID=America/New_York:20260618T083000
DTSTAMP:20260421T112602
CREATED:20260414T191329Z
LAST-MODIFIED:20260421T151521Z
UID:10012919-1781767800-1781771400@calendar.adasisrael.org
SUMMARY:Morning Minyan
DESCRIPTION:
URL:https://calendar.adasisrael.org/event/morning-minyan-875/
LOCATION:Biran Beit Midrash
CATEGORIES:Daily Minyan
ATTACH;FMTTYPE=image/jpeg:https://calendar.adasisrael.org/wp-content/uploads/2023/07/Front-Professional.jpg
END:VEVENT
BEGIN:VEVENT
DTSTART;TZID=America/New_York:20260618T180000
DTEND;TZID=America/New_York:20260618T190000
DTSTAMP:20260421T112602
CREATED:20260414T191329Z
LAST-MODIFIED:20260421T151521Z
UID:10012922-1781805600-1781809200@calendar.adasisrael.org
SUMMARY:Evening Minyan
DESCRIPTION:
URL:https://calendar.adasisrael.org/event/evening-minyan-733/
LOCATION:Biran Beit Midrash
CATEGORIES:Daily Minyan
ATTACH;FMTTYPE=image/jpeg:https://calendar.adasisrael.org/wp-content/uploads/2023/07/Front-Professional.jpg
END:VEVENT
BEGIN:VEVENT
DTSTART;TZID=America/New_York:20260619T073000
DTEND;TZID=America/New_York:20260619T083000
DTSTAMP:20260421T112602
CREATED:20260414T191330Z
LAST-MODIFIED:20260421T151521Z
UID:10012923-1781854200-1781857800@calendar.adasisrael.org
SUMMARY:Morning Minyan
DESCRIPTION:
URL:https://calendar.adasisrael.org/event/morning-minyan-876/
LOCATION:Biran Beit Midrash
CATEGORIES:Daily Minyan
ATTACH;FMTTYPE=image/jpeg:https://calendar.adasisrael.org/wp-content/uploads/2023/07/Front-Professional.jpg
END:VEVENT
BEGIN:VEVENT
DTSTART;TZID=America/New_York:20260619T180000
DTEND;TZID=America/New_York:20260619T190000
DTSTAMP:20260421T112602
CREATED:20260414T191330Z
LAST-MODIFIED:20260421T151522Z
UID:10012924-1781892000-1781895600@calendar.adasisrael.org
SUMMARY:Kabbalat Shabbat Services
DESCRIPTION:
URL:https://calendar.adasisrael.org/event/kabbalat-shabbat-services-66/
LOCATION:Biran Beit Midrash
CATEGORIES:Shabbat
ATTACH;FMTTYPE=image/jpeg:https://calendar.adasisrael.org/wp-content/uploads/2023/07/Front-Professional.jpg
END:VEVENT
BEGIN:VEVENT
DTSTART;TZID=America/New_York:20260620T130000
DTEND;TZID=America/New_York:20260620T134500
DTSTAMP:20260421T112602
CREATED:20260414T191330Z
LAST-MODIFIED:20260421T151522Z
UID:10012931-1781960400-1781963100@calendar.adasisrael.org
SUMMARY:Shabbat Mincha Service
DESCRIPTION:
URL:https://calendar.adasisrael.org/event/shabbat-mincha-service-152/
LOCATION:Biran Beit Midrash
CATEGORIES:Shabbat
ATTACH;FMTTYPE=image/jpeg:https://calendar.adasisrael.org/wp-content/uploads/2023/07/Front-Professional.jpg
END:VEVENT
BEGIN:VEVENT
DTSTART;TZID=America/New_York:20260621T090000
DTEND;TZID=America/New_York:20260621T100000
DTSTAMP:20260421T112602
CREATED:20260414T191331Z
LAST-MODIFIED:20260421T151522Z
UID:10012932-1782032400-1782036000@calendar.adasisrael.org
SUMMARY:Morning Minyan
DESCRIPTION:
URL:https://calendar.adasisrael.org/event/morning-minyan-877/
LOCATION:Biran Beit Midrash
CATEGORIES:Daily Minyan
ATTACH;FMTTYPE=image/jpeg:https://calendar.adasisrael.org/wp-content/uploads/2023/07/Front-Professional.jpg
END:VEVENT
BEGIN:VEVENT
DTSTART;TZID=America/New_York:20260622T073000
DTEND;TZID=America/New_York:20260622T083000
DTSTAMP:20260421T112602
CREATED:20260414T191331Z
LAST-MODIFIED:20260421T151522Z
UID:10012935-1782113400-1782117000@calendar.adasisrael.org
SUMMARY:Morning Minyan
DESCRIPTION:
URL:https://calendar.adasisrael.org/event/morning-minyan-878/
LOCATION:Biran Beit Midrash
CATEGORIES:Daily Minyan
ATTACH;FMTTYPE=image/jpeg:https://calendar.adasisrael.org/wp-content/uploads/2023/07/Front-Professional.jpg
END:VEVENT
BEGIN:VEVENT
DTSTART;TZID=America/New_York:20260622T180000
DTEND;TZID=America/New_York:20260622T190000
DTSTAMP:20260421T112602
CREATED:20260414T191331Z
LAST-MODIFIED:20260421T151523Z
UID:10012937-1782151200-1782154800@calendar.adasisrael.org
SUMMARY:Evening Minyan
DESCRIPTION:
URL:https://calendar.adasisrael.org/event/evening-minyan-735/
LOCATION:Biran Beit Midrash
CATEGORIES:Daily Minyan
ATTACH;FMTTYPE=image/jpeg:https://calendar.adasisrael.org/wp-content/uploads/2023/07/Front-Professional.jpg
END:VEVENT
BEGIN:VEVENT
DTSTART;TZID=America/New_York:20260623T073000
DTEND;TZID=America/New_York:20260623T083000
DTSTAMP:20260421T112602
CREATED:20260414T191332Z
LAST-MODIFIED:20260421T151523Z
UID:10012938-1782199800-1782203400@calendar.adasisrael.org
SUMMARY:Morning Minyan
DESCRIPTION:
URL:https://calendar.adasisrael.org/event/morning-minyan-879/
LOCATION:Biran Beit Midrash
CATEGORIES:Daily Minyan
ATTACH;FMTTYPE=image/jpeg:https://calendar.adasisrael.org/wp-content/uploads/2023/07/Front-Professional.jpg
END:VEVENT
BEGIN:VEVENT
DTSTART;TZID=America/New_York:20260623T083000
DTEND;TZID=America/New_York:20260623T090000
DTSTAMP:20260421T112602
CREATED:20260414T191332Z
LAST-MODIFIED:20260421T151523Z
UID:10012939-1782203400-1782205200@calendar.adasisrael.org
SUMMARY:Post Minyan Learning
DESCRIPTION:
URL:https://calendar.adasisrael.org/event/post-minyan-learning-21/
LOCATION:Biran Beit Midrash
ATTACH;FMTTYPE=image/jpeg:https://calendar.adasisrael.org/wp-content/uploads/2023/07/Front-Professional.jpg
END:VEVENT
BEGIN:VEVENT
DTSTART;TZID=America/New_York:20260623T114500
DTEND;TZID=America/New_York:20260623T123000
DTSTAMP:20260421T112602
CREATED:20260414T191332Z
LAST-MODIFIED:20260421T151523Z
UID:10012941-1782215100-1782217800@calendar.adasisrael.org
SUMMARY:Talmud Study: From Cover to Cover
DESCRIPTION:
URL:https://calendar.adasisrael.org/event/talmud-study-from-cover-to-cover-33/
LOCATION:Biran Beit Midrash
ATTACH;FMTTYPE=image/jpeg:https://calendar.adasisrael.org/wp-content/uploads/2023/07/Front-Professional.jpg
END:VEVENT
BEGIN:VEVENT
DTSTART;TZID=America/New_York:20260623T180000
DTEND;TZID=America/New_York:20260623T190000
DTSTAMP:20260421T112602
CREATED:20260414T191332Z
LAST-MODIFIED:20260421T151523Z
UID:10012942-1782237600-1782241200@calendar.adasisrael.org
SUMMARY:Evening Minyan
DESCRIPTION:
URL:https://calendar.adasisrael.org/event/evening-minyan-736/
LOCATION:Biran Beit Midrash
CATEGORIES:Daily Minyan
ATTACH;FMTTYPE=image/jpeg:https://calendar.adasisrael.org/wp-content/uploads/2023/07/Front-Professional.jpg
END:VEVENT
BEGIN:VEVENT
DTSTART;TZID=America/New_York:20260624T073000
DTEND;TZID=America/New_York:20260624T083000
DTSTAMP:20260421T112602
CREATED:20260414T191332Z
LAST-MODIFIED:20260421T151523Z
UID:10012943-1782286200-1782289800@calendar.adasisrael.org
SUMMARY:Morning Minyan
DESCRIPTION:
URL:https://calendar.adasisrael.org/event/morning-minyan-880/
LOCATION:Biran Beit Midrash
CATEGORIES:Daily Minyan
ATTACH;FMTTYPE=image/jpeg:https://calendar.adasisrael.org/wp-content/uploads/2023/07/Front-Professional.jpg
END:VEVENT
BEGIN:VEVENT
DTSTART;TZID=America/New_York:20260624T180000
DTEND;TZID=America/New_York:20260624T190000
DTSTAMP:20260421T112602
CREATED:20260414T191332Z
LAST-MODIFIED:20260421T151523Z
UID:10012945-1782324000-1782327600@calendar.adasisrael.org
SUMMARY:Evening Minyan
DESCRIPTION:
URL:https://calendar.adasisrael.org/event/evening-minyan-737/
LOCATION:Biran Beit Midrash
CATEGORIES:Daily Minyan
ATTACH;FMTTYPE=image/jpeg:https://calendar.adasisrael.org/wp-content/uploads/2023/07/Front-Professional.jpg
END:VEVENT
BEGIN:VEVENT
DTSTART;TZID=America/New_York:20260625T073000
DTEND;TZID=America/New_York:20260625T083000
DTSTAMP:20260421T112602
CREATED:20260414T191333Z
LAST-MODIFIED:20260421T151523Z
UID:10012946-1782372600-1782376200@calendar.adasisrael.org
SUMMARY:Morning Minyan
DESCRIPTION:
URL:https://calendar.adasisrael.org/event/morning-minyan-881/
LOCATION:Biran Beit Midrash
CATEGORIES:Daily Minyan
ATTACH;FMTTYPE=image/jpeg:https://calendar.adasisrael.org/wp-content/uploads/2023/07/Front-Professional.jpg
END:VEVENT
BEGIN:VEVENT
DTSTART;TZID=America/New_York:20260625T180000
DTEND;TZID=America/New_York:20260625T190000
DTSTAMP:20260421T112602
CREATED:20260414T191333Z
LAST-MODIFIED:20260421T151523Z
UID:10012949-1782410400-1782414000@calendar.adasisrael.org
SUMMARY:Evening Minyan
DESCRIPTION:
URL:https://calendar.adasisrael.org/event/evening-minyan-738/
LOCATION:Biran Beit Midrash
CATEGORIES:Daily Minyan
ATTACH;FMTTYPE=image/jpeg:https://calendar.adasisrael.org/wp-content/uploads/2023/07/Front-Professional.jpg
END:VEVENT
BEGIN:VEVENT
DTSTART;TZID=America/New_York:20260626T073000
DTEND;TZID=America/New_York:20260626T083000
DTSTAMP:20260421T112602
CREATED:20260414T191333Z
LAST-MODIFIED:20260421T151523Z
UID:10012950-1782459000-1782462600@calendar.adasisrael.org
SUMMARY:Morning Minyan
DESCRIPTION:
URL:https://calendar.adasisrael.org/event/morning-minyan-882/
LOCATION:Biran Beit Midrash
CATEGORIES:Daily Minyan
ATTACH;FMTTYPE=image/jpeg:https://calendar.adasisrael.org/wp-content/uploads/2023/07/Front-Professional.jpg
END:VEVENT
BEGIN:VEVENT
DTSTART;TZID=America/New_York:20260626T180000
DTEND;TZID=America/New_York:20260626T190000
DTSTAMP:20260421T112602
CREATED:20260414T191333Z
LAST-MODIFIED:20260421T151523Z
UID:10012954-1782496800-1782500400@calendar.adasisrael.org
SUMMARY:Kabbalat Shabbat Services
DESCRIPTION:
URL:https://calendar.adasisrael.org/event/kabbalat-shabbat-services-67/
LOCATION:Biran Beit Midrash
CATEGORIES:Shabbat
ATTACH;FMTTYPE=image/jpeg:https://calendar.adasisrael.org/wp-content/uploads/2023/07/Front-Professional.jpg
END:VEVENT
BEGIN:VEVENT
DTSTART;TZID=America/New_York:20260627T083000
DTEND;TZID=America/New_York:20260627T093000
DTSTAMP:20260421T112602
CREATED:20260414T191334Z
LAST-MODIFIED:20260421T151524Z
UID:10012957-1782549000-1782552600@calendar.adasisrael.org
SUMMARY:Boker Or
DESCRIPTION:
URL:https://calendar.adasisrael.org/event/boker-or-115/
LOCATION:Biran Beit Midrash
CATEGORIES:Shabbat
ATTACH;FMTTYPE=image/jpeg:https://calendar.adasisrael.org/wp-content/uploads/2023/07/Front-Professional.jpg
END:VEVENT
BEGIN:VEVENT
DTSTART;TZID=America/New_York:20260627T130000
DTEND;TZID=America/New_York:20260627T134500
DTSTAMP:20260421T112602
CREATED:20260414T191334Z
LAST-MODIFIED:20260421T151524Z
UID:10012960-1782565200-1782567900@calendar.adasisrael.org
SUMMARY:Shabbat Mincha Service
DESCRIPTION:
URL:https://calendar.adasisrael.org/event/shabbat-mincha-service-154/
LOCATION:Biran Beit Midrash
CATEGORIES:Shabbat
ATTACH;FMTTYPE=image/jpeg:https://calendar.adasisrael.org/wp-content/uploads/2023/07/Front-Professional.jpg
END:VEVENT
BEGIN:VEVENT
DTSTART;TZID=America/New_York:20260628T090000
DTEND;TZID=America/New_York:20260628T100000
DTSTAMP:20260421T112602
CREATED:20260414T191334Z
LAST-MODIFIED:20260421T151524Z
UID:10012962-1782637200-1782640800@calendar.adasisrael.org
SUMMARY:Morning Minyan
DESCRIPTION:
URL:https://calendar.adasisrael.org/event/morning-minyan-883/
LOCATION:Biran Beit Midrash
CATEGORIES:Daily Minyan
ATTACH;FMTTYPE=image/jpeg:https://calendar.adasisrael.org/wp-content/uploads/2023/07/Front-Professional.jpg
END:VEVENT
BEGIN:VEVENT
DTSTART;TZID=America/New_York:20260629T073000
DTEND;TZID=America/New_York:20260629T083000
DTSTAMP:20260421T112602
CREATED:20260414T191334Z
LAST-MODIFIED:20260421T151524Z
UID:10012964-1782718200-1782721800@calendar.adasisrael.org
SUMMARY:Morning Minyan
DESCRIPTION:
URL:https://calendar.adasisrael.org/event/morning-minyan-884/
LOCATION:Biran Beit Midrash
CATEGORIES:Daily Minyan
ATTACH;FMTTYPE=image/jpeg:https://calendar.adasisrael.org/wp-content/uploads/2023/07/Front-Professional.jpg
END:VEVENT
BEGIN:VEVENT
DTSTART;TZID=America/New_York:20260629T180000
DTEND;TZID=America/New_York:20260629T190000
DTSTAMP:20260421T112602
CREATED:20260414T191335Z
LAST-MODIFIED:20260421T151524Z
UID:10012966-1782756000-1782759600@calendar.adasisrael.org
SUMMARY:Evening Minyan
DESCRIPTION:
URL:https://calendar.adasisrael.org/event/evening-minyan-740/
LOCATION:Biran Beit Midrash
CATEGORIES:Daily Minyan
ATTACH;FMTTYPE=image/jpeg:https://calendar.adasisrael.org/wp-content/uploads/2023/07/Front-Professional.jpg
END:VEVENT
BEGIN:VEVENT
DTSTART;TZID=America/New_York:20260630T073000
DTEND;TZID=America/New_York:20260630T083000
DTSTAMP:20260421T112602
CREATED:20260414T191335Z
LAST-MODIFIED:20260421T151524Z
UID:10012967-1782804600-1782808200@calendar.adasisrael.org
SUMMARY:Morning Minyan
DESCRIPTION:
URL:https://calendar.adasisrael.org/event/morning-minyan-885/
LOCATION:Biran Beit Midrash
CATEGORIES:Daily Minyan
ATTACH;FMTTYPE=image/jpeg:https://calendar.adasisrael.org/wp-content/uploads/2023/07/Front-Professional.jpg
END:VEVENT
BEGIN:VEVENT
DTSTART;TZID=America/New_York:20260630T083000
DTEND;TZID=America/New_York:20260630T090000
DTSTAMP:20260421T112602
CREATED:20260414T191335Z
LAST-MODIFIED:20260421T151524Z
UID:10012968-1782808200-1782810000@calendar.adasisrael.org
SUMMARY:Post Minyan Learning
DESCRIPTION:
URL:https://calendar.adasisrael.org/event/post-minyan-learning-22/
LOCATION:Biran Beit Midrash
ATTACH;FMTTYPE=image/jpeg:https://calendar.adasisrael.org/wp-content/uploads/2023/07/Front-Professional.jpg
END:VEVENT
BEGIN:VEVENT
DTSTART;TZID=America/New_York:20260630T114500
DTEND;TZID=America/New_York:20260630T123000
DTSTAMP:20260421T112602
CREATED:20260414T191335Z
LAST-MODIFIED:20260421T151525Z
UID:10012969-1782819900-1782822600@calendar.adasisrael.org
SUMMARY:Talmud Study: From Cover to Cover
DESCRIPTION:
URL:https://calendar.adasisrael.org/event/talmud-study-from-cover-to-cover-34/
LOCATION:Biran Beit Midrash
ATTACH;FMTTYPE=image/jpeg:https://calendar.adasisrael.org/wp-content/uploads/2023/07/Front-Professional.jpg
END:VEVENT
BEGIN:VEVENT
DTSTART;TZID=America/New_York:20260630T180000
DTEND;TZID=America/New_York:20260630T190000
DTSTAMP:20260421T112602
CREATED:20260414T191335Z
LAST-MODIFIED:20260421T151525Z
UID:10012971-1782842400-1782846000@calendar.adasisrael.org
SUMMARY:Evening Minyan
DESCRIPTION:
URL:https://calendar.adasisrael.org/event/evening-minyan-741/
LOCATION:Biran Beit Midrash
CATEGORIES:Daily Minyan
ATTACH;FMTTYPE=image/jpeg:https://calendar.adasisrael.org/wp-content/uploads/2023/07/Front-Professional.jpg
END:VEVENT
END:VCALENDAR