BEGIN:VCALENDAR
VERSION:2.0
PRODID:-//Adas Israel Congregation - ECPv6.2.9//NONSGML v1.0//EN
CALSCALE:GREGORIAN
METHOD:PUBLISH
X-ORIGINAL-URL:https://calendar.adasisrael.org
X-WR-CALDESC:Events for Adas Israel Congregation
REFRESH-INTERVAL;VALUE=DURATION:PT1H
X-Robots-Tag:noindex
X-PUBLISHED-TTL:PT1H
BEGIN:VTIMEZONE
TZID:America/New_York
BEGIN:DAYLIGHT
TZOFFSETFROM:-0500
TZOFFSETTO:-0400
TZNAME:EDT
DTSTART:20260308T070000
END:DAYLIGHT
BEGIN:STANDARD
TZOFFSETFROM:-0400
TZOFFSETTO:-0500
TZNAME:EST
DTSTART:20261101T060000
END:STANDARD
END:VTIMEZONE
BEGIN:VEVENT
DTSTART;TZID=America/New_York:20260221T083000
DTEND;TZID=America/New_York:20260221T093000
DTSTAMP:20260421T114600
CREATED:20260113T234029Z
LAST-MODIFIED:20260221T141502Z
UID:10010517-1771662600-1771666200@calendar.adasisrael.org
SUMMARY:Boker Or
DESCRIPTION:The Boker Or Torah study group meets Saturday mornings at 8:30 a.m. with the weekly portion as its focus. Join our clergy and community in person each week for an engaging\, text-based conversation on the week’s parsha\, before Shabbat services.
URL:https://calendar.adasisrael.org/event/boker-or-100/
LOCATION:Biran Beit Midrash
CATEGORIES:Shabbat
ATTACH;FMTTYPE=image/jpeg:https://calendar.adasisrael.org/wp-content/uploads/2023/07/makompic21-22-68hj8a.tmp_.jpg
END:VEVENT
BEGIN:VEVENT
DTSTART;TZID=America/New_York:20260220T073000
DTEND;TZID=America/New_York:20260220T090000
DTSTAMP:20260421T114600
CREATED:20260113T234028Z
LAST-MODIFIED:20260220T135502Z
UID:10010511-1771572600-1771578000@calendar.adasisrael.org
SUMMARY:Morning Minyan
DESCRIPTION:Join us in-person or on Zoom: \nSundays and Federal Holidays at 9am\, Zoom Link Here \nMondays-Fridays at 7:30am\, Zoom Link Here \nClick Here For Shacharit Pages
URL:https://calendar.adasisrael.org/event/morning-minyan-789/
LOCATION:Biran Beit Midrash
CATEGORIES:Daily Minyan
ATTACH;FMTTYPE=image/jpeg:https://calendar.adasisrael.org/wp-content/uploads/2023/07/JThomas_20230521_0043-z8y1js.tmp_-scaled.jpg
END:VEVENT
BEGIN:VEVENT
DTSTART;TZID=America/New_York:20260219T180000
DTEND;TZID=America/New_York:20260219T190000
DTSTAMP:20260421T114600
CREATED:20260113T234028Z
LAST-MODIFIED:20260219T235508Z
UID:10010510-1771524000-1771527600@calendar.adasisrael.org
SUMMARY:Evening Minyan
DESCRIPTION:Join In-Person on Mondays\, Tuesdays\, Wednesdays\, Thursdays and via Zoom every day (Sunday-Thursday).Siddur Pages: Mincha\, Maariv
URL:https://calendar.adasisrael.org/event/evening-minyan-660/
LOCATION:Biran Beit Midrash
CATEGORIES:Daily Minyan
ATTACH;FMTTYPE=image/jpeg:https://calendar.adasisrael.org/wp-content/uploads/2024/01/minyanheaderweb-XUfQxy.tmp_.jpg
END:VEVENT
BEGIN:VEVENT
DTSTART;TZID=America/New_York:20260219T073000
DTEND;TZID=America/New_York:20260219T090000
DTSTAMP:20260421T114600
CREATED:20260113T234028Z
LAST-MODIFIED:20260219T133502Z
UID:10010508-1771486200-1771491600@calendar.adasisrael.org
SUMMARY:Morning Minyan
DESCRIPTION:Join us in-person or on Zoom: \nSundays and Federal Holidays at 9am\, Zoom Link Here \nMondays-Fridays at 7:30am\, Zoom Link Here \nClick Here For Shacharit Pages
URL:https://calendar.adasisrael.org/event/morning-minyan-788/
LOCATION:Biran Beit Midrash
CATEGORIES:Daily Minyan
ATTACH;FMTTYPE=image/jpeg:https://calendar.adasisrael.org/wp-content/uploads/2023/07/JThomas_20230521_0043-z8y1js.tmp_-scaled.jpg
END:VEVENT
BEGIN:VEVENT
DTSTART;TZID=America/New_York:20260218T180000
DTEND;TZID=America/New_York:20260218T184000
DTSTAMP:20260421T114600
CREATED:20260113T234027Z
LAST-MODIFIED:20260218T233509Z
UID:10010504-1771437600-1771440000@calendar.adasisrael.org
SUMMARY:Evening Minyan
DESCRIPTION:Join In-Person on Mondays\, Tuesdays\, Wednesdays\, Thursdays and via Zoom every day (Sunday-Thursday).Siddur Pages: Mincha\, Maariv
URL:https://calendar.adasisrael.org/event/evening-minyan-659/
LOCATION:Biran Beit Midrash
CATEGORIES:Daily Minyan
ATTACH;FMTTYPE=image/jpeg:https://calendar.adasisrael.org/wp-content/uploads/2024/01/minyanheaderweb-XUfQxy.tmp_.jpg
END:VEVENT
BEGIN:VEVENT
DTSTART;TZID=America/New_York:20260218T073000
DTEND;TZID=America/New_York:20260218T090000
DTSTAMP:20260421T114600
CREATED:20260113T234027Z
LAST-MODIFIED:20260218T134002Z
UID:10010502-1771399800-1771405200@calendar.adasisrael.org
SUMMARY:Morning Minyan
DESCRIPTION:Join us in-person or on Zoom: \nSundays and Federal Holidays at 9am\, Zoom Link Here \nMondays-Fridays at 7:30am\, Zoom Link Here \nClick Here For Shacharit Pages
URL:https://calendar.adasisrael.org/event/morning-minyan-787/
LOCATION:Biran Beit Midrash
CATEGORIES:Daily Minyan
ATTACH;FMTTYPE=image/jpeg:https://calendar.adasisrael.org/wp-content/uploads/2023/07/JThomas_20230521_0043-z8y1js.tmp_-scaled.jpg
END:VEVENT
BEGIN:VEVENT
DTSTART;TZID=America/New_York:20260217T183000
DTEND;TZID=America/New_York:20260217T210000
DTSTAMP:20260421T114600
CREATED:20260113T234027Z
LAST-MODIFIED:20260218T012002Z
UID:10010500-1771353000-1771362000@calendar.adasisrael.org
SUMMARY:Liberal Zionism: Between Crisis and Aspiration
DESCRIPTION:
URL:https://calendar.adasisrael.org/event/liberal-zionism-between-crisis-and-aspiration-7/
LOCATION:Biran Beit Midrash
ATTACH;FMTTYPE=image/jpeg:https://calendar.adasisrael.org/wp-content/uploads/2023/07/Front-Professional.jpg
END:VEVENT
BEGIN:VEVENT
DTSTART;TZID=America/New_York:20260217T180000
DTEND;TZID=America/New_York:20260217T183000
DTSTAMP:20260421T114600
CREATED:20260113T234026Z
LAST-MODIFIED:20260217T224002Z
UID:10010498-1771351200-1771353000@calendar.adasisrael.org
SUMMARY:Evening Minyan
DESCRIPTION:Join In-Person on Mondays\, Tuesdays\, Wednesdays\, Thursdays and via Zoom every day (Sunday-Thursday).Siddur Pages: Mincha\, Maariv
URL:https://calendar.adasisrael.org/event/evening-minyan-658/
LOCATION:Biran Beit Midrash
CATEGORIES:Daily Minyan
ATTACH;FMTTYPE=image/jpeg:https://calendar.adasisrael.org/wp-content/uploads/2024/01/minyanheaderweb-XUfQxy.tmp_.jpg
END:VEVENT
BEGIN:VEVENT
DTSTART;TZID=America/New_York:20260217T083000
DTEND;TZID=America/New_York:20260217T090000
DTSTAMP:20260421T114600
CREATED:20260114T222326Z
LAST-MODIFIED:20260217T134002Z
UID:10010763-1771317000-1771318800@calendar.adasisrael.org
SUMMARY:Post Minyan Learning
DESCRIPTION:
URL:https://calendar.adasisrael.org/event/post-minyan-learning-5/
LOCATION:Biran Beit Midrash
ATTACH;FMTTYPE=image/jpeg:https://calendar.adasisrael.org/wp-content/uploads/2023/07/Front-Professional.jpg
END:VEVENT
BEGIN:VEVENT
DTSTART;TZID=America/New_York:20260217T073000
DTEND;TZID=America/New_York:20260217T083000
DTSTAMP:20260421T114600
CREATED:20260113T234026Z
LAST-MODIFIED:20260217T122502Z
UID:10010495-1771313400-1771317000@calendar.adasisrael.org
SUMMARY:Morning Minyan
DESCRIPTION:Join us in-person or on Zoom: \nSundays and Federal Holidays at 9am\, Zoom Link Here \nMondays-Fridays at 7:30am\, Zoom Link Here \nClick Here For Shacharit Pages
URL:https://calendar.adasisrael.org/event/morning-minyan-786/
LOCATION:Biran Beit Midrash
CATEGORIES:Daily Minyan
ATTACH;FMTTYPE=image/jpeg:https://calendar.adasisrael.org/wp-content/uploads/2023/07/JThomas_20230521_0043-z8y1js.tmp_-scaled.jpg
END:VEVENT
BEGIN:VEVENT
DTSTART;TZID=America/New_York:20260216T090000
DTEND;TZID=America/New_York:20260216T103000
DTSTAMP:20260421T114600
CREATED:20260113T234026Z
LAST-MODIFIED:20260216T143002Z
UID:10010493-1771232400-1771237800@calendar.adasisrael.org
SUMMARY:Morning Minyan
DESCRIPTION:Join us in-person or on Zoom: \nSundays and Federal Holidays at 9am\, Zoom Link Here \nMondays-Fridays at 7:30am\, Zoom Link Here \nClick Here For Shacharit Pages
URL:https://calendar.adasisrael.org/event/morning-minyan-785/
LOCATION:Biran Beit Midrash
CATEGORIES:Daily Minyan
ATTACH;FMTTYPE=image/jpeg:https://calendar.adasisrael.org/wp-content/uploads/2023/07/JThomas_20230521_0043-z8y1js.tmp_-scaled.jpg
END:VEVENT
BEGIN:VEVENT
DTSTART;TZID=America/New_York:20260215T090000
DTEND;TZID=America/New_York:20260215T100000
DTSTAMP:20260421T114600
CREATED:20260113T234025Z
LAST-MODIFIED:20260215T142501Z
UID:10010491-1771146000-1771149600@calendar.adasisrael.org
SUMMARY:Morning Minyan
DESCRIPTION:Join us in-person or on Zoom: \nSundays and Federal Holidays at 9am\, Zoom Link Here \nMondays-Fridays at 7:30am\, Zoom Link Here \nClick Here For Shacharit Pages
URL:https://calendar.adasisrael.org/event/morning-minyan-784/
LOCATION:Biran Beit Midrash
CATEGORIES:Daily Minyan
ATTACH;FMTTYPE=image/jpeg:https://calendar.adasisrael.org/wp-content/uploads/2023/07/JThomas_20230521_0043-z8y1js.tmp_-scaled.jpg
END:VEVENT
BEGIN:VEVENT
DTSTART;TZID=America/New_York:20260214T130000
DTEND;TZID=America/New_York:20260214T140000
DTSTAMP:20260421T114600
CREATED:20260113T234025Z
LAST-MODIFIED:20260214T185505Z
UID:10010489-1771074000-1771077600@calendar.adasisrael.org
SUMMARY:MakomDC:  The Necessity of Narrative in Halakhic Decision Making with Rabbi Aaron Alexander
DESCRIPTION:The Necessity of Narrative in Halakhic Decision Making \nShabbat afternoons Dec 6th\, Feb 14th\, March 28th \nIf a Jewish Legal (halakhic) decision is made in the forest with nobody present\, did it actually happen? Maybe. The reality is that written law–case-law (responsa) and codes–significantly depend on the very human stories that animates both the unique questions\, and idiosyncratic responses. In this series we’ll explore some critical halakhic decisions (responsa\, mostly) in which the stories behind the questions influenced the direction of the rabbinic decisor. (Texts provided in Hebrew & English\, all are welcome!) \nFebruary 14th: Test Cases—Sociological Identity Shifts That Stretched Halakhah in Post-Enlightenment Germany. Join Rabbi Alexander in the Biran Beit Midrash at 1:00pm to explore how modernity upended traditional Jewish life in Germany\, and created a genre of Responsa Literature (Questions/Answers) that attempted to hold the community together from within classic halakhic principles. Sources provided in original and english\, all are welcome!
URL:https://calendar.adasisrael.org/event/makomdc-the-necessity-of-narrative-in-halakhic-decision-making-with-rabbi-aaron-alexander-2/
LOCATION:Biran Beit Midrash
CATEGORIES:Learn & Engage
ATTACH;FMTTYPE=image/jpeg:https://calendar.adasisrael.org/wp-content/uploads/2023/07/Front-Professional.jpg
END:VEVENT
BEGIN:VEVENT
DTSTART;TZID=America/New_York:20260213T173000
DTEND;TZID=America/New_York:20260213T183000
DTSTAMP:20260421T114600
CREATED:20260113T234024Z
LAST-MODIFIED:20260213T225502Z
UID:10010481-1771003800-1771007400@calendar.adasisrael.org
SUMMARY:YP Happy Hour
DESCRIPTION:Register
URL:https://calendar.adasisrael.org/event/yp-happy-hour-15/
LOCATION:Biran Beit Midrash
CATEGORIES:Shabbat
ATTACH;FMTTYPE=image/jpeg:https://calendar.adasisrael.org/wp-content/uploads/2023/07/Front-Professional.jpg
END:VEVENT
BEGIN:VEVENT
DTSTART;TZID=America/New_York:20260213T073000
DTEND;TZID=America/New_York:20260213T090000
DTSTAMP:20260421T114600
CREATED:20260113T234023Z
LAST-MODIFIED:20260213T130002Z
UID:10010475-1770967800-1770973200@calendar.adasisrael.org
SUMMARY:Morning Minyan
DESCRIPTION:Join us in-person or on Zoom: \nSundays and Federal Holidays at 9am\, Zoom Link Here \nMondays-Fridays at 7:30am\, Zoom Link Here \nClick Here For Shacharit Pages
URL:https://calendar.adasisrael.org/event/morning-minyan-783/
LOCATION:Biran Beit Midrash
CATEGORIES:Daily Minyan
ATTACH;FMTTYPE=image/jpeg:https://calendar.adasisrael.org/wp-content/uploads/2023/07/JThomas_20230521_0043-z8y1js.tmp_-scaled.jpg
END:VEVENT
BEGIN:VEVENT
DTSTART;TZID=America/New_York:20260212T180000
DTEND;TZID=America/New_York:20260212T190000
DTSTAMP:20260421T114600
CREATED:20260113T234023Z
LAST-MODIFIED:20260212T231029Z
UID:10010474-1770919200-1770922800@calendar.adasisrael.org
SUMMARY:Evening Minyan
DESCRIPTION:Join In-Person on Mondays\, Tuesdays\, Wednesdays\, Thursdays and via Zoom every day (Sunday-Thursday).Siddur Pages: Mincha\, Maariv
URL:https://calendar.adasisrael.org/event/evening-minyan-655/
LOCATION:Biran Beit Midrash
CATEGORIES:Daily Minyan
ATTACH;FMTTYPE=image/jpeg:https://calendar.adasisrael.org/wp-content/uploads/2024/01/minyanheaderweb-XUfQxy.tmp_.jpg
END:VEVENT
BEGIN:VEVENT
DTSTART;TZID=America/New_York:20260212T073000
DTEND;TZID=America/New_York:20260212T090000
DTSTAMP:20260421T114600
CREATED:20260113T234023Z
LAST-MODIFIED:20260212T140002Z
UID:10010471-1770881400-1770886800@calendar.adasisrael.org
SUMMARY:Morning Minyan
DESCRIPTION:Join us in-person or on Zoom: \nSundays and Federal Holidays at 9am\, Zoom Link Here \nMondays-Fridays at 7:30am\, Zoom Link Here \nClick Here For Shacharit Pages
URL:https://calendar.adasisrael.org/event/morning-minyan-782/
LOCATION:Biran Beit Midrash
CATEGORIES:Daily Minyan
ATTACH;FMTTYPE=image/jpeg:https://calendar.adasisrael.org/wp-content/uploads/2023/07/JThomas_20230521_0043-z8y1js.tmp_-scaled.jpg
END:VEVENT
BEGIN:VEVENT
DTSTART;TZID=America/New_York:20260211T180000
DTEND;TZID=America/New_York:20260211T184000
DTSTAMP:20260421T114600
CREATED:20260113T234023Z
LAST-MODIFIED:20260211T233509Z
UID:10010469-1770832800-1770835200@calendar.adasisrael.org
SUMMARY:Evening Minyan
DESCRIPTION:Join In-Person on Mondays\, Tuesdays\, Wednesdays\, Thursdays and via Zoom every day (Sunday-Thursday).Siddur Pages: Mincha\, Maariv
URL:https://calendar.adasisrael.org/event/evening-minyan-654/
LOCATION:Biran Beit Midrash
CATEGORIES:Daily Minyan
ATTACH;FMTTYPE=image/jpeg:https://calendar.adasisrael.org/wp-content/uploads/2024/01/minyanheaderweb-XUfQxy.tmp_.jpg
END:VEVENT
BEGIN:VEVENT
DTSTART;TZID=America/New_York:20260211T073000
DTEND;TZID=America/New_York:20260211T090000
DTSTAMP:20260421T114600
CREATED:20260113T234022Z
LAST-MODIFIED:20260211T131002Z
UID:10010467-1770795000-1770800400@calendar.adasisrael.org
SUMMARY:Morning Minyan
DESCRIPTION:Join us in-person or on Zoom: \nSundays and Federal Holidays at 9am\, Zoom Link Here \nMondays-Fridays at 7:30am\, Zoom Link Here \nClick Here For Shacharit Pages
URL:https://calendar.adasisrael.org/event/morning-minyan-781/
LOCATION:Biran Beit Midrash
CATEGORIES:Daily Minyan
ATTACH;FMTTYPE=image/jpeg:https://calendar.adasisrael.org/wp-content/uploads/2023/07/JThomas_20230521_0043-z8y1js.tmp_-scaled.jpg
END:VEVENT
BEGIN:VEVENT
DTSTART;TZID=America/New_York:20260210T183000
DTEND;TZID=America/New_York:20260210T210000
DTSTAMP:20260421T114600
CREATED:20260113T234022Z
LAST-MODIFIED:20260211T014502Z
UID:10010465-1770748200-1770757200@calendar.adasisrael.org
SUMMARY:Liberal Zionism: Between Crisis and Aspiration
DESCRIPTION:
URL:https://calendar.adasisrael.org/event/liberal-zionism-between-crisis-and-aspiration-6/
LOCATION:Biran Beit Midrash
ATTACH;FMTTYPE=image/jpeg:https://calendar.adasisrael.org/wp-content/uploads/2023/07/Front-Professional.jpg
END:VEVENT
BEGIN:VEVENT
DTSTART;TZID=America/New_York:20260210T180000
DTEND;TZID=America/New_York:20260210T183000
DTSTAMP:20260421T114600
CREATED:20260113T234022Z
LAST-MODIFIED:20260210T231001Z
UID:10010466-1770746400-1770748200@calendar.adasisrael.org
SUMMARY:Evening Minyan
DESCRIPTION:Join In-Person on Mondays\, Tuesdays\, Wednesdays\, Thursdays and via Zoom every day (Sunday-Thursday).Siddur Pages: Mincha\, Maariv
URL:https://calendar.adasisrael.org/event/evening-minyan-653/
LOCATION:Biran Beit Midrash
CATEGORIES:Daily Minyan
ATTACH;FMTTYPE=image/jpeg:https://calendar.adasisrael.org/wp-content/uploads/2024/01/minyanheaderweb-XUfQxy.tmp_.jpg
END:VEVENT
BEGIN:VEVENT
DTSTART;TZID=America/New_York:20260210T083000
DTEND;TZID=America/New_York:20260210T090000
DTSTAMP:20260421T114600
CREATED:20260114T222251Z
LAST-MODIFIED:20260210T131002Z
UID:10010762-1770712200-1770714000@calendar.adasisrael.org
SUMMARY:Post Minyan Learning
DESCRIPTION:
URL:https://calendar.adasisrael.org/event/post-minyan-learning-4/
LOCATION:Biran Beit Midrash
ATTACH;FMTTYPE=image/jpeg:https://calendar.adasisrael.org/wp-content/uploads/2023/07/Front-Professional.jpg
END:VEVENT
BEGIN:VEVENT
DTSTART;TZID=America/New_York:20260210T073000
DTEND;TZID=America/New_York:20260210T083000
DTSTAMP:20260421T114600
CREATED:20260113T234021Z
LAST-MODIFIED:20260210T131001Z
UID:10010461-1770708600-1770712200@calendar.adasisrael.org
SUMMARY:Morning Minyan
DESCRIPTION:Join us in-person or on Zoom: \nSundays and Federal Holidays at 9am\, Zoom Link Here \nMondays-Fridays at 7:30am\, Zoom Link Here \nClick Here For Shacharit Pages
URL:https://calendar.adasisrael.org/event/morning-minyan-780/
LOCATION:Biran Beit Midrash
CATEGORIES:Daily Minyan
ATTACH;FMTTYPE=image/jpeg:https://calendar.adasisrael.org/wp-content/uploads/2023/07/JThomas_20230521_0043-z8y1js.tmp_-scaled.jpg
END:VEVENT
BEGIN:VEVENT
DTSTART;TZID=America/New_York:20260209T180000
DTEND;TZID=America/New_York:20260209T190000
DTSTAMP:20260421T114600
CREATED:20260113T234021Z
LAST-MODIFIED:20260209T231009Z
UID:10010460-1770660000-1770663600@calendar.adasisrael.org
SUMMARY:Evening Minyan
DESCRIPTION:Join In-Person on Mondays\, Tuesdays\, Wednesdays\, Thursdays and via Zoom every day (Sunday-Thursday).Siddur Pages: Mincha\, Maariv
URL:https://calendar.adasisrael.org/event/evening-minyan-652/
LOCATION:Biran Beit Midrash
CATEGORIES:Daily Minyan
ATTACH;FMTTYPE=image/jpeg:https://calendar.adasisrael.org/wp-content/uploads/2024/01/minyanheaderweb-XUfQxy.tmp_.jpg
END:VEVENT
BEGIN:VEVENT
DTSTART;TZID=America/New_York:20260209T073000
DTEND;TZID=America/New_York:20260209T090000
DTSTAMP:20260421T114600
CREATED:20260113T234020Z
LAST-MODIFIED:20260209T135501Z
UID:10010456-1770622200-1770627600@calendar.adasisrael.org
SUMMARY:Morning Minyan
DESCRIPTION:Join us in-person or on Zoom: \nSundays and Federal Holidays at 9am\, Zoom Link Here \nMondays-Fridays at 7:30am\, Zoom Link Here \nClick Here For Shacharit Pages
URL:https://calendar.adasisrael.org/event/morning-minyan-779/
LOCATION:Biran Beit Midrash
CATEGORIES:Daily Minyan
ATTACH;FMTTYPE=image/jpeg:https://calendar.adasisrael.org/wp-content/uploads/2023/07/JThomas_20230521_0043-z8y1js.tmp_-scaled.jpg
END:VEVENT
BEGIN:VEVENT
DTSTART;TZID=America/New_York:20260208T100000
DTEND;TZID=America/New_York:20260208T110000
DTSTAMP:20260421T114600
CREATED:20260120T232204Z
LAST-MODIFIED:20260208T151502Z
UID:10010816-1770544800-1770548400@calendar.adasisrael.org
SUMMARY:Seizing Today: Discovering Purpose and Authenticity in a Life-Changing Diagnosis
DESCRIPTION:Join us after minyan on 2/8 to hear about Adas member Jonathan Tuteur’s award-winning candid memoir of how an ordinary life was transformed by an epilepsy diagnosis\, inviting readers to reflect on resilience\, growth\, and the deeper meaning of purpose. Seizing Today: Discovering Purpose and Authenticity in a Life-Changing Diagnosis weaves together the richness of his Jewish upbringing and family story — including his paternal grandfather’s escape from Nazi Germany–to his his medical journey included more than 500 seizures\, over 40 days and nights in the hospital\, and 3 brain surgeries. The conversation will touch on Jewish values\, humor\, and community that Judaism provided as an integral source of strength and authenticity.
URL:https://calendar.adasisrael.org/event/seizing-today-discovering-purpose-and-authenticity-in-a-life-changing-diagnosis/
LOCATION:Biran Beit Midrash
CATEGORIES:Learn & Engage
ATTACH;FMTTYPE=image/jpeg:https://calendar.adasisrael.org/wp-content/uploads/2026/01/jt_headshot__1__360-3OHghk.jpg
END:VEVENT
BEGIN:VEVENT
DTSTART;TZID=America/New_York:20260208T090000
DTEND;TZID=America/New_York:20260208T100000
DTSTAMP:20260421T114600
CREATED:20260113T234020Z
LAST-MODIFIED:20260208T140502Z
UID:10010453-1770541200-1770544800@calendar.adasisrael.org
SUMMARY:Morning Minyan
DESCRIPTION:Join us in-person or on Zoom: \nSundays and Federal Holidays at 9am\, Zoom Link Here \nMondays-Fridays at 7:30am\, Zoom Link Here \nClick Here For Shacharit Pages
URL:https://calendar.adasisrael.org/event/morning-minyan-778/
LOCATION:Biran Beit Midrash
CATEGORIES:Daily Minyan
ATTACH;FMTTYPE=image/jpeg:https://calendar.adasisrael.org/wp-content/uploads/2023/07/JThomas_20230521_0043-z8y1js.tmp_-scaled.jpg
END:VEVENT
BEGIN:VEVENT
DTSTART;TZID=America/New_York:20260207T130000
DTEND;TZID=America/New_York:20260207T140000
DTSTAMP:20260421T114600
CREATED:20260113T234020Z
LAST-MODIFIED:20260207T184001Z
UID:10010451-1770469200-1770472800@calendar.adasisrael.org
SUMMARY:MakomDC- Mendelson Family Scholar Series- Dr. Sarah Wolf
DESCRIPTION:Dr. Sarah Wolf \n“The Stories that Shaped the Beit Midrash” \nShabbat Afternoon\, February 7th at 1pm \nThe yeshiva is central to how we think about “serious” Jewish learning. Yet this format for study was not always part of Jewish life. The yeshiva\, or rabbinic academy\, emerged at a specific time and place\, in the Persian Empire at the close of the Talmudic period. And\, as we will learn\, stories and storytelling were at the heart of its rise. The talk will primarily focus on the connection between stories and study at the time of the Talmud\, but we will also explore the lasting cultural legacy of the rabbinic academy and consider the role of stories in forging new paths for Jewish study culture today. \nDr. Sarah Wolf is Assistant Professor of Talmud and Rabbinics at the Jewish Theological Seminary. She teaches\, writes\, and speaks about emotion\, law\, gender\, community\, and the imaginary in rabbinic texts. She lives in the Washington Heights neighborhood of Manhattan.
URL:https://calendar.adasisrael.org/event/makomdc-mendelson-family-scholar-series-dr-sarah-wolf/
LOCATION:Biran Beit Midrash
CATEGORIES:Learn & Engage,Shabbat
ATTACH;FMTTYPE=image/png:https://calendar.adasisrael.org/wp-content/uploads/2026/01/sarah-wolf-1-1-ratio-e1713277683945_720-csRI8D.png
END:VEVENT
BEGIN:VEVENT
DTSTART;TZID=America/New_York:20260207T083000
DTEND;TZID=America/New_York:20260207T093000
DTSTAMP:20260421T114600
CREATED:20260113T234019Z
LAST-MODIFIED:20260207T134001Z
UID:10010444-1770453000-1770456600@calendar.adasisrael.org
SUMMARY:Boker Or
DESCRIPTION:The Boker Or Torah study group meets Saturday mornings at 8:30 a.m. with the weekly portion as its focus. Join our clergy and community in person each week for an engaging\, text-based conversation on the week’s parsha\, before Shabbat services.
URL:https://calendar.adasisrael.org/event/boker-or-99/
LOCATION:Biran Beit Midrash
CATEGORIES:Shabbat
ATTACH;FMTTYPE=image/jpeg:https://calendar.adasisrael.org/wp-content/uploads/2023/07/makompic21-22-68hj8a.tmp_.jpg
END:VEVENT
BEGIN:VEVENT
DTSTART;TZID=America/New_York:20260206T073000
DTEND;TZID=America/New_York:20260206T090000
DTSTAMP:20260421T114600
CREATED:20260113T234018Z
LAST-MODIFIED:20260206T131002Z
UID:10010438-1770363000-1770368400@calendar.adasisrael.org
SUMMARY:Morning Minyan
DESCRIPTION:Join us in-person or on Zoom: \nSundays and Federal Holidays at 9am\, Zoom Link Here \nMondays-Fridays at 7:30am\, Zoom Link Here \nClick Here For Shacharit Pages
URL:https://calendar.adasisrael.org/event/morning-minyan-777/
LOCATION:Biran Beit Midrash
CATEGORIES:Daily Minyan
ATTACH;FMTTYPE=image/jpeg:https://calendar.adasisrael.org/wp-content/uploads/2023/07/JThomas_20230521_0043-z8y1js.tmp_-scaled.jpg
END:VEVENT
END:VCALENDAR