BEGIN:VCALENDAR
VERSION:2.0
PRODID:-//Adas Israel Congregation - ECPv6.2.9//NONSGML v1.0//EN
CALSCALE:GREGORIAN
METHOD:PUBLISH
X-WR-CALNAME:Adas Israel Congregation
X-ORIGINAL-URL:https://calendar.adasisrael.org
X-WR-CALDESC:Events for Adas Israel Congregation
REFRESH-INTERVAL;VALUE=DURATION:PT1H
X-Robots-Tag:noindex
X-PUBLISHED-TTL:PT1H
BEGIN:VTIMEZONE
TZID:America/New_York
BEGIN:DAYLIGHT
TZOFFSETFROM:-0500
TZOFFSETTO:-0400
TZNAME:EDT
DTSTART:20260308T070000
END:DAYLIGHT
BEGIN:STANDARD
TZOFFSETFROM:-0400
TZOFFSETTO:-0500
TZNAME:EST
DTSTART:20261101T060000
END:STANDARD
END:VTIMEZONE
BEGIN:VEVENT
DTSTART;TZID=America/New_York:20260528T180000
DTEND;TZID=America/New_York:20260528T190000
DTSTAMP:20260421T083231
CREATED:20260414T191319Z
LAST-MODIFIED:20260421T122902Z
UID:10012812-1779991200-1779994800@calendar.adasisrael.org
SUMMARY:Evening Minyan
DESCRIPTION:
URL:https://calendar.adasisrael.org/event/evening-minyan-718/
LOCATION:Biran Beit Midrash
CATEGORIES:Daily Minyan
ATTACH;FMTTYPE=image/jpeg:https://calendar.adasisrael.org/wp-content/uploads/2023/07/Front-Professional.jpg
END:VEVENT
BEGIN:VEVENT
DTSTART;TZID=America/New_York:20260529T073000
DTEND;TZID=America/New_York:20260529T083000
DTSTAMP:20260421T083231
CREATED:20260414T191319Z
LAST-MODIFIED:20260421T122902Z
UID:10012813-1780039800-1780043400@calendar.adasisrael.org
SUMMARY:Morning Minyan
DESCRIPTION:
URL:https://calendar.adasisrael.org/event/morning-minyan-858/
LOCATION:Biran Beit Midrash
CATEGORIES:Daily Minyan
ATTACH;FMTTYPE=image/jpeg:https://calendar.adasisrael.org/wp-content/uploads/2023/07/Front-Professional.jpg
END:VEVENT
BEGIN:VEVENT
DTSTART;TZID=America/New_York:20260530T083000
DTEND;TZID=America/New_York:20260530T093000
DTSTAMP:20260421T083231
CREATED:20260414T191319Z
LAST-MODIFIED:20260421T122902Z
UID:10012819-1780129800-1780133400@calendar.adasisrael.org
SUMMARY:Boker Or
DESCRIPTION:
URL:https://calendar.adasisrael.org/event/boker-or-111/
LOCATION:Biran Beit Midrash
CATEGORIES:Shabbat
ATTACH;FMTTYPE=image/jpeg:https://calendar.adasisrael.org/wp-content/uploads/2023/07/Front-Professional.jpg
END:VEVENT
BEGIN:VEVENT
DTSTART;TZID=America/New_York:20260530T130000
DTEND;TZID=America/New_York:20260530T141500
DTSTAMP:20260421T083231
CREATED:20260414T191320Z
LAST-MODIFIED:20260421T122914Z
UID:10012822-1780146000-1780150500@calendar.adasisrael.org
SUMMARY:MakomDC:  Repetition\, Remixed” - Narrative Sequels in Tanakh
DESCRIPTION:
URL:https://calendar.adasisrael.org/event/makomdc-repetition-remixed-narrative-sequels-in-tanakh-3/
LOCATION:Biran Beit Midrash
CATEGORIES:Learn & Engage
ATTACH;FMTTYPE=image/jpeg:https://calendar.adasisrael.org/wp-content/uploads/2023/07/Front-Professional.jpg
END:VEVENT
BEGIN:VEVENT
DTSTART;TZID=America/New_York:20260531T090000
DTEND;TZID=America/New_York:20260531T100000
DTSTAMP:20260421T083231
CREATED:20260414T191320Z
LAST-MODIFIED:20260421T122914Z
UID:10012825-1780218000-1780221600@calendar.adasisrael.org
SUMMARY:Morning Minyan
DESCRIPTION:
URL:https://calendar.adasisrael.org/event/morning-minyan-859/
LOCATION:Biran Beit Midrash
CATEGORIES:Daily Minyan
ATTACH;FMTTYPE=image/jpeg:https://calendar.adasisrael.org/wp-content/uploads/2023/07/Front-Professional.jpg
END:VEVENT
BEGIN:VEVENT
DTSTART;TZID=America/New_York:20260601T073000
DTEND;TZID=America/New_York:20260601T083000
DTSTAMP:20260421T083231
CREATED:20260414T191320Z
LAST-MODIFIED:20260421T122914Z
UID:10012827-1780299000-1780302600@calendar.adasisrael.org
SUMMARY:Morning Minyan
DESCRIPTION:
URL:https://calendar.adasisrael.org/event/morning-minyan-860/
LOCATION:Biran Beit Midrash
CATEGORIES:Daily Minyan
ATTACH;FMTTYPE=image/jpeg:https://calendar.adasisrael.org/wp-content/uploads/2023/07/Front-Professional.jpg
END:VEVENT
BEGIN:VEVENT
DTSTART;TZID=America/New_York:20260601T180000
DTEND;TZID=America/New_York:20260601T190000
DTSTAMP:20260421T083231
CREATED:20260414T191321Z
LAST-MODIFIED:20260421T122914Z
UID:10012829-1780336800-1780340400@calendar.adasisrael.org
SUMMARY:Evening Minyan
DESCRIPTION:
URL:https://calendar.adasisrael.org/event/evening-minyan-720/
LOCATION:Biran Beit Midrash
CATEGORIES:Daily Minyan
ATTACH;FMTTYPE=image/jpeg:https://calendar.adasisrael.org/wp-content/uploads/2023/07/Front-Professional.jpg
END:VEVENT
BEGIN:VEVENT
DTSTART;TZID=America/New_York:20260602T073000
DTEND;TZID=America/New_York:20260602T083000
DTSTAMP:20260421T083231
CREATED:20260414T191321Z
LAST-MODIFIED:20260421T122914Z
UID:10012831-1780385400-1780389000@calendar.adasisrael.org
SUMMARY:Morning Minyan
DESCRIPTION:
URL:https://calendar.adasisrael.org/event/morning-minyan-861/
LOCATION:Biran Beit Midrash
CATEGORIES:Daily Minyan
ATTACH;FMTTYPE=image/jpeg:https://calendar.adasisrael.org/wp-content/uploads/2023/07/Front-Professional.jpg
END:VEVENT
BEGIN:VEVENT
DTSTART;TZID=America/New_York:20260602T083000
DTEND;TZID=America/New_York:20260602T090000
DTSTAMP:20260421T083231
CREATED:20260414T191321Z
LAST-MODIFIED:20260421T122925Z
UID:10012830-1780389000-1780390800@calendar.adasisrael.org
SUMMARY:Post Minyan Learning
DESCRIPTION:
URL:https://calendar.adasisrael.org/event/post-minyan-learning-18/
LOCATION:Biran Beit Midrash
ATTACH;FMTTYPE=image/jpeg:https://calendar.adasisrael.org/wp-content/uploads/2023/07/Front-Professional.jpg
END:VEVENT
BEGIN:VEVENT
DTSTART;TZID=America/New_York:20260602T114500
DTEND;TZID=America/New_York:20260602T123000
DTSTAMP:20260421T083231
CREATED:20260414T191321Z
LAST-MODIFIED:20260421T122925Z
UID:10012833-1780400700-1780403400@calendar.adasisrael.org
SUMMARY:Talmud Study: From Cover to Cover
DESCRIPTION:
URL:https://calendar.adasisrael.org/event/talmud-study-from-cover-to-cover-30/
LOCATION:Biran Beit Midrash
ATTACH;FMTTYPE=image/jpeg:https://calendar.adasisrael.org/wp-content/uploads/2023/07/Front-Professional.jpg
END:VEVENT
BEGIN:VEVENT
DTSTART;TZID=America/New_York:20260602T180000
DTEND;TZID=America/New_York:20260602T190000
DTSTAMP:20260421T083231
CREATED:20260414T191321Z
LAST-MODIFIED:20260421T122926Z
UID:10012835-1780423200-1780426800@calendar.adasisrael.org
SUMMARY:Evening Minyan
DESCRIPTION:
URL:https://calendar.adasisrael.org/event/evening-minyan-721/
LOCATION:Biran Beit Midrash
CATEGORIES:Daily Minyan
ATTACH;FMTTYPE=image/jpeg:https://calendar.adasisrael.org/wp-content/uploads/2023/07/Front-Professional.jpg
END:VEVENT
BEGIN:VEVENT
DTSTART;TZID=America/New_York:20260603T073000
DTEND;TZID=America/New_York:20260603T083000
DTSTAMP:20260421T083231
CREATED:20260414T191322Z
LAST-MODIFIED:20260421T122926Z
UID:10012837-1780471800-1780475400@calendar.adasisrael.org
SUMMARY:Morning Minyan
DESCRIPTION:
URL:https://calendar.adasisrael.org/event/morning-minyan-862/
LOCATION:Biran Beit Midrash
CATEGORIES:Daily Minyan
ATTACH;FMTTYPE=image/jpeg:https://calendar.adasisrael.org/wp-content/uploads/2023/07/Front-Professional.jpg
END:VEVENT
BEGIN:VEVENT
DTSTART;TZID=America/New_York:20260603T180000
DTEND;TZID=America/New_York:20260603T190000
DTSTAMP:20260421T083231
CREATED:20260414T191322Z
LAST-MODIFIED:20260421T122926Z
UID:10012839-1780509600-1780513200@calendar.adasisrael.org
SUMMARY:Evening Minyan
DESCRIPTION:
URL:https://calendar.adasisrael.org/event/evening-minyan-722/
LOCATION:Biran Beit Midrash
CATEGORIES:Daily Minyan
ATTACH;FMTTYPE=image/jpeg:https://calendar.adasisrael.org/wp-content/uploads/2023/07/Front-Professional.jpg
END:VEVENT
BEGIN:VEVENT
DTSTART;TZID=America/New_York:20260604T073000
DTEND;TZID=America/New_York:20260604T083000
DTSTAMP:20260421T083231
CREATED:20260414T191322Z
LAST-MODIFIED:20260421T122926Z
UID:10012840-1780558200-1780561800@calendar.adasisrael.org
SUMMARY:Morning Minyan
DESCRIPTION:
URL:https://calendar.adasisrael.org/event/morning-minyan-863/
LOCATION:Biran Beit Midrash
CATEGORIES:Daily Minyan
ATTACH;FMTTYPE=image/jpeg:https://calendar.adasisrael.org/wp-content/uploads/2023/07/Front-Professional.jpg
END:VEVENT
BEGIN:VEVENT
DTSTART;TZID=America/New_York:20260604T180000
DTEND;TZID=America/New_York:20260604T190000
DTSTAMP:20260421T083231
CREATED:20260414T191322Z
LAST-MODIFIED:20260421T122937Z
UID:10012843-1780596000-1780599600@calendar.adasisrael.org
SUMMARY:Evening Minyan
DESCRIPTION:
URL:https://calendar.adasisrael.org/event/evening-minyan-723/
LOCATION:Biran Beit Midrash
CATEGORIES:Daily Minyan
ATTACH;FMTTYPE=image/jpeg:https://calendar.adasisrael.org/wp-content/uploads/2023/07/Front-Professional.jpg
END:VEVENT
BEGIN:VEVENT
DTSTART;TZID=America/New_York:20260605T073000
DTEND;TZID=America/New_York:20260605T083000
DTSTAMP:20260421T083231
CREATED:20260414T191323Z
LAST-MODIFIED:20260421T122937Z
UID:10012844-1780644600-1780648200@calendar.adasisrael.org
SUMMARY:Morning Minyan
DESCRIPTION:
URL:https://calendar.adasisrael.org/event/morning-minyan-864/
LOCATION:Biran Beit Midrash
CATEGORIES:Daily Minyan
ATTACH;FMTTYPE=image/jpeg:https://calendar.adasisrael.org/wp-content/uploads/2023/07/Front-Professional.jpg
END:VEVENT
BEGIN:VEVENT
DTSTART;TZID=America/New_York:20260606T083000
DTEND;TZID=America/New_York:20260606T093000
DTSTAMP:20260421T083231
CREATED:20260414T191323Z
LAST-MODIFIED:20260421T122937Z
UID:10012850-1780734600-1780738200@calendar.adasisrael.org
SUMMARY:Boker Or
DESCRIPTION:
URL:https://calendar.adasisrael.org/event/boker-or-112/
LOCATION:Biran Beit Midrash
CATEGORIES:Shabbat
ATTACH;FMTTYPE=image/jpeg:https://calendar.adasisrael.org/wp-content/uploads/2023/07/Front-Professional.jpg
END:VEVENT
BEGIN:VEVENT
DTSTART;TZID=America/New_York:20260606T130000
DTEND;TZID=America/New_York:20260606T134500
DTSTAMP:20260421T083231
CREATED:20260414T191324Z
LAST-MODIFIED:20260421T122949Z
UID:10012859-1780750800-1780753500@calendar.adasisrael.org
SUMMARY:Shabbat Mincha Service
DESCRIPTION:
URL:https://calendar.adasisrael.org/event/shabbat-mincha-service-150/
LOCATION:Biran Beit Midrash
CATEGORIES:Shabbat
ATTACH;FMTTYPE=image/jpeg:https://calendar.adasisrael.org/wp-content/uploads/2023/07/Front-Professional.jpg
END:VEVENT
BEGIN:VEVENT
DTSTART;TZID=America/New_York:20260606T143000
DTEND;TZID=America/New_York:20260606T160000
DTSTAMP:20260421T083231
CREATED:20260414T191324Z
LAST-MODIFIED:20260421T123000Z
UID:10012861-1780756200-1780761600@calendar.adasisrael.org
SUMMARY:TEM Shabbaton
DESCRIPTION:
URL:https://calendar.adasisrael.org/event/tem-shabbaton-16/
LOCATION:Biran Beit Midrash
ATTACH;FMTTYPE=image/jpeg:https://calendar.adasisrael.org/wp-content/uploads/2023/07/Front-Professional.jpg
END:VEVENT
BEGIN:VEVENT
DTSTART;TZID=America/New_York:20260607T090000
DTEND;TZID=America/New_York:20260607T100000
DTSTAMP:20260421T083231
CREATED:20260414T191324Z
LAST-MODIFIED:20260421T123001Z
UID:10012862-1780822800-1780826400@calendar.adasisrael.org
SUMMARY:Morning Minyan
DESCRIPTION:
URL:https://calendar.adasisrael.org/event/morning-minyan-865/
LOCATION:Biran Beit Midrash
CATEGORIES:Daily Minyan
ATTACH;FMTTYPE=image/jpeg:https://calendar.adasisrael.org/wp-content/uploads/2023/07/Front-Professional.jpg
END:VEVENT
BEGIN:VEVENT
DTSTART;TZID=America/New_York:20260608T073000
DTEND;TZID=America/New_York:20260608T083000
DTSTAMP:20260421T083231
CREATED:20260414T191324Z
LAST-MODIFIED:20260421T123001Z
UID:10012864-1780903800-1780907400@calendar.adasisrael.org
SUMMARY:Morning Minyan
DESCRIPTION:
URL:https://calendar.adasisrael.org/event/morning-minyan-866/
LOCATION:Biran Beit Midrash
CATEGORIES:Daily Minyan
ATTACH;FMTTYPE=image/jpeg:https://calendar.adasisrael.org/wp-content/uploads/2023/07/Front-Professional.jpg
END:VEVENT
BEGIN:VEVENT
DTSTART;TZID=America/New_York:20260608T180000
DTEND;TZID=America/New_York:20260608T190000
DTSTAMP:20260421T083231
CREATED:20260414T191324Z
LAST-MODIFIED:20260421T123001Z
UID:10012867-1780941600-1780945200@calendar.adasisrael.org
SUMMARY:Evening Minyan
DESCRIPTION:
URL:https://calendar.adasisrael.org/event/evening-minyan-725/
LOCATION:Biran Beit Midrash
CATEGORIES:Daily Minyan
ATTACH;FMTTYPE=image/jpeg:https://calendar.adasisrael.org/wp-content/uploads/2023/07/Front-Professional.jpg
END:VEVENT
BEGIN:VEVENT
DTSTART;TZID=America/New_York:20260609T073000
DTEND;TZID=America/New_York:20260609T083000
DTSTAMP:20260421T083231
CREATED:20260414T191325Z
LAST-MODIFIED:20260421T123001Z
UID:10012869-1780990200-1780993800@calendar.adasisrael.org
SUMMARY:Morning Minyan
DESCRIPTION:
URL:https://calendar.adasisrael.org/event/morning-minyan-867/
LOCATION:Biran Beit Midrash
CATEGORIES:Daily Minyan
ATTACH;FMTTYPE=image/jpeg:https://calendar.adasisrael.org/wp-content/uploads/2023/07/Front-Professional.jpg
END:VEVENT
BEGIN:VEVENT
DTSTART;TZID=America/New_York:20260609T083000
DTEND;TZID=America/New_York:20260609T090000
DTSTAMP:20260421T083231
CREATED:20260414T191324Z
LAST-MODIFIED:20260421T123001Z
UID:10012868-1780993800-1780995600@calendar.adasisrael.org
SUMMARY:Post Minyan Learning
DESCRIPTION:
URL:https://calendar.adasisrael.org/event/post-minyan-learning-19/
LOCATION:Biran Beit Midrash
ATTACH;FMTTYPE=image/jpeg:https://calendar.adasisrael.org/wp-content/uploads/2023/07/Front-Professional.jpg
END:VEVENT
BEGIN:VEVENT
DTSTART;TZID=America/New_York:20260609T114500
DTEND;TZID=America/New_York:20260609T123000
DTSTAMP:20260421T083231
CREATED:20260414T191325Z
LAST-MODIFIED:20260421T121014Z
UID:10012872-1781005500-1781008200@calendar.adasisrael.org
SUMMARY:Talmud Study: From Cover to Cover
DESCRIPTION:
URL:https://calendar.adasisrael.org/event/talmud-study-from-cover-to-cover-31/
LOCATION:Biran Beit Midrash
ATTACH;FMTTYPE=image/jpeg:https://calendar.adasisrael.org/wp-content/uploads/2023/07/Front-Professional.jpg
END:VEVENT
BEGIN:VEVENT
DTSTART;TZID=America/New_York:20260609T180000
DTEND;TZID=America/New_York:20260609T190000
DTSTAMP:20260421T083231
CREATED:20260414T191325Z
LAST-MODIFIED:20260421T121014Z
UID:10012874-1781028000-1781031600@calendar.adasisrael.org
SUMMARY:Evening Minyan
DESCRIPTION:
URL:https://calendar.adasisrael.org/event/evening-minyan-726/
LOCATION:Biran Beit Midrash
CATEGORIES:Daily Minyan
ATTACH;FMTTYPE=image/jpeg:https://calendar.adasisrael.org/wp-content/uploads/2023/07/Front-Professional.jpg
END:VEVENT
BEGIN:VEVENT
DTSTART;TZID=America/New_York:20260610T073000
DTEND;TZID=America/New_York:20260610T083000
DTSTAMP:20260421T083231
CREATED:20260414T191325Z
LAST-MODIFIED:20260421T121014Z
UID:10012877-1781076600-1781080200@calendar.adasisrael.org
SUMMARY:Morning Minyan
DESCRIPTION:
URL:https://calendar.adasisrael.org/event/morning-minyan-868/
LOCATION:Biran Beit Midrash
CATEGORIES:Daily Minyan
ATTACH;FMTTYPE=image/jpeg:https://calendar.adasisrael.org/wp-content/uploads/2023/07/Front-Professional.jpg
END:VEVENT
BEGIN:VEVENT
DTSTART;TZID=America/New_York:20260610T180000
DTEND;TZID=America/New_York:20260610T190000
DTSTAMP:20260421T083231
CREATED:20260414T191326Z
LAST-MODIFIED:20260421T121019Z
UID:10012880-1781114400-1781118000@calendar.adasisrael.org
SUMMARY:Evening Minyan
DESCRIPTION:
URL:https://calendar.adasisrael.org/event/evening-minyan-727/
LOCATION:Biran Beit Midrash
CATEGORIES:Daily Minyan
ATTACH;FMTTYPE=image/jpeg:https://calendar.adasisrael.org/wp-content/uploads/2023/07/Front-Professional.jpg
END:VEVENT
BEGIN:VEVENT
DTSTART;TZID=America/New_York:20260610T190000
DTEND;TZID=America/New_York:20260610T210000
DTSTAMP:20260421T083231
CREATED:20260416T161019Z
LAST-MODIFIED:20260421T121019Z
UID:10013018-1781118000-1781125200@calendar.adasisrael.org
SUMMARY:Brotherhood: General Body Meeting
DESCRIPTION:
URL:https://calendar.adasisrael.org/event/hold-possible-brotherhood-meeting/
LOCATION:Biran Beit Midrash
ATTACH;FMTTYPE=image/jpeg:https://calendar.adasisrael.org/wp-content/uploads/2023/07/Front-Professional.jpg
END:VEVENT
BEGIN:VEVENT
DTSTART;TZID=America/New_York:20260611T073000
DTEND;TZID=America/New_York:20260611T083000
DTSTAMP:20260421T083231
CREATED:20260414T191326Z
LAST-MODIFIED:20260421T121019Z
UID:10012882-1781163000-1781166600@calendar.adasisrael.org
SUMMARY:Morning Minyan
DESCRIPTION:
URL:https://calendar.adasisrael.org/event/morning-minyan-869/
LOCATION:Biran Beit Midrash
CATEGORIES:Daily Minyan
ATTACH;FMTTYPE=image/jpeg:https://calendar.adasisrael.org/wp-content/uploads/2023/07/Front-Professional.jpg
END:VEVENT
END:VCALENDAR