BEGIN:VCALENDAR
VERSION:2.0
PRODID:-//Adas Israel Congregation - ECPv6.2.9//NONSGML v1.0//EN
CALSCALE:GREGORIAN
METHOD:PUBLISH
X-WR-CALNAME:Adas Israel Congregation
X-ORIGINAL-URL:https://calendar.adasisrael.org
X-WR-CALDESC:Events for Adas Israel Congregation
REFRESH-INTERVAL;VALUE=DURATION:PT1H
X-Robots-Tag:noindex
X-PUBLISHED-TTL:PT1H
BEGIN:VTIMEZONE
TZID:America/New_York
BEGIN:DAYLIGHT
TZOFFSETFROM:-0500
TZOFFSETTO:-0400
TZNAME:EDT
DTSTART:20260308T070000
END:DAYLIGHT
BEGIN:STANDARD
TZOFFSETFROM:-0400
TZOFFSETTO:-0500
TZNAME:EST
DTSTART:20261101T060000
END:STANDARD
END:VTIMEZONE
BEGIN:VEVENT
DTSTART;TZID=America/New_York:20260518T180000
DTEND;TZID=America/New_York:20260518T190000
DTSTAMP:20260421T072120
CREATED:20260414T191314Z
LAST-MODIFIED:20260421T110509Z
UID:10012771-1779127200-1779130800@calendar.adasisrael.org
SUMMARY:Evening Minyan
DESCRIPTION:
URL:https://calendar.adasisrael.org/event/evening-minyan-711/
LOCATION:Biran Beit Midrash
CATEGORIES:Daily Minyan
ATTACH;FMTTYPE=image/jpeg:https://calendar.adasisrael.org/wp-content/uploads/2023/07/Front-Professional.jpg
END:VEVENT
BEGIN:VEVENT
DTSTART;TZID=America/New_York:20260519T073000
DTEND;TZID=America/New_York:20260519T083000
DTSTAMP:20260421T072120
CREATED:20260414T191314Z
LAST-MODIFIED:20260421T110509Z
UID:10012773-1779175800-1779179400@calendar.adasisrael.org
SUMMARY:Morning Minyan
DESCRIPTION:
URL:https://calendar.adasisrael.org/event/morning-minyan-850/
LOCATION:Biran Beit Midrash
CATEGORIES:Daily Minyan
ATTACH;FMTTYPE=image/jpeg:https://calendar.adasisrael.org/wp-content/uploads/2023/07/Front-Professional.jpg
END:VEVENT
BEGIN:VEVENT
DTSTART;TZID=America/New_York:20260519T083000
DTEND;TZID=America/New_York:20260519T090000
DTSTAMP:20260421T072120
CREATED:20260414T191314Z
LAST-MODIFIED:20260421T110509Z
UID:10012772-1779179400-1779181200@calendar.adasisrael.org
SUMMARY:Post Minyan Learning
DESCRIPTION:
URL:https://calendar.adasisrael.org/event/post-minyan-learning-16/
LOCATION:Biran Beit Midrash
ATTACH;FMTTYPE=image/jpeg:https://calendar.adasisrael.org/wp-content/uploads/2023/07/Front-Professional.jpg
END:VEVENT
BEGIN:VEVENT
DTSTART;TZID=America/New_York:20260519T114500
DTEND;TZID=America/New_York:20260519T123000
DTSTAMP:20260421T072120
CREATED:20260414T191315Z
LAST-MODIFIED:20260421T110509Z
UID:10012774-1779191100-1779193800@calendar.adasisrael.org
SUMMARY:Talmud Study: From Cover to Cover
DESCRIPTION:
URL:https://calendar.adasisrael.org/event/talmud-study-from-cover-to-cover-28/
LOCATION:Biran Beit Midrash
ATTACH;FMTTYPE=image/jpeg:https://calendar.adasisrael.org/wp-content/uploads/2023/07/Front-Professional.jpg
END:VEVENT
BEGIN:VEVENT
DTSTART;TZID=America/New_York:20260519T180000
DTEND;TZID=America/New_York:20260519T190000
DTSTAMP:20260421T072120
CREATED:20260414T191315Z
LAST-MODIFIED:20260421T110509Z
UID:10012778-1779213600-1779217200@calendar.adasisrael.org
SUMMARY:Evening Minyan
DESCRIPTION:
URL:https://calendar.adasisrael.org/event/evening-minyan-712/
LOCATION:Biran Beit Midrash
CATEGORIES:Daily Minyan
ATTACH;FMTTYPE=image/jpeg:https://calendar.adasisrael.org/wp-content/uploads/2023/07/Front-Professional.jpg
END:VEVENT
BEGIN:VEVENT
DTSTART;TZID=America/New_York:20260519T190000
DTEND;TZID=America/New_York:20260519T200000
DTSTAMP:20260421T072120
CREATED:20260414T191315Z
LAST-MODIFIED:20260421T110509Z
UID:10012777-1779217200-1779220800@calendar.adasisrael.org
SUMMARY:TEM Community Meeting
DESCRIPTION:
URL:https://calendar.adasisrael.org/event/tem-community-meeting/
LOCATION:Biran Beit Midrash
ATTACH;FMTTYPE=image/jpeg:https://calendar.adasisrael.org/wp-content/uploads/2023/07/Front-Professional.jpg
END:VEVENT
BEGIN:VEVENT
DTSTART;TZID=America/New_York:20260520T073000
DTEND;TZID=America/New_York:20260520T083000
DTSTAMP:20260421T072120
CREATED:20260414T191315Z
LAST-MODIFIED:20260421T110509Z
UID:10012780-1779262200-1779265800@calendar.adasisrael.org
SUMMARY:Morning Minyan
DESCRIPTION:
URL:https://calendar.adasisrael.org/event/morning-minyan-851/
LOCATION:Biran Beit Midrash
CATEGORIES:Daily Minyan
ATTACH;FMTTYPE=image/jpeg:https://calendar.adasisrael.org/wp-content/uploads/2023/07/Front-Professional.jpg
END:VEVENT
BEGIN:VEVENT
DTSTART;TZID=America/New_York:20260520T180000
DTEND;TZID=America/New_York:20260520T190000
DTSTAMP:20260421T072120
CREATED:20260414T191315Z
LAST-MODIFIED:20260421T110509Z
UID:10012782-1779300000-1779303600@calendar.adasisrael.org
SUMMARY:Evening Minyan
DESCRIPTION:
URL:https://calendar.adasisrael.org/event/evening-minyan-713/
LOCATION:Biran Beit Midrash
CATEGORIES:Daily Minyan
ATTACH;FMTTYPE=image/jpeg:https://calendar.adasisrael.org/wp-content/uploads/2023/07/Front-Professional.jpg
END:VEVENT
BEGIN:VEVENT
DTSTART;TZID=America/New_York:20260521T073000
DTEND;TZID=America/New_York:20260521T083000
DTSTAMP:20260421T072120
CREATED:20260414T191316Z
LAST-MODIFIED:20260421T110509Z
UID:10012783-1779348600-1779352200@calendar.adasisrael.org
SUMMARY:Morning Minyan
DESCRIPTION:
URL:https://calendar.adasisrael.org/event/morning-minyan-852/
LOCATION:Biran Beit Midrash
CATEGORIES:Daily Minyan
ATTACH;FMTTYPE=image/jpeg:https://calendar.adasisrael.org/wp-content/uploads/2023/07/Front-Professional.jpg
END:VEVENT
BEGIN:VEVENT
DTSTART;TZID=America/New_York:20260522T180000
DTEND;TZID=America/New_York:20260522T190000
DTSTAMP:20260421T072120
CREATED:20260414T191316Z
LAST-MODIFIED:20260421T110510Z
UID:10012788-1779472800-1779476400@calendar.adasisrael.org
SUMMARY:Kabbalat Chag
DESCRIPTION:
URL:https://calendar.adasisrael.org/event/kabbalat-chag/
LOCATION:Biran Beit Midrash
ATTACH;FMTTYPE=image/jpeg:https://calendar.adasisrael.org/wp-content/uploads/2023/07/Front-Professional.jpg
END:VEVENT
BEGIN:VEVENT
DTSTART;TZID=America/New_York:20260523T130000
DTEND;TZID=America/New_York:20260523T134500
DTSTAMP:20260421T072120
CREATED:20260414T191317Z
LAST-MODIFIED:20260421T110510Z
UID:10012794-1779541200-1779543900@calendar.adasisrael.org
SUMMARY:Shabbat Mincha Service
DESCRIPTION:
URL:https://calendar.adasisrael.org/event/shabbat-mincha-service-148/
LOCATION:Biran Beit Midrash
CATEGORIES:Shabbat
ATTACH;FMTTYPE=image/jpeg:https://calendar.adasisrael.org/wp-content/uploads/2023/07/Front-Professional.jpg
END:VEVENT
BEGIN:VEVENT
DTSTART;TZID=America/New_York:20260524T090000
DTEND;TZID=America/New_York:20260524T100000
DTSTAMP:20260421T072120
CREATED:20260414T191317Z
LAST-MODIFIED:20260421T110510Z
UID:10012795-1779613200-1779616800@calendar.adasisrael.org
SUMMARY:Morning Minyan
DESCRIPTION:
URL:https://calendar.adasisrael.org/event/morning-minyan-853/
LOCATION:Biran Beit Midrash
CATEGORIES:Daily Minyan
ATTACH;FMTTYPE=image/jpeg:https://calendar.adasisrael.org/wp-content/uploads/2023/07/Front-Professional.jpg
END:VEVENT
BEGIN:VEVENT
DTSTART;TZID=America/New_York:20260525T090000
DTEND;TZID=America/New_York:20260525T103000
DTSTAMP:20260421T072120
CREATED:20260414T191317Z
LAST-MODIFIED:20260421T110510Z
UID:10012797-1779699600-1779705000@calendar.adasisrael.org
SUMMARY:Morning Minyan
DESCRIPTION:
URL:https://calendar.adasisrael.org/event/morning-minyan-854/
LOCATION:Biran Beit Midrash
CATEGORIES:Daily Minyan
ATTACH;FMTTYPE=image/jpeg:https://calendar.adasisrael.org/wp-content/uploads/2023/07/Front-Professional.jpg
END:VEVENT
BEGIN:VEVENT
DTSTART;TZID=America/New_York:20260525T180000
DTEND;TZID=America/New_York:20260525T190000
DTSTAMP:20260421T072120
CREATED:20260414T191317Z
LAST-MODIFIED:20260421T110510Z
UID:10012798-1779732000-1779735600@calendar.adasisrael.org
SUMMARY:Evening Minyan
DESCRIPTION:
URL:https://calendar.adasisrael.org/event/evening-minyan-715/
LOCATION:Biran Beit Midrash
CATEGORIES:Daily Minyan
ATTACH;FMTTYPE=image/jpeg:https://calendar.adasisrael.org/wp-content/uploads/2023/07/Front-Professional.jpg
END:VEVENT
BEGIN:VEVENT
DTSTART;TZID=America/New_York:20260526T073000
DTEND;TZID=America/New_York:20260526T083000
DTSTAMP:20260421T072120
CREATED:20260414T191317Z
LAST-MODIFIED:20260421T110510Z
UID:10012799-1779780600-1779784200@calendar.adasisrael.org
SUMMARY:Morning Minyan
DESCRIPTION:
URL:https://calendar.adasisrael.org/event/morning-minyan-855/
LOCATION:Biran Beit Midrash
CATEGORIES:Daily Minyan
ATTACH;FMTTYPE=image/jpeg:https://calendar.adasisrael.org/wp-content/uploads/2023/07/Front-Professional.jpg
END:VEVENT
BEGIN:VEVENT
DTSTART;TZID=America/New_York:20260526T083000
DTEND;TZID=America/New_York:20260526T090000
DTSTAMP:20260421T072120
CREATED:20260414T191317Z
LAST-MODIFIED:20260421T110510Z
UID:10012800-1779784200-1779786000@calendar.adasisrael.org
SUMMARY:Post Minyan Learning
DESCRIPTION:
URL:https://calendar.adasisrael.org/event/post-minyan-learning-17/
LOCATION:Biran Beit Midrash
ATTACH;FMTTYPE=image/jpeg:https://calendar.adasisrael.org/wp-content/uploads/2023/07/Front-Professional.jpg
END:VEVENT
BEGIN:VEVENT
DTSTART;TZID=America/New_York:20260526T114500
DTEND;TZID=America/New_York:20260526T123000
DTSTAMP:20260421T072120
CREATED:20260414T191317Z
LAST-MODIFIED:20260421T110510Z
UID:10012801-1779795900-1779798600@calendar.adasisrael.org
SUMMARY:Talmud Study: From Cover to Cover
DESCRIPTION:
URL:https://calendar.adasisrael.org/event/talmud-study-from-cover-to-cover-29/
LOCATION:Biran Beit Midrash
ATTACH;FMTTYPE=image/jpeg:https://calendar.adasisrael.org/wp-content/uploads/2023/07/Front-Professional.jpg
END:VEVENT
BEGIN:VEVENT
DTSTART;TZID=America/New_York:20260526T180000
DTEND;TZID=America/New_York:20260526T190000
DTSTAMP:20260421T072120
CREATED:20260414T191318Z
LAST-MODIFIED:20260421T110510Z
UID:10012803-1779818400-1779822000@calendar.adasisrael.org
SUMMARY:Evening Minyan
DESCRIPTION:
URL:https://calendar.adasisrael.org/event/evening-minyan-716/
LOCATION:Biran Beit Midrash
CATEGORIES:Daily Minyan
ATTACH;FMTTYPE=image/jpeg:https://calendar.adasisrael.org/wp-content/uploads/2023/07/Front-Professional.jpg
END:VEVENT
BEGIN:VEVENT
DTSTART;TZID=America/New_York:20260527T073000
DTEND;TZID=America/New_York:20260527T083000
DTSTAMP:20260421T072120
CREATED:20260414T191318Z
LAST-MODIFIED:20260421T110510Z
UID:10012805-1779867000-1779870600@calendar.adasisrael.org
SUMMARY:Morning Minyan
DESCRIPTION:
URL:https://calendar.adasisrael.org/event/morning-minyan-856/
LOCATION:Biran Beit Midrash
CATEGORIES:Daily Minyan
ATTACH;FMTTYPE=image/jpeg:https://calendar.adasisrael.org/wp-content/uploads/2023/07/Front-Professional.jpg
END:VEVENT
BEGIN:VEVENT
DTSTART;TZID=America/New_York:20260527T180000
DTEND;TZID=America/New_York:20260527T190000
DTSTAMP:20260421T072120
CREATED:20260414T191318Z
LAST-MODIFIED:20260421T110510Z
UID:10012807-1779904800-1779908400@calendar.adasisrael.org
SUMMARY:Evening Minyan
DESCRIPTION:
URL:https://calendar.adasisrael.org/event/evening-minyan-717/
LOCATION:Biran Beit Midrash
CATEGORIES:Daily Minyan
ATTACH;FMTTYPE=image/jpeg:https://calendar.adasisrael.org/wp-content/uploads/2023/07/Front-Professional.jpg
END:VEVENT
BEGIN:VEVENT
DTSTART;TZID=America/New_York:20260528T073000
DTEND;TZID=America/New_York:20260528T083000
DTSTAMP:20260421T072120
CREATED:20260414T191318Z
LAST-MODIFIED:20260421T110510Z
UID:10012808-1779953400-1779957000@calendar.adasisrael.org
SUMMARY:Morning Minyan
DESCRIPTION:
URL:https://calendar.adasisrael.org/event/morning-minyan-857/
LOCATION:Biran Beit Midrash
CATEGORIES:Daily Minyan
ATTACH;FMTTYPE=image/jpeg:https://calendar.adasisrael.org/wp-content/uploads/2023/07/Front-Professional.jpg
END:VEVENT
BEGIN:VEVENT
DTSTART;TZID=America/New_York:20260528T180000
DTEND;TZID=America/New_York:20260528T190000
DTSTAMP:20260421T072120
CREATED:20260414T191319Z
LAST-MODIFIED:20260421T110511Z
UID:10012812-1779991200-1779994800@calendar.adasisrael.org
SUMMARY:Evening Minyan
DESCRIPTION:
URL:https://calendar.adasisrael.org/event/evening-minyan-718/
LOCATION:Biran Beit Midrash
CATEGORIES:Daily Minyan
ATTACH;FMTTYPE=image/jpeg:https://calendar.adasisrael.org/wp-content/uploads/2023/07/Front-Professional.jpg
END:VEVENT
BEGIN:VEVENT
DTSTART;TZID=America/New_York:20260529T073000
DTEND;TZID=America/New_York:20260529T083000
DTSTAMP:20260421T072120
CREATED:20260414T191319Z
LAST-MODIFIED:20260421T110511Z
UID:10012813-1780039800-1780043400@calendar.adasisrael.org
SUMMARY:Morning Minyan
DESCRIPTION:
URL:https://calendar.adasisrael.org/event/morning-minyan-858/
LOCATION:Biran Beit Midrash
CATEGORIES:Daily Minyan
ATTACH;FMTTYPE=image/jpeg:https://calendar.adasisrael.org/wp-content/uploads/2023/07/Front-Professional.jpg
END:VEVENT
BEGIN:VEVENT
DTSTART;TZID=America/New_York:20260530T083000
DTEND;TZID=America/New_York:20260530T093000
DTSTAMP:20260421T072120
CREATED:20260414T191319Z
LAST-MODIFIED:20260421T110511Z
UID:10012819-1780129800-1780133400@calendar.adasisrael.org
SUMMARY:Boker Or
DESCRIPTION:
URL:https://calendar.adasisrael.org/event/boker-or-111/
LOCATION:Biran Beit Midrash
CATEGORIES:Shabbat
ATTACH;FMTTYPE=image/jpeg:https://calendar.adasisrael.org/wp-content/uploads/2023/07/Front-Professional.jpg
END:VEVENT
BEGIN:VEVENT
DTSTART;TZID=America/New_York:20260530T130000
DTEND;TZID=America/New_York:20260530T141500
DTSTAMP:20260421T072120
CREATED:20260414T191320Z
LAST-MODIFIED:20260421T110511Z
UID:10012822-1780146000-1780150500@calendar.adasisrael.org
SUMMARY:MakomDC:  Repetition\, Remixed” - Narrative Sequels in Tanakh
DESCRIPTION:
URL:https://calendar.adasisrael.org/event/makomdc-repetition-remixed-narrative-sequels-in-tanakh-3/
LOCATION:Biran Beit Midrash
CATEGORIES:Learn & Engage
ATTACH;FMTTYPE=image/jpeg:https://calendar.adasisrael.org/wp-content/uploads/2023/07/Front-Professional.jpg
END:VEVENT
BEGIN:VEVENT
DTSTART;TZID=America/New_York:20260531T090000
DTEND;TZID=America/New_York:20260531T100000
DTSTAMP:20260421T072120
CREATED:20260414T191320Z
LAST-MODIFIED:20260421T110511Z
UID:10012825-1780218000-1780221600@calendar.adasisrael.org
SUMMARY:Morning Minyan
DESCRIPTION:
URL:https://calendar.adasisrael.org/event/morning-minyan-859/
LOCATION:Biran Beit Midrash
CATEGORIES:Daily Minyan
ATTACH;FMTTYPE=image/jpeg:https://calendar.adasisrael.org/wp-content/uploads/2023/07/Front-Professional.jpg
END:VEVENT
BEGIN:VEVENT
DTSTART;TZID=America/New_York:20260601T073000
DTEND;TZID=America/New_York:20260601T083000
DTSTAMP:20260421T072120
CREATED:20260414T191320Z
LAST-MODIFIED:20260421T110511Z
UID:10012827-1780299000-1780302600@calendar.adasisrael.org
SUMMARY:Morning Minyan
DESCRIPTION:
URL:https://calendar.adasisrael.org/event/morning-minyan-860/
LOCATION:Biran Beit Midrash
CATEGORIES:Daily Minyan
ATTACH;FMTTYPE=image/jpeg:https://calendar.adasisrael.org/wp-content/uploads/2023/07/Front-Professional.jpg
END:VEVENT
BEGIN:VEVENT
DTSTART;TZID=America/New_York:20260601T180000
DTEND;TZID=America/New_York:20260601T190000
DTSTAMP:20260421T072120
CREATED:20260414T191321Z
LAST-MODIFIED:20260421T110511Z
UID:10012829-1780336800-1780340400@calendar.adasisrael.org
SUMMARY:Evening Minyan
DESCRIPTION:
URL:https://calendar.adasisrael.org/event/evening-minyan-720/
LOCATION:Biran Beit Midrash
CATEGORIES:Daily Minyan
ATTACH;FMTTYPE=image/jpeg:https://calendar.adasisrael.org/wp-content/uploads/2023/07/Front-Professional.jpg
END:VEVENT
BEGIN:VEVENT
DTSTART;TZID=America/New_York:20260602T073000
DTEND;TZID=America/New_York:20260602T083000
DTSTAMP:20260421T072120
CREATED:20260414T191321Z
LAST-MODIFIED:20260421T110511Z
UID:10012831-1780385400-1780389000@calendar.adasisrael.org
SUMMARY:Morning Minyan
DESCRIPTION:
URL:https://calendar.adasisrael.org/event/morning-minyan-861/
LOCATION:Biran Beit Midrash
CATEGORIES:Daily Minyan
ATTACH;FMTTYPE=image/jpeg:https://calendar.adasisrael.org/wp-content/uploads/2023/07/Front-Professional.jpg
END:VEVENT
BEGIN:VEVENT
DTSTART;TZID=America/New_York:20260602T083000
DTEND;TZID=America/New_York:20260602T090000
DTSTAMP:20260421T072120
CREATED:20260414T191321Z
LAST-MODIFIED:20260421T110511Z
UID:10012830-1780389000-1780390800@calendar.adasisrael.org
SUMMARY:Post Minyan Learning
DESCRIPTION:
URL:https://calendar.adasisrael.org/event/post-minyan-learning-18/
LOCATION:Biran Beit Midrash
ATTACH;FMTTYPE=image/jpeg:https://calendar.adasisrael.org/wp-content/uploads/2023/07/Front-Professional.jpg
END:VEVENT
END:VCALENDAR