BEGIN:VCALENDAR
VERSION:2.0
PRODID:-//Adas Israel Congregation - ECPv6.2.9//NONSGML v1.0//EN
CALSCALE:GREGORIAN
METHOD:PUBLISH
X-WR-CALNAME:Adas Israel Congregation
X-ORIGINAL-URL:https://calendar.adasisrael.org
X-WR-CALDESC:Events for Adas Israel Congregation
REFRESH-INTERVAL;VALUE=DURATION:PT1H
X-Robots-Tag:noindex
X-PUBLISHED-TTL:PT1H
BEGIN:VTIMEZONE
TZID:America/New_York
BEGIN:DAYLIGHT
TZOFFSETFROM:-0500
TZOFFSETTO:-0400
TZNAME:EDT
DTSTART:20260308T070000
END:DAYLIGHT
BEGIN:STANDARD
TZOFFSETFROM:-0400
TZOFFSETTO:-0500
TZNAME:EST
DTSTART:20261101T060000
END:STANDARD
END:VTIMEZONE
BEGIN:VEVENT
DTSTART;TZID=America/New_York:20260508T170000
DTEND;TZID=America/New_York:20260508T180000
DTSTAMP:20260421T060505
CREATED:20260414T191309Z
LAST-MODIFIED:20260421T100007Z
UID:10012710-1778259600-1778263200@calendar.adasisrael.org
SUMMARY:New Member Reception
DESCRIPTION:
URL:https://calendar.adasisrael.org/event/new-member-reception-6/
LOCATION:Biran Beit Midrash
ATTACH;FMTTYPE=image/jpeg:https://calendar.adasisrael.org/wp-content/uploads/2023/07/Front-Professional.jpg
END:VEVENT
BEGIN:VEVENT
DTSTART;TZID=America/New_York:20260509T083000
DTEND;TZID=America/New_York:20260509T093000
DTSTAMP:20260421T060505
CREATED:20260414T191310Z
LAST-MODIFIED:20260421T100007Z
UID:10012720-1778315400-1778319000@calendar.adasisrael.org
SUMMARY:Boker Or
DESCRIPTION:
URL:https://calendar.adasisrael.org/event/boker-or-109/
LOCATION:Biran Beit Midrash
CATEGORIES:Shabbat
ATTACH;FMTTYPE=image/jpeg:https://calendar.adasisrael.org/wp-content/uploads/2023/07/Front-Professional.jpg
END:VEVENT
BEGIN:VEVENT
DTSTART;TZID=America/New_York:20260510T090000
DTEND;TZID=America/New_York:20260510T100000
DTSTAMP:20260421T060505
CREATED:20260414T191310Z
LAST-MODIFIED:20260421T100007Z
UID:10012722-1778403600-1778407200@calendar.adasisrael.org
SUMMARY:Morning Minyan
DESCRIPTION:
URL:https://calendar.adasisrael.org/event/morning-minyan-842/
LOCATION:Biran Beit Midrash
CATEGORIES:Daily Minyan
ATTACH;FMTTYPE=image/jpeg:https://calendar.adasisrael.org/wp-content/uploads/2023/07/Front-Professional.jpg
END:VEVENT
BEGIN:VEVENT
DTSTART;TZID=America/New_York:20260511T073000
DTEND;TZID=America/New_York:20260511T083000
DTSTAMP:20260421T060505
CREATED:20260414T191310Z
LAST-MODIFIED:20260421T100007Z
UID:10012724-1778484600-1778488200@calendar.adasisrael.org
SUMMARY:Morning Minyan
DESCRIPTION:
URL:https://calendar.adasisrael.org/event/morning-minyan-843/
LOCATION:Biran Beit Midrash
CATEGORIES:Daily Minyan
ATTACH;FMTTYPE=image/jpeg:https://calendar.adasisrael.org/wp-content/uploads/2023/07/Front-Professional.jpg
END:VEVENT
BEGIN:VEVENT
DTSTART;TZID=America/New_York:20260511T180000
DTEND;TZID=America/New_York:20260511T190000
DTSTAMP:20260421T060505
CREATED:20260414T191311Z
LAST-MODIFIED:20260421T100007Z
UID:10012727-1778522400-1778526000@calendar.adasisrael.org
SUMMARY:Evening Minyan
DESCRIPTION:
URL:https://calendar.adasisrael.org/event/evening-minyan-706/
LOCATION:Biran Beit Midrash
CATEGORIES:Daily Minyan
ATTACH;FMTTYPE=image/jpeg:https://calendar.adasisrael.org/wp-content/uploads/2023/07/Front-Professional.jpg
END:VEVENT
BEGIN:VEVENT
DTSTART;TZID=America/New_York:20260512T073000
DTEND;TZID=America/New_York:20260512T083000
DTSTAMP:20260421T060505
CREATED:20260414T191311Z
LAST-MODIFIED:20260421T100007Z
UID:10012728-1778571000-1778574600@calendar.adasisrael.org
SUMMARY:Morning Minyan
DESCRIPTION:
URL:https://calendar.adasisrael.org/event/morning-minyan-844/
LOCATION:Biran Beit Midrash
CATEGORIES:Daily Minyan
ATTACH;FMTTYPE=image/jpeg:https://calendar.adasisrael.org/wp-content/uploads/2023/07/Front-Professional.jpg
END:VEVENT
BEGIN:VEVENT
DTSTART;TZID=America/New_York:20260512T083000
DTEND;TZID=America/New_York:20260512T090000
DTSTAMP:20260421T060505
CREATED:20260414T191311Z
LAST-MODIFIED:20260421T100007Z
UID:10012729-1778574600-1778576400@calendar.adasisrael.org
SUMMARY:Post Minyan Learning
DESCRIPTION:
URL:https://calendar.adasisrael.org/event/post-minyan-learning-15/
LOCATION:Biran Beit Midrash
ATTACH;FMTTYPE=image/jpeg:https://calendar.adasisrael.org/wp-content/uploads/2023/07/Front-Professional.jpg
END:VEVENT
BEGIN:VEVENT
DTSTART;TZID=America/New_York:20260512T114500
DTEND;TZID=America/New_York:20260512T123000
DTSTAMP:20260421T060505
CREATED:20260414T191311Z
LAST-MODIFIED:20260421T100008Z
UID:10012732-1778586300-1778589000@calendar.adasisrael.org
SUMMARY:Talmud Study: From Cover to Cover
DESCRIPTION:
URL:https://calendar.adasisrael.org/event/talmud-study-from-cover-to-cover-27/
LOCATION:Biran Beit Midrash
ATTACH;FMTTYPE=image/jpeg:https://calendar.adasisrael.org/wp-content/uploads/2023/07/Front-Professional.jpg
END:VEVENT
BEGIN:VEVENT
DTSTART;TZID=America/New_York:20260512T180000
DTEND;TZID=America/New_York:20260512T190000
DTSTAMP:20260421T060505
CREATED:20260414T191311Z
LAST-MODIFIED:20260421T100008Z
UID:10012734-1778608800-1778612400@calendar.adasisrael.org
SUMMARY:Evening Minyan
DESCRIPTION:
URL:https://calendar.adasisrael.org/event/evening-minyan-707/
LOCATION:Biran Beit Midrash
CATEGORIES:Daily Minyan
ATTACH;FMTTYPE=image/jpeg:https://calendar.adasisrael.org/wp-content/uploads/2023/07/Front-Professional.jpg
END:VEVENT
BEGIN:VEVENT
DTSTART;TZID=America/New_York:20260513T073000
DTEND;TZID=America/New_York:20260513T083000
DTSTAMP:20260421T060505
CREATED:20260414T191311Z
LAST-MODIFIED:20260421T100008Z
UID:10012735-1778657400-1778661000@calendar.adasisrael.org
SUMMARY:Morning Minyan
DESCRIPTION:
URL:https://calendar.adasisrael.org/event/morning-minyan-845/
LOCATION:Biran Beit Midrash
CATEGORIES:Daily Minyan
ATTACH;FMTTYPE=image/jpeg:https://calendar.adasisrael.org/wp-content/uploads/2023/07/Front-Professional.jpg
END:VEVENT
BEGIN:VEVENT
DTSTART;TZID=America/New_York:20260513T180000
DTEND;TZID=America/New_York:20260513T190000
DTSTAMP:20260421T060505
CREATED:20260414T191312Z
LAST-MODIFIED:20260421T100008Z
UID:10012739-1778695200-1778698800@calendar.adasisrael.org
SUMMARY:Evening Minyan
DESCRIPTION:
URL:https://calendar.adasisrael.org/event/evening-minyan-708/
LOCATION:Biran Beit Midrash
CATEGORIES:Daily Minyan
ATTACH;FMTTYPE=image/jpeg:https://calendar.adasisrael.org/wp-content/uploads/2023/07/Front-Professional.jpg
END:VEVENT
BEGIN:VEVENT
DTSTART;TZID=America/New_York:20260513T193000
DTEND;TZID=America/New_York:20260513T210000
DTSTAMP:20260421T060505
CREATED:20260414T191312Z
LAST-MODIFIED:20260421T100008Z
UID:10012740-1778700600-1778706000@calendar.adasisrael.org
SUMMARY:Intro to Judaism 2.0
DESCRIPTION:
URL:https://calendar.adasisrael.org/event/intro-to-judaism-2-0-4/
LOCATION:Biran Beit Midrash
CATEGORIES:Learn & Engage
ATTACH;FMTTYPE=image/jpeg:https://calendar.adasisrael.org/wp-content/uploads/2023/07/Front-Professional.jpg
END:VEVENT
BEGIN:VEVENT
DTSTART;TZID=America/New_York:20260514T073000
DTEND;TZID=America/New_York:20260514T083000
DTSTAMP:20260421T060505
CREATED:20260414T191312Z
LAST-MODIFIED:20260421T100008Z
UID:10012741-1778743800-1778747400@calendar.adasisrael.org
SUMMARY:Morning Minyan
DESCRIPTION:
URL:https://calendar.adasisrael.org/event/morning-minyan-846/
LOCATION:Biran Beit Midrash
CATEGORIES:Daily Minyan
ATTACH;FMTTYPE=image/jpeg:https://calendar.adasisrael.org/wp-content/uploads/2023/07/Front-Professional.jpg
END:VEVENT
BEGIN:VEVENT
DTSTART;TZID=America/New_York:20260514T180000
DTEND;TZID=America/New_York:20260514T190000
DTSTAMP:20260421T060505
CREATED:20260414T191312Z
LAST-MODIFIED:20260421T100008Z
UID:10012744-1778781600-1778785200@calendar.adasisrael.org
SUMMARY:Evening Minyan
DESCRIPTION:
URL:https://calendar.adasisrael.org/event/evening-minyan-709/
LOCATION:Biran Beit Midrash
CATEGORIES:Daily Minyan
ATTACH;FMTTYPE=image/jpeg:https://calendar.adasisrael.org/wp-content/uploads/2023/07/Front-Professional.jpg
END:VEVENT
BEGIN:VEVENT
DTSTART;TZID=America/New_York:20260515T073000
DTEND;TZID=America/New_York:20260515T083000
DTSTAMP:20260421T060505
CREATED:20260414T191312Z
LAST-MODIFIED:20260421T100008Z
UID:10012745-1778830200-1778833800@calendar.adasisrael.org
SUMMARY:Morning Minyan
DESCRIPTION:
URL:https://calendar.adasisrael.org/event/morning-minyan-847/
LOCATION:Biran Beit Midrash
CATEGORIES:Daily Minyan
ATTACH;FMTTYPE=image/jpeg:https://calendar.adasisrael.org/wp-content/uploads/2023/07/Front-Professional.jpg
END:VEVENT
BEGIN:VEVENT
DTSTART;TZID=America/New_York:20260516T083000
DTEND;TZID=America/New_York:20260516T093000
DTSTAMP:20260421T060505
CREATED:20260414T191313Z
LAST-MODIFIED:20260421T100009Z
UID:10012752-1778920200-1778923800@calendar.adasisrael.org
SUMMARY:Boker Or
DESCRIPTION:
URL:https://calendar.adasisrael.org/event/boker-or-110/
LOCATION:Biran Beit Midrash
CATEGORIES:Shabbat
ATTACH;FMTTYPE=image/jpeg:https://calendar.adasisrael.org/wp-content/uploads/2023/07/Front-Professional.jpg
END:VEVENT
BEGIN:VEVENT
DTSTART;TZID=America/New_York:20260516T130000
DTEND;TZID=America/New_York:20260516T141500
DTSTAMP:20260421T060505
CREATED:20260414T191313Z
LAST-MODIFIED:20260421T100009Z
UID:10012760-1778936400-1778940900@calendar.adasisrael.org
SUMMARY:MakomDC:  Repetition\, Remixed” - Narrative Sequels in Tanakh
DESCRIPTION:
URL:https://calendar.adasisrael.org/event/makomdc-repetition-remixed-narrative-sequels-in-tanakh-2/
LOCATION:Biran Beit Midrash
CATEGORIES:Learn & Engage
ATTACH;FMTTYPE=image/jpeg:https://calendar.adasisrael.org/wp-content/uploads/2023/07/Front-Professional.jpg
END:VEVENT
BEGIN:VEVENT
DTSTART;TZID=America/New_York:20260517T090000
DTEND;TZID=America/New_York:20260517T100000
DTSTAMP:20260421T060505
CREATED:20260414T191313Z
LAST-MODIFIED:20260421T100009Z
UID:10012761-1779008400-1779012000@calendar.adasisrael.org
SUMMARY:Morning Minyan
DESCRIPTION:
URL:https://calendar.adasisrael.org/event/morning-minyan-848/
LOCATION:Biran Beit Midrash
CATEGORIES:Daily Minyan
ATTACH;FMTTYPE=image/jpeg:https://calendar.adasisrael.org/wp-content/uploads/2023/07/Front-Professional.jpg
END:VEVENT
BEGIN:VEVENT
DTSTART;TZID=America/New_York:20260517T130000
DTEND;TZID=America/New_York:20260517T140000
DTSTAMP:20260421T060505
CREATED:20260414T191314Z
LAST-MODIFIED:20260421T100009Z
UID:10012765-1779022800-1779026400@calendar.adasisrael.org
SUMMARY:YP Coffee Chats
DESCRIPTION:
URL:https://calendar.adasisrael.org/event/yp-coffee-chats/
LOCATION:Biran Beit Midrash
ATTACH;FMTTYPE=image/jpeg:https://calendar.adasisrael.org/wp-content/uploads/2023/07/Front-Professional.jpg
END:VEVENT
BEGIN:VEVENT
DTSTART;TZID=America/New_York:20260518T073000
DTEND;TZID=America/New_York:20260518T083000
DTSTAMP:20260421T060505
CREATED:20260414T191314Z
LAST-MODIFIED:20260421T100009Z
UID:10012769-1779089400-1779093000@calendar.adasisrael.org
SUMMARY:Morning Minyan
DESCRIPTION:
URL:https://calendar.adasisrael.org/event/morning-minyan-849/
LOCATION:Biran Beit Midrash
CATEGORIES:Daily Minyan
ATTACH;FMTTYPE=image/jpeg:https://calendar.adasisrael.org/wp-content/uploads/2023/07/Front-Professional.jpg
END:VEVENT
BEGIN:VEVENT
DTSTART;TZID=America/New_York:20260518T180000
DTEND;TZID=America/New_York:20260518T190000
DTSTAMP:20260421T060505
CREATED:20260414T191314Z
LAST-MODIFIED:20260421T100009Z
UID:10012771-1779127200-1779130800@calendar.adasisrael.org
SUMMARY:Evening Minyan
DESCRIPTION:
URL:https://calendar.adasisrael.org/event/evening-minyan-711/
LOCATION:Biran Beit Midrash
CATEGORIES:Daily Minyan
ATTACH;FMTTYPE=image/jpeg:https://calendar.adasisrael.org/wp-content/uploads/2023/07/Front-Professional.jpg
END:VEVENT
BEGIN:VEVENT
DTSTART;TZID=America/New_York:20260519T073000
DTEND;TZID=America/New_York:20260519T083000
DTSTAMP:20260421T060505
CREATED:20260414T191314Z
LAST-MODIFIED:20260421T100009Z
UID:10012773-1779175800-1779179400@calendar.adasisrael.org
SUMMARY:Morning Minyan
DESCRIPTION:
URL:https://calendar.adasisrael.org/event/morning-minyan-850/
LOCATION:Biran Beit Midrash
CATEGORIES:Daily Minyan
ATTACH;FMTTYPE=image/jpeg:https://calendar.adasisrael.org/wp-content/uploads/2023/07/Front-Professional.jpg
END:VEVENT
BEGIN:VEVENT
DTSTART;TZID=America/New_York:20260519T083000
DTEND;TZID=America/New_York:20260519T090000
DTSTAMP:20260421T060505
CREATED:20260414T191314Z
LAST-MODIFIED:20260421T100009Z
UID:10012772-1779179400-1779181200@calendar.adasisrael.org
SUMMARY:Post Minyan Learning
DESCRIPTION:
URL:https://calendar.adasisrael.org/event/post-minyan-learning-16/
LOCATION:Biran Beit Midrash
ATTACH;FMTTYPE=image/jpeg:https://calendar.adasisrael.org/wp-content/uploads/2023/07/Front-Professional.jpg
END:VEVENT
BEGIN:VEVENT
DTSTART;TZID=America/New_York:20260519T114500
DTEND;TZID=America/New_York:20260519T123000
DTSTAMP:20260421T060505
CREATED:20260414T191315Z
LAST-MODIFIED:20260421T100010Z
UID:10012774-1779191100-1779193800@calendar.adasisrael.org
SUMMARY:Talmud Study: From Cover to Cover
DESCRIPTION:
URL:https://calendar.adasisrael.org/event/talmud-study-from-cover-to-cover-28/
LOCATION:Biran Beit Midrash
ATTACH;FMTTYPE=image/jpeg:https://calendar.adasisrael.org/wp-content/uploads/2023/07/Front-Professional.jpg
END:VEVENT
BEGIN:VEVENT
DTSTART;TZID=America/New_York:20260519T180000
DTEND;TZID=America/New_York:20260519T190000
DTSTAMP:20260421T060505
CREATED:20260414T191315Z
LAST-MODIFIED:20260421T100010Z
UID:10012778-1779213600-1779217200@calendar.adasisrael.org
SUMMARY:Evening Minyan
DESCRIPTION:
URL:https://calendar.adasisrael.org/event/evening-minyan-712/
LOCATION:Biran Beit Midrash
CATEGORIES:Daily Minyan
ATTACH;FMTTYPE=image/jpeg:https://calendar.adasisrael.org/wp-content/uploads/2023/07/Front-Professional.jpg
END:VEVENT
BEGIN:VEVENT
DTSTART;TZID=America/New_York:20260519T190000
DTEND;TZID=America/New_York:20260519T200000
DTSTAMP:20260421T060505
CREATED:20260414T191315Z
LAST-MODIFIED:20260421T100010Z
UID:10012777-1779217200-1779220800@calendar.adasisrael.org
SUMMARY:TEM Community Meeting
DESCRIPTION:
URL:https://calendar.adasisrael.org/event/tem-community-meeting/
LOCATION:Biran Beit Midrash
ATTACH;FMTTYPE=image/jpeg:https://calendar.adasisrael.org/wp-content/uploads/2023/07/Front-Professional.jpg
END:VEVENT
BEGIN:VEVENT
DTSTART;TZID=America/New_York:20260520T073000
DTEND;TZID=America/New_York:20260520T083000
DTSTAMP:20260421T060505
CREATED:20260414T191315Z
LAST-MODIFIED:20260421T100010Z
UID:10012780-1779262200-1779265800@calendar.adasisrael.org
SUMMARY:Morning Minyan
DESCRIPTION:
URL:https://calendar.adasisrael.org/event/morning-minyan-851/
LOCATION:Biran Beit Midrash
CATEGORIES:Daily Minyan
ATTACH;FMTTYPE=image/jpeg:https://calendar.adasisrael.org/wp-content/uploads/2023/07/Front-Professional.jpg
END:VEVENT
BEGIN:VEVENT
DTSTART;TZID=America/New_York:20260520T180000
DTEND;TZID=America/New_York:20260520T190000
DTSTAMP:20260421T060505
CREATED:20260414T191315Z
LAST-MODIFIED:20260421T100010Z
UID:10012782-1779300000-1779303600@calendar.adasisrael.org
SUMMARY:Evening Minyan
DESCRIPTION:
URL:https://calendar.adasisrael.org/event/evening-minyan-713/
LOCATION:Biran Beit Midrash
CATEGORIES:Daily Minyan
ATTACH;FMTTYPE=image/jpeg:https://calendar.adasisrael.org/wp-content/uploads/2023/07/Front-Professional.jpg
END:VEVENT
BEGIN:VEVENT
DTSTART;TZID=America/New_York:20260521T073000
DTEND;TZID=America/New_York:20260521T083000
DTSTAMP:20260421T060505
CREATED:20260414T191316Z
LAST-MODIFIED:20260421T100010Z
UID:10012783-1779348600-1779352200@calendar.adasisrael.org
SUMMARY:Morning Minyan
DESCRIPTION:
URL:https://calendar.adasisrael.org/event/morning-minyan-852/
LOCATION:Biran Beit Midrash
CATEGORIES:Daily Minyan
ATTACH;FMTTYPE=image/jpeg:https://calendar.adasisrael.org/wp-content/uploads/2023/07/Front-Professional.jpg
END:VEVENT
BEGIN:VEVENT
DTSTART;TZID=America/New_York:20260522T180000
DTEND;TZID=America/New_York:20260522T190000
DTSTAMP:20260421T060505
CREATED:20260414T191316Z
LAST-MODIFIED:20260421T100010Z
UID:10012788-1779472800-1779476400@calendar.adasisrael.org
SUMMARY:Kabbalat Chag
DESCRIPTION:
URL:https://calendar.adasisrael.org/event/kabbalat-chag/
LOCATION:Biran Beit Midrash
ATTACH;FMTTYPE=image/jpeg:https://calendar.adasisrael.org/wp-content/uploads/2023/07/Front-Professional.jpg
END:VEVENT
END:VCALENDAR