BEGIN:VCALENDAR
VERSION:2.0
PRODID:-//Adas Israel Congregation - ECPv6.2.9//NONSGML v1.0//EN
CALSCALE:GREGORIAN
METHOD:PUBLISH
X-ORIGINAL-URL:https://calendar.adasisrael.org
X-WR-CALDESC:Events for Adas Israel Congregation
REFRESH-INTERVAL;VALUE=DURATION:PT1H
X-Robots-Tag:noindex
X-PUBLISHED-TTL:PT1H
BEGIN:VTIMEZONE
TZID:America/New_York
BEGIN:DAYLIGHT
TZOFFSETFROM:-0500
TZOFFSETTO:-0400
TZNAME:EDT
DTSTART:20250309T070000
END:DAYLIGHT
BEGIN:STANDARD
TZOFFSETFROM:-0400
TZOFFSETTO:-0500
TZNAME:EST
DTSTART:20251102T060000
END:STANDARD
END:VTIMEZONE
BEGIN:VEVENT
DTSTART;TZID=America/New_York:20250716T073000
DTEND;TZID=America/New_York:20250716T090000
DTSTAMP:20260422T234003
CREATED:20250624T215509Z
LAST-MODIFIED:20250716T125502Z
UID:10008445-1752651000-1752656400@calendar.adasisrael.org
SUMMARY:Morning Minyan
DESCRIPTION:Join us in-person or on Zoom: \nSundays and Federal Holidays at 9am\, Zoom Link Here \nMondays-Fridays at 7:30am\, Zoom Link Here \nClick Here For Shacharit Pages
URL:https://calendar.adasisrael.org/event/morning-minyan-608/
LOCATION:Biran Beit Midrash
CATEGORIES:Daily Minyan
ATTACH;FMTTYPE=image/jpeg:https://calendar.adasisrael.org/wp-content/uploads/2023/07/JThomas_20230521_0043-z8y1js.tmp_-scaled.jpg
END:VEVENT
BEGIN:VEVENT
DTSTART;TZID=America/New_York:20250715T180000
DTEND;TZID=America/New_York:20250715T190000
DTSTAMP:20260422T234003
CREATED:20250624T215509Z
LAST-MODIFIED:20250715T215502Z
UID:10008444-1752602400-1752606000@calendar.adasisrael.org
SUMMARY:Evening Minyan
DESCRIPTION:Join In-Person on Mondays\, Tuesdays\, Wednesdays\, Thursdays and via Zoom every day (Sunday-Thursday).Siddur Pages: Mincha\, Maariv
URL:https://calendar.adasisrael.org/event/evening-minyan-509/
LOCATION:Biran Beit Midrash
CATEGORIES:Daily Minyan
ATTACH;FMTTYPE=image/jpeg:https://calendar.adasisrael.org/wp-content/uploads/2024/01/minyanheaderweb-XUfQxy.tmp_.jpg
END:VEVENT
BEGIN:VEVENT
DTSTART;TZID=America/New_York:20250715T073000
DTEND;TZID=America/New_York:20250715T090000
DTSTAMP:20260422T234003
CREATED:20250624T215509Z
LAST-MODIFIED:20250715T125501Z
UID:10008442-1752564600-1752570000@calendar.adasisrael.org
SUMMARY:Morning Minyan
DESCRIPTION:Join us in-person or on Zoom: \nSundays and Federal Holidays at 9am\, Zoom Link Here \nMondays-Fridays at 7:30am\, Zoom Link Here \nClick Here For Shacharit Pages
URL:https://calendar.adasisrael.org/event/morning-minyan-607/
LOCATION:Biran Beit Midrash
CATEGORIES:Daily Minyan
ATTACH;FMTTYPE=image/jpeg:https://calendar.adasisrael.org/wp-content/uploads/2023/07/JThomas_20230521_0043-z8y1js.tmp_-scaled.jpg
END:VEVENT
BEGIN:VEVENT
DTSTART;TZID=America/New_York:20250714T180000
DTEND;TZID=America/New_York:20250714T190000
DTSTAMP:20260422T234003
CREATED:20250624T215509Z
LAST-MODIFIED:20250714T225502Z
UID:10008441-1752516000-1752519600@calendar.adasisrael.org
SUMMARY:Evening Minyan
DESCRIPTION:Join In-Person on Mondays\, Tuesdays\, Wednesdays\, Thursdays and via Zoom every day (Sunday-Thursday).Siddur Pages: Mincha\, Maariv
URL:https://calendar.adasisrael.org/event/evening-minyan-508/
LOCATION:Biran Beit Midrash
CATEGORIES:Daily Minyan
ATTACH;FMTTYPE=image/jpeg:https://calendar.adasisrael.org/wp-content/uploads/2024/01/minyanheaderweb-XUfQxy.tmp_.jpg
END:VEVENT
BEGIN:VEVENT
DTSTART;TZID=America/New_York:20250714T073000
DTEND;TZID=America/New_York:20250714T090000
DTSTAMP:20260422T234003
CREATED:20250624T215509Z
LAST-MODIFIED:20250714T121002Z
UID:10008438-1752478200-1752483600@calendar.adasisrael.org
SUMMARY:Morning Minyan
DESCRIPTION:Join us in-person or on Zoom: \nSundays and Federal Holidays at 9am\, Zoom Link Here \nMondays-Fridays at 7:30am\, Zoom Link Here \nClick Here For Shacharit Pages
URL:https://calendar.adasisrael.org/event/morning-minyan-606/
LOCATION:Biran Beit Midrash
ATTACH;FMTTYPE=image/jpeg:https://calendar.adasisrael.org/wp-content/uploads/2023/07/JThomas_20230521_0043-z8y1js.tmp_-scaled.jpg
END:VEVENT
BEGIN:VEVENT
DTSTART;TZID=America/New_York:20250713T090000
DTEND;TZID=America/New_York:20250713T100000
DTSTAMP:20260422T234003
CREATED:20250624T215508Z
LAST-MODIFIED:20250713T132502Z
UID:10008436-1752397200-1752400800@calendar.adasisrael.org
SUMMARY:Morning Minyan
DESCRIPTION:Join us in-person or on Zoom: \nSundays and Federal Holidays at 9am\, Zoom Link Here \nMondays-Fridays at 7:30am\, Zoom Link Here \nClick Here For Shacharit Pages
URL:https://calendar.adasisrael.org/event/morning-minyan-605/
LOCATION:Biran Beit Midrash
CATEGORIES:Daily Minyan
ATTACH;FMTTYPE=image/jpeg:https://calendar.adasisrael.org/wp-content/uploads/2023/07/JThomas_20230521_0043-z8y1js.tmp_-scaled.jpg
END:VEVENT
BEGIN:VEVENT
DTSTART;TZID=America/New_York:20250712T130000
DTEND;TZID=America/New_York:20250712T134500
DTSTAMP:20260422T234003
CREATED:20250624T215508Z
LAST-MODIFIED:20250712T173502Z
UID:10008435-1752325200-1752327900@calendar.adasisrael.org
SUMMARY:Shabbat Mincha Service
DESCRIPTION:Join us for a Saturday afternoon of prayer and Torah. The content of the mincha prayers reflects the essential goal of menucha (rest) on the Sabbath day.
URL:https://calendar.adasisrael.org/event/shabbat-mincha-service-104/
LOCATION:Biran Beit Midrash
CATEGORIES:Shabbat
ATTACH;FMTTYPE=image/jpeg:https://calendar.adasisrael.org/wp-content/uploads/2023/07/minchaservice600x400-sc8WO8.tmp_.jpg
END:VEVENT
BEGIN:VEVENT
DTSTART;TZID=America/New_York:20250712T093000
DTEND;TZID=America/New_York:20250712T120000
DTSTAMP:20260422T234003
CREATED:20250624T215508Z
LAST-MODIFIED:20250712T145501Z
UID:10008434-1752312600-1752321600@calendar.adasisrael.org
SUMMARY:Shabbat Smith Service
DESCRIPTION:Click Here To Livestream \nLed by our inspiring Rabbis and Cantor\, this service includes a D’var Torah and sermon and often includes participation by members and B’nai Mitzvah. \nShabbat Service Links: \nSiddur Lev Shalem: Kabbalat Shabbat | Click Here to DownloadSiddur Lev Shalem: Shabbat Morning | Click Here to Download
URL:https://calendar.adasisrael.org/event/shabbat-smith-service-96/
LOCATION:Biran Beit Midrash
CATEGORIES:Shabbat
ATTACH;FMTTYPE=image/jpeg:https://calendar.adasisrael.org/wp-content/uploads/2024/03/AdasShabbat-YxiwDc.tmp_.jpg
END:VEVENT
BEGIN:VEVENT
DTSTART;TZID=America/New_York:20250711T180000
DTEND;TZID=America/New_York:20250711T190000
DTSTAMP:20260422T234003
CREATED:20250624T215508Z
LAST-MODIFIED:20250711T224502Z
UID:10008431-1752256800-1752260400@calendar.adasisrael.org
SUMMARY:Kabbalat Shabbat Services
DESCRIPTION:Community Kabbalat Shabbat \nThe tone of this service is traditional\, passionate\, joyful\, and spiritual. We will join together in rousing traditional melodies\, along with moments of depth and quiet contemplation. Our rabbis and other community members will share short divrei Torah (words of Torah). You will leave the service feeling renewed and in time to enjoy a wonderful Shabbat evening.
URL:https://calendar.adasisrael.org/event/kabbalat-shabbat-services-43/
LOCATION:Biran Beit Midrash
CATEGORIES:Shabbat
ATTACH;FMTTYPE=image/jpeg:https://calendar.adasisrael.org/wp-content/uploads/2024/01/253816_orig-kIYbWj.tmp_.jpg
END:VEVENT
BEGIN:VEVENT
DTSTART;TZID=America/New_York:20250711T073000
DTEND;TZID=America/New_York:20250711T090000
DTSTAMP:20260422T234003
CREATED:20250624T215508Z
LAST-MODIFIED:20250711T125002Z
UID:10008428-1752219000-1752224400@calendar.adasisrael.org
SUMMARY:Morning Minyan
DESCRIPTION:Join us in-person or on Zoom: \nSundays and Federal Holidays at 9am\, Zoom Link Here \nMondays-Fridays at 7:30am\, Zoom Link Here \nClick Here For Shacharit Pages
URL:https://calendar.adasisrael.org/event/morning-minyan-604/
LOCATION:Biran Beit Midrash
CATEGORIES:Daily Minyan
ATTACH;FMTTYPE=image/jpeg:https://calendar.adasisrael.org/wp-content/uploads/2023/07/JThomas_20230521_0043-z8y1js.tmp_-scaled.jpg
END:VEVENT
BEGIN:VEVENT
DTSTART;TZID=America/New_York:20250710T180000
DTEND;TZID=America/New_York:20250710T190000
DTSTAMP:20260422T234003
CREATED:20250624T215507Z
LAST-MODIFIED:20250710T215501Z
UID:10008427-1752170400-1752174000@calendar.adasisrael.org
SUMMARY:Evening Minyan
DESCRIPTION:Join In-Person on Mondays\, Tuesdays\, Wednesdays\, Thursdays and via Zoom every day (Sunday-Thursday).Siddur Pages: Mincha\, Maariv
URL:https://calendar.adasisrael.org/event/evening-minyan-506/
LOCATION:Biran Beit Midrash
CATEGORIES:Daily Minyan
ATTACH;FMTTYPE=image/jpeg:https://calendar.adasisrael.org/wp-content/uploads/2024/01/minyanheaderweb-XUfQxy.tmp_.jpg
END:VEVENT
BEGIN:VEVENT
DTSTART;TZID=America/New_York:20250710T073000
DTEND;TZID=America/New_York:20250710T090000
DTSTAMP:20260422T234003
CREATED:20250624T215507Z
LAST-MODIFIED:20250710T125501Z
UID:10008425-1752132600-1752138000@calendar.adasisrael.org
SUMMARY:Morning Minyan
DESCRIPTION:Join us in-person or on Zoom: \nSundays and Federal Holidays at 9am\, Zoom Link Here \nMondays-Fridays at 7:30am\, Zoom Link Here \nClick Here For Shacharit Pages
URL:https://calendar.adasisrael.org/event/morning-minyan-603/
LOCATION:Biran Beit Midrash
CATEGORIES:Daily Minyan
ATTACH;FMTTYPE=image/jpeg:https://calendar.adasisrael.org/wp-content/uploads/2023/07/JThomas_20230521_0043-z8y1js.tmp_-scaled.jpg
END:VEVENT
BEGIN:VEVENT
DTSTART;TZID=America/New_York:20250709T180000
DTEND;TZID=America/New_York:20250709T190000
DTSTAMP:20260422T234003
CREATED:20250624T215507Z
LAST-MODIFIED:20250709T230002Z
UID:10008424-1752084000-1752087600@calendar.adasisrael.org
SUMMARY:Evening Minyan
DESCRIPTION:Join In-Person on Mondays\, Tuesdays\, Wednesdays\, Thursdays and via Zoom every day (Sunday-Thursday).Siddur Pages: Mincha\, Maariv
URL:https://calendar.adasisrael.org/event/evening-minyan-505/
LOCATION:Biran Beit Midrash
CATEGORIES:Daily Minyan
ATTACH;FMTTYPE=image/jpeg:https://calendar.adasisrael.org/wp-content/uploads/2024/01/minyanheaderweb-XUfQxy.tmp_.jpg
END:VEVENT
BEGIN:VEVENT
DTSTART;TZID=America/New_York:20250709T073000
DTEND;TZID=America/New_York:20250709T090000
DTSTAMP:20260422T234003
CREATED:20250624T215507Z
LAST-MODIFIED:20250709T130002Z
UID:10008423-1752046200-1752051600@calendar.adasisrael.org
SUMMARY:Morning Minyan
DESCRIPTION:Join us in-person or on Zoom: \nSundays and Federal Holidays at 9am\, Zoom Link Here \nMondays-Fridays at 7:30am\, Zoom Link Here \nClick Here For Shacharit Pages
URL:https://calendar.adasisrael.org/event/morning-minyan-602/
LOCATION:Biran Beit Midrash
CATEGORIES:Daily Minyan
ATTACH;FMTTYPE=image/jpeg:https://calendar.adasisrael.org/wp-content/uploads/2023/07/JThomas_20230521_0043-z8y1js.tmp_-scaled.jpg
END:VEVENT
BEGIN:VEVENT
DTSTART;TZID=America/New_York:20250708T180000
DTEND;TZID=America/New_York:20250708T190000
DTSTAMP:20260422T234003
CREATED:20250624T215507Z
LAST-MODIFIED:20250708T222502Z
UID:10008421-1751997600-1752001200@calendar.adasisrael.org
SUMMARY:Evening Minyan
DESCRIPTION:Join In-Person on Mondays\, Tuesdays\, Wednesdays\, Thursdays and via Zoom every day (Sunday-Thursday).Siddur Pages: Mincha\, Maariv
URL:https://calendar.adasisrael.org/event/evening-minyan-504/
LOCATION:Biran Beit Midrash
CATEGORIES:Daily Minyan
ATTACH;FMTTYPE=image/jpeg:https://calendar.adasisrael.org/wp-content/uploads/2024/01/minyanheaderweb-XUfQxy.tmp_.jpg
END:VEVENT
BEGIN:VEVENT
DTSTART;TZID=America/New_York:20250708T073000
DTEND;TZID=America/New_York:20250708T090000
DTSTAMP:20260422T234003
CREATED:20250624T215506Z
LAST-MODIFIED:20250708T125502Z
UID:10008419-1751959800-1751965200@calendar.adasisrael.org
SUMMARY:Morning Minyan
DESCRIPTION:Join us in-person or on Zoom: \nSundays and Federal Holidays at 9am\, Zoom Link Here \nMondays-Fridays at 7:30am\, Zoom Link Here \nClick Here For Shacharit Pages
URL:https://calendar.adasisrael.org/event/morning-minyan-601/
LOCATION:Biran Beit Midrash
CATEGORIES:Daily Minyan
ATTACH;FMTTYPE=image/jpeg:https://calendar.adasisrael.org/wp-content/uploads/2023/07/JThomas_20230521_0043-z8y1js.tmp_-scaled.jpg
END:VEVENT
BEGIN:VEVENT
DTSTART;TZID=America/New_York:20250707T180000
DTEND;TZID=America/New_York:20250707T190000
DTSTAMP:20260422T234003
CREATED:20250624T215506Z
LAST-MODIFIED:20250707T224002Z
UID:10008418-1751911200-1751914800@calendar.adasisrael.org
SUMMARY:Evening Minyan
DESCRIPTION:Join In-Person on Mondays\, Tuesdays\, Wednesdays\, Thursdays and via Zoom every day (Sunday-Thursday).Siddur Pages: Mincha\, Maariv
URL:https://calendar.adasisrael.org/event/evening-minyan-503/
LOCATION:Biran Beit Midrash
CATEGORIES:Daily Minyan
ATTACH;FMTTYPE=image/jpeg:https://calendar.adasisrael.org/wp-content/uploads/2024/01/minyanheaderweb-XUfQxy.tmp_.jpg
END:VEVENT
BEGIN:VEVENT
DTSTART;TZID=America/New_York:20250707T073000
DTEND;TZID=America/New_York:20250707T090000
DTSTAMP:20260422T234003
CREATED:20250624T215506Z
LAST-MODIFIED:20250707T125501Z
UID:10008416-1751873400-1751878800@calendar.adasisrael.org
SUMMARY:Morning Minyan
DESCRIPTION:Join us in-person or on Zoom: \nSundays and Federal Holidays at 9am\, Zoom Link Here \nMondays-Fridays at 7:30am\, Zoom Link Here \nClick Here For Shacharit Pages
URL:https://calendar.adasisrael.org/event/morning-minyan-600/
LOCATION:Biran Beit Midrash
CATEGORIES:Daily Minyan
ATTACH;FMTTYPE=image/jpeg:https://calendar.adasisrael.org/wp-content/uploads/2023/07/JThomas_20230521_0043-z8y1js.tmp_-scaled.jpg
END:VEVENT
BEGIN:VEVENT
DTSTART;TZID=America/New_York:20250706T090000
DTEND;TZID=America/New_York:20250706T100000
DTSTAMP:20260422T234003
CREATED:20250624T215506Z
LAST-MODIFIED:20250706T134502Z
UID:10008414-1751792400-1751796000@calendar.adasisrael.org
SUMMARY:Morning Minyan
DESCRIPTION:Join us in-person or on Zoom: \nSundays and Federal Holidays at 9am\, Zoom Link Here \nMondays-Fridays at 7:30am\, Zoom Link Here \nClick Here For Shacharit Pages
URL:https://calendar.adasisrael.org/event/morning-minyan-599/
LOCATION:Biran Beit Midrash
CATEGORIES:Daily Minyan
ATTACH;FMTTYPE=image/jpeg:https://calendar.adasisrael.org/wp-content/uploads/2023/07/JThomas_20230521_0043-z8y1js.tmp_-scaled.jpg
END:VEVENT
BEGIN:VEVENT
DTSTART;TZID=America/New_York:20250705T130000
DTEND;TZID=America/New_York:20250705T134500
DTSTAMP:20260422T234003
CREATED:20250624T215506Z
LAST-MODIFIED:20250705T174002Z
UID:10008411-1751720400-1751723100@calendar.adasisrael.org
SUMMARY:Shabbat Mincha Service
DESCRIPTION:Join us for a Saturday afternoon of prayer and Torah. The content of the mincha prayers reflects the essential goal of menucha (rest) on the Sabbath day.
URL:https://calendar.adasisrael.org/event/shabbat-mincha-service-103/
LOCATION:Biran Beit Midrash
CATEGORIES:Shabbat
ATTACH;FMTTYPE=image/jpeg:https://calendar.adasisrael.org/wp-content/uploads/2023/07/minchaservice600x400-sc8WO8.tmp_.jpg
END:VEVENT
BEGIN:VEVENT
DTSTART;TZID=America/New_York:20250704T180000
DTEND;TZID=America/New_York:20250704T190000
DTSTAMP:20260422T234003
CREATED:20250624T215506Z
LAST-MODIFIED:20250704T221002Z
UID:10008410-1751652000-1751655600@calendar.adasisrael.org
SUMMARY:Kabbalat Shabbat Services
DESCRIPTION:Community Kabbalat Shabbat \nThe tone of this service is traditional\, passionate\, joyful\, and spiritual. We will join together in rousing traditional melodies\, along with moments of depth and quiet contemplation. Our rabbis and other community members will share short divrei Torah (words of Torah). You will leave the service feeling renewed and in time to enjoy a wonderful Shabbat evening.
URL:https://calendar.adasisrael.org/event/kabbalat-shabbat-services-42/
LOCATION:Biran Beit Midrash
CATEGORIES:Shabbat
ATTACH;FMTTYPE=image/jpeg:https://calendar.adasisrael.org/wp-content/uploads/2024/01/253816_orig-kIYbWj.tmp_.jpg
END:VEVENT
BEGIN:VEVENT
DTSTART;TZID=America/New_York:20250704T090000
DTEND;TZID=America/New_York:20250704T103000
DTSTAMP:20260422T234003
CREATED:20250624T215505Z
LAST-MODIFIED:20250704T141001Z
UID:10008409-1751619600-1751625000@calendar.adasisrael.org
SUMMARY:Morning Minyan
DESCRIPTION:Join us in-person or on Zoom: \nSundays and Federal Holidays at 9am\, Zoom Link Here \nMondays-Fridays at 7:30am\, Zoom Link Here \nClick Here For Shacharit Pages
URL:https://calendar.adasisrael.org/event/morning-minyan-598/
LOCATION:Biran Beit Midrash
CATEGORIES:Daily Minyan
ATTACH;FMTTYPE=image/jpeg:https://calendar.adasisrael.org/wp-content/uploads/2023/07/JThomas_20230521_0043-z8y1js.tmp_-scaled.jpg
END:VEVENT
BEGIN:VEVENT
DTSTART;TZID=America/New_York:20250703T180000
DTEND;TZID=America/New_York:20250703T190000
DTSTAMP:20260422T234003
CREATED:20250624T215505Z
LAST-MODIFIED:20250703T222502Z
UID:10008408-1751565600-1751569200@calendar.adasisrael.org
SUMMARY:Evening Minyan
DESCRIPTION:Join In-Person on Mondays\, Tuesdays\, Wednesdays\, Thursdays and via Zoom every day (Sunday-Thursday).Siddur Pages: Mincha\, Maariv
URL:https://calendar.adasisrael.org/event/evening-minyan-501/
LOCATION:Biran Beit Midrash
CATEGORIES:Daily Minyan
ATTACH;FMTTYPE=image/jpeg:https://calendar.adasisrael.org/wp-content/uploads/2024/01/minyanheaderweb-XUfQxy.tmp_.jpg
END:VEVENT
BEGIN:VEVENT
DTSTART;TZID=America/New_York:20250703T073000
DTEND;TZID=America/New_York:20250703T090000
DTSTAMP:20260422T234003
CREATED:20250624T215505Z
LAST-MODIFIED:20250703T120002Z
UID:10008406-1751527800-1751533200@calendar.adasisrael.org
SUMMARY:Morning Minyan
DESCRIPTION:Join us in-person or on Zoom: \nSundays and Federal Holidays at 9am\, Zoom Link Here \nMondays-Fridays at 7:30am\, Zoom Link Here \nClick Here For Shacharit Pages
URL:https://calendar.adasisrael.org/event/morning-minyan-597/
LOCATION:Biran Beit Midrash
CATEGORIES:Daily Minyan
ATTACH;FMTTYPE=image/jpeg:https://calendar.adasisrael.org/wp-content/uploads/2023/07/JThomas_20230521_0043-z8y1js.tmp_-scaled.jpg
END:VEVENT
BEGIN:VEVENT
DTSTART;TZID=America/New_York:20250702T180000
DTEND;TZID=America/New_York:20250702T190000
DTSTAMP:20260422T234003
CREATED:20250624T215505Z
LAST-MODIFIED:20250702T225509Z
UID:10008405-1751479200-1751482800@calendar.adasisrael.org
SUMMARY:Evening Minyan
DESCRIPTION:Join In-Person on Mondays\, Tuesdays\, Wednesdays\, Thursdays and via Zoom every day (Sunday-Thursday).Siddur Pages: Mincha\, Maariv
URL:https://calendar.adasisrael.org/event/evening-minyan-500/
LOCATION:Biran Beit Midrash
CATEGORIES:Daily Minyan
ATTACH;FMTTYPE=image/jpeg:https://calendar.adasisrael.org/wp-content/uploads/2024/01/minyanheaderweb-XUfQxy.tmp_.jpg
END:VEVENT
BEGIN:VEVENT
DTSTART;TZID=America/New_York:20250702T073000
DTEND;TZID=America/New_York:20250702T090000
DTSTAMP:20260422T234003
CREATED:20250624T215505Z
LAST-MODIFIED:20250702T122502Z
UID:10008403-1751441400-1751446800@calendar.adasisrael.org
SUMMARY:Morning Minyan
DESCRIPTION:Join us in-person or on Zoom: \nSundays and Federal Holidays at 9am\, Zoom Link Here \nMondays-Fridays at 7:30am\, Zoom Link Here \nClick Here For Shacharit Pages
URL:https://calendar.adasisrael.org/event/morning-minyan-596/
LOCATION:Biran Beit Midrash
CATEGORIES:Daily Minyan
ATTACH;FMTTYPE=image/jpeg:https://calendar.adasisrael.org/wp-content/uploads/2023/07/JThomas_20230521_0043-z8y1js.tmp_-scaled.jpg
END:VEVENT
BEGIN:VEVENT
DTSTART;TZID=America/New_York:20250701T180000
DTEND;TZID=America/New_York:20250701T190000
DTSTAMP:20260422T234003
CREATED:20250624T215505Z
LAST-MODIFIED:20250701T221002Z
UID:10008402-1751392800-1751396400@calendar.adasisrael.org
SUMMARY:Evening Minyan
DESCRIPTION:Join In-Person on Mondays\, Tuesdays\, Wednesdays\, Thursdays and via Zoom every day (Sunday-Thursday).Siddur Pages: Mincha\, Maariv
URL:https://calendar.adasisrael.org/event/evening-minyan-499/
LOCATION:Biran Beit Midrash
CATEGORIES:Daily Minyan
ATTACH;FMTTYPE=image/jpeg:https://calendar.adasisrael.org/wp-content/uploads/2024/01/minyanheaderweb-XUfQxy.tmp_.jpg
END:VEVENT
BEGIN:VEVENT
DTSTART;TZID=America/New_York:20250701T073000
DTEND;TZID=America/New_York:20250701T090000
DTSTAMP:20260422T234003
CREATED:20250624T215505Z
LAST-MODIFIED:20250701T125506Z
UID:10008400-1751355000-1751360400@calendar.adasisrael.org
SUMMARY:Morning Minyan
DESCRIPTION:Join us in-person or on Zoom: \nSundays and Federal Holidays at 9am\, Zoom Link Here \nMondays-Fridays at 7:30am\, Zoom Link Here \nClick Here For Shacharit Pages
URL:https://calendar.adasisrael.org/event/morning-minyan-595/
LOCATION:Biran Beit Midrash
CATEGORIES:Daily Minyan
ATTACH;FMTTYPE=image/jpeg:https://calendar.adasisrael.org/wp-content/uploads/2023/07/JThomas_20230521_0043-z8y1js.tmp_-scaled.jpg
END:VEVENT
BEGIN:VEVENT
DTSTART;TZID=America/New_York:20250630T180000
DTEND;TZID=America/New_York:20250630T190000
DTSTAMP:20260422T234003
CREATED:20250624T215504Z
LAST-MODIFIED:20250630T225002Z
UID:10008399-1751306400-1751310000@calendar.adasisrael.org
SUMMARY:Evening Minyan
DESCRIPTION:Join In-Person on Mondays\, Tuesdays\, Wednesdays\, Thursdays and via Zoom every day (Sunday-Thursday).Siddur Pages: Mincha\, Maariv
URL:https://calendar.adasisrael.org/event/evening-minyan-498/
LOCATION:Biran Beit Midrash
CATEGORIES:Daily Minyan
ATTACH;FMTTYPE=image/jpeg:https://calendar.adasisrael.org/wp-content/uploads/2024/01/minyanheaderweb-XUfQxy.tmp_.jpg
END:VEVENT
BEGIN:VEVENT
DTSTART;TZID=America/New_York:20250630T073000
DTEND;TZID=America/New_York:20250630T090000
DTSTAMP:20260422T234003
CREATED:20250624T215504Z
LAST-MODIFIED:20250630T125002Z
UID:10008397-1751268600-1751274000@calendar.adasisrael.org
SUMMARY:Morning Minyan
DESCRIPTION:Join us in-person or on Zoom: \nSundays and Federal Holidays at 9am\, Zoom Link Here \nMondays-Fridays at 7:30am\, Zoom Link Here \nClick Here For Shacharit Pages
URL:https://calendar.adasisrael.org/event/morning-minyan-594/
LOCATION:Biran Beit Midrash
CATEGORIES:Daily Minyan
ATTACH;FMTTYPE=image/jpeg:https://calendar.adasisrael.org/wp-content/uploads/2023/07/JThomas_20230521_0043-z8y1js.tmp_-scaled.jpg
END:VEVENT
END:VCALENDAR