BEGIN:VCALENDAR
VERSION:2.0
PRODID:-//Adas Israel Congregation - ECPv6.2.9//NONSGML v1.0//EN
CALSCALE:GREGORIAN
METHOD:PUBLISH
X-ORIGINAL-URL:https://calendar.adasisrael.org
X-WR-CALDESC:Events for Adas Israel Congregation
REFRESH-INTERVAL;VALUE=DURATION:PT1H
X-Robots-Tag:noindex
X-PUBLISHED-TTL:PT1H
BEGIN:VTIMEZONE
TZID:America/New_York
BEGIN:DAYLIGHT
TZOFFSETFROM:-0500
TZOFFSETTO:-0400
TZNAME:EDT
DTSTART:20250309T070000
END:DAYLIGHT
BEGIN:STANDARD
TZOFFSETFROM:-0400
TZOFFSETTO:-0500
TZNAME:EST
DTSTART:20251102T060000
END:STANDARD
END:VTIMEZONE
BEGIN:VEVENT
DTSTART;TZID=America/New_York:20251105T073000
DTEND;TZID=America/New_York:20251105T083000
DTSTAMP:20260422T041205
CREATED:20250806T052516Z
LAST-MODIFIED:20251105T125501Z
UID:10008897-1762327800-1762331400@calendar.adasisrael.org
SUMMARY:Morning Minyan
DESCRIPTION:Join us in-person or on Zoom: \nSundays and Federal Holidays at 9am\, Zoom Link Here \nMondays-Fridays at 7:30am\, Zoom Link Here \nClick Here For Shacharit Pages
URL:https://calendar.adasisrael.org/event/morning-minyan-697/
LOCATION:Biran Beit Midrash
CATEGORIES:Daily Minyan
ATTACH;FMTTYPE=image/jpeg:https://calendar.adasisrael.org/wp-content/uploads/2023/07/JThomas_20230521_0043-z8y1js.tmp_-scaled.jpg
END:VEVENT
BEGIN:VEVENT
DTSTART;TZID=America/New_York:20251104T190000
DTEND;TZID=America/New_York:20251104T203000
DTSTAMP:20260422T041205
CREATED:20250806T052515Z
LAST-MODIFIED:20251105T012511Z
UID:10008896-1762282800-1762288200@calendar.adasisrael.org
SUMMARY:Nurturing the Nest: A Holistic Journey into Parenthood
DESCRIPTION:Nurturing the Nest: A Holistic Journey into Parenthood \nEmbark on a meaningful and empowering journey into parenthood with this four-part series designed for expecting parents to learn and build community with one another. Nurturing the Nest blends tradition\, emotional insight\, practical wisdom\, and financial preparedness to support you in this life-changing transition. Explore Jewish texts and rituals that honor pregnancy\, birth\, and the postpartum experience. Gain tools to support mental and relational health during the early parenting months. Learn about lactation\, feeding options\, and how to build a strong postpartum support system. Finally\, get practical guidance on financial planning for your growing family. Whether this is your first child or you’re growing your family\, this series offers a supportive\, inclusive space for learning and connection. \nTuesday evenings\, 7:30-9:00 PM:  October 28\, November 4\, November 11 and November 18
URL:https://calendar.adasisrael.org/event/nurturing-the-nest-a-holistic-journey-into-parenthood-2/
LOCATION:Biran Beit Midrash
CATEGORIES:Learn & Engage
ATTACH;FMTTYPE=image/jpeg:https://calendar.adasisrael.org/wp-content/uploads/2023/07/Front-Professional.jpg
END:VEVENT
BEGIN:VEVENT
DTSTART;TZID=America/New_York:20251104T180000
DTEND;TZID=America/New_York:20251104T190000
DTSTAMP:20260422T041205
CREATED:20250805T061520Z
LAST-MODIFIED:20251104T230002Z
UID:10008894-1762279200-1762282800@calendar.adasisrael.org
SUMMARY:Evening Minyan
DESCRIPTION:Join In-Person on Mondays\, Tuesdays\, Wednesdays\, Thursdays and via Zoom every day (Sunday-Thursday).Siddur Pages: Mincha\, Maariv
URL:https://calendar.adasisrael.org/event/evening-minyan-584/
LOCATION:Biran Beit Midrash
CATEGORIES:Daily Minyan
ATTACH;FMTTYPE=image/jpeg:https://calendar.adasisrael.org/wp-content/uploads/2024/01/minyanheaderweb-XUfQxy.tmp_.jpg
END:VEVENT
BEGIN:VEVENT
DTSTART;TZID=America/New_York:20251104T114500
DTEND;TZID=America/New_York:20251104T123000
DTSTAMP:20260422T041205
CREATED:20250805T061520Z
LAST-MODIFIED:20251104T172505Z
UID:10008893-1762256700-1762259400@calendar.adasisrael.org
SUMMARY:Talmud Study: From Cover to Cover
DESCRIPTION:From Cover to Cover \nExploring a Tractate of Talmud in its’ original is a deep dive into some of our tradition’s most important legal and narrative ponderings. Participants will engage with the daf (page) through traditional commentaries and guided discussion\, building both skills and confidence in navigating the Talmudic page. The class is designed for those with some prior experience in Talmud study and a desire to move toward independent learning. Over time\, we will make our way through an entire tractate—cover to cover. \nGrab your lunch and join Rabbi Yolkut as we explore the basics of Talmud study. This year we will be studying Tractate Brachot. \nTuesdays (11:45-12:30) (Begins September 2nd)
URL:https://calendar.adasisrael.org/event/talmud-study-from-cover-to-cover-7/
LOCATION:Biran Beit Midrash
ATTACH;FMTTYPE=image/jpeg:https://calendar.adasisrael.org/wp-content/uploads/2023/07/Front-Professional.jpg
END:VEVENT
BEGIN:VEVENT
DTSTART;TZID=America/New_York:20251104T073000
DTEND;TZID=America/New_York:20251104T090000
DTSTAMP:20260422T041205
CREATED:20250805T061519Z
LAST-MODIFIED:20251104T132502Z
UID:10008891-1762241400-1762246800@calendar.adasisrael.org
SUMMARY:Morning Minyan
DESCRIPTION:Join us in-person or on Zoom: \nSundays and Federal Holidays at 9am\, Zoom Link Here \nMondays-Fridays at 7:30am\, Zoom Link Here \nClick Here For Shacharit Pages
URL:https://calendar.adasisrael.org/event/morning-minyan-696/
LOCATION:Biran Beit Midrash
CATEGORIES:Daily Minyan
ATTACH;FMTTYPE=image/jpeg:https://calendar.adasisrael.org/wp-content/uploads/2023/07/JThomas_20230521_0043-z8y1js.tmp_-scaled.jpg
END:VEVENT
BEGIN:VEVENT
DTSTART;TZID=America/New_York:20251103T180000
DTEND;TZID=America/New_York:20251103T190000
DTSTAMP:20260422T041205
CREATED:20250804T055516Z
LAST-MODIFIED:20251103T225500Z
UID:10008890-1762192800-1762196400@calendar.adasisrael.org
SUMMARY:Evening Minyan
DESCRIPTION:Join In-Person on Mondays\, Tuesdays\, Wednesdays\, Thursdays and via Zoom every day (Sunday-Thursday).Siddur Pages: Mincha\, Maariv
URL:https://calendar.adasisrael.org/event/evening-minyan-583/
LOCATION:Biran Beit Midrash
CATEGORIES:Daily Minyan
ATTACH;FMTTYPE=image/jpeg:https://calendar.adasisrael.org/wp-content/uploads/2024/01/minyanheaderweb-XUfQxy.tmp_.jpg
END:VEVENT
BEGIN:VEVENT
DTSTART;TZID=America/New_York:20251103T073000
DTEND;TZID=America/New_York:20251103T090000
DTSTAMP:20260422T041205
CREATED:20250804T055516Z
LAST-MODIFIED:20251103T134001Z
UID:10008888-1762155000-1762160400@calendar.adasisrael.org
SUMMARY:Morning Minyan
DESCRIPTION:Join us in-person or on Zoom: \nSundays and Federal Holidays at 9am\, Zoom Link Here \nMondays-Fridays at 7:30am\, Zoom Link Here \nClick Here For Shacharit Pages
URL:https://calendar.adasisrael.org/event/morning-minyan-695/
LOCATION:Biran Beit Midrash
CATEGORIES:Daily Minyan
ATTACH;FMTTYPE=image/jpeg:https://calendar.adasisrael.org/wp-content/uploads/2023/07/JThomas_20230521_0043-z8y1js.tmp_-scaled.jpg
END:VEVENT
BEGIN:VEVENT
DTSTART;TZID=America/New_York:20251102T090000
DTEND;TZID=America/New_York:20251102T100000
DTSTAMP:20260422T041205
CREATED:20250803T054015Z
LAST-MODIFIED:20251102T141502Z
UID:10008886-1762074000-1762077600@calendar.adasisrael.org
SUMMARY:Morning Minyan
DESCRIPTION:Join us in-person or on Zoom: \nSundays and Federal Holidays at 9am\, Zoom Link Here \nMondays-Fridays at 7:30am\, Zoom Link Here \nClick Here For Shacharit Pages
URL:https://calendar.adasisrael.org/event/morning-minyan-694/
LOCATION:Biran Beit Midrash
CATEGORIES:Daily Minyan
ATTACH;FMTTYPE=image/jpeg:https://calendar.adasisrael.org/wp-content/uploads/2023/07/JThomas_20230521_0043-z8y1js.tmp_-scaled.jpg
END:VEVENT
BEGIN:VEVENT
DTSTART;TZID=America/New_York:20251101T130000
DTEND;TZID=America/New_York:20251101T140000
DTSTAMP:20260422T041205
CREATED:20250819T202019Z
LAST-MODIFIED:20251101T170002Z
UID:10008991-1762002000-1762005600@calendar.adasisrael.org
SUMMARY:MakomDC: Mendelson Family Scholar Series- Matti Friedman
DESCRIPTION:The Mendelson Family Scholar Series: Matti Friedman“Spies of No Country: Espionage\, Double Identity and the Secrets of Israel Past and Present” \nOctober 31\, Friday Night Dinner and DiscussionNov 1st\, Shabbat Afternoon Talk at 1pm\, Biran Beit Midrash \nMatti Friedman is an award-winning journalist and the author of four non-fiction books. His work has appeared in the New York Times\, The Atlantic\, Tablet\, Smithsonian\, and elsewhere\, and he’s currently a columnist for the Free Press. Matti’s most recent book\, Who by Fire: Leonard Cohen in the Sinai\, was published in 2022 in the US\, Canada\, Israel\, and Italy.
URL:https://calendar.adasisrael.org/event/makomdc-mendelson-family-scholar-series-matti-friedman/
LOCATION:Biran Beit Midrash
CATEGORIES:Learn & Engage,Shabbat
ATTACH;FMTTYPE=image/png:https://calendar.adasisrael.org/wp-content/uploads/2025/10/makomcircle253-ehhwUp.png
END:VEVENT
BEGIN:VEVENT
DTSTART;TZID=America/New_York:20251101T083000
DTEND;TZID=America/New_York:20251101T093000
DTSTAMP:20260422T041205
CREATED:20250802T061017Z
LAST-MODIFIED:20251101T130002Z
UID:10008879-1761985800-1761989400@calendar.adasisrael.org
SUMMARY:Boker Or
DESCRIPTION:The Boker Or Torah study group meets Saturday mornings at 8:30 a.m. with the weekly portion as its focus. Join our clergy and community in person each week for an engaging\, text-based conversation on the week’s parsha\, before Shabbat services.
URL:https://calendar.adasisrael.org/event/boker-or-90/
LOCATION:Biran Beit Midrash
CATEGORIES:Shabbat
ATTACH;FMTTYPE=image/jpeg:https://calendar.adasisrael.org/wp-content/uploads/2023/07/makompic21-22-68hj8a.tmp_.jpg
END:VEVENT
BEGIN:VEVENT
DTSTART;TZID=America/New_York:20251031T073000
DTEND;TZID=America/New_York:20251031T090000
DTSTAMP:20260422T041205
CREATED:20250801T052017Z
LAST-MODIFIED:20251031T121002Z
UID:10008873-1761895800-1761901200@calendar.adasisrael.org
SUMMARY:Morning Minyan
DESCRIPTION:Join us in-person or on Zoom: \nSundays and Federal Holidays at 9am\, Zoom Link Here \nMondays-Fridays at 7:30am\, Zoom Link Here \nClick Here For Shacharit Pages
URL:https://calendar.adasisrael.org/event/morning-minyan-692/
LOCATION:Biran Beit Midrash
CATEGORIES:Daily Minyan
ATTACH;FMTTYPE=image/jpeg:https://calendar.adasisrael.org/wp-content/uploads/2023/07/JThomas_20230521_0043-z8y1js.tmp_-scaled.jpg
END:VEVENT
BEGIN:VEVENT
DTSTART;TZID=America/New_York:20251030T180000
DTEND;TZID=America/New_York:20251030T190000
DTSTAMP:20260422T041205
CREATED:20250731T063018Z
LAST-MODIFIED:20251030T222502Z
UID:10008872-1761847200-1761850800@calendar.adasisrael.org
SUMMARY:Evening Minyan
DESCRIPTION:Join In-Person on Mondays\, Tuesdays\, Wednesdays\, Thursdays and via Zoom every day (Sunday-Thursday).Siddur Pages: Mincha\, Maariv
URL:https://calendar.adasisrael.org/event/evening-minyan-581/
LOCATION:Biran Beit Midrash
CATEGORIES:Daily Minyan
ATTACH;FMTTYPE=image/jpeg:https://calendar.adasisrael.org/wp-content/uploads/2024/01/minyanheaderweb-XUfQxy.tmp_.jpg
END:VEVENT
BEGIN:VEVENT
DTSTART;TZID=America/New_York:20251030T073000
DTEND;TZID=America/New_York:20251030T090000
DTSTAMP:20260422T041205
CREATED:20250731T063018Z
LAST-MODIFIED:20251030T121001Z
UID:10008869-1761809400-1761814800@calendar.adasisrael.org
SUMMARY:Morning Minyan
DESCRIPTION:Join us in-person or on Zoom: \nSundays and Federal Holidays at 9am\, Zoom Link Here \nMondays-Fridays at 7:30am\, Zoom Link Here \nClick Here For Shacharit Pages
URL:https://calendar.adasisrael.org/event/morning-minyan-691/
LOCATION:Biran Beit Midrash
CATEGORIES:Daily Minyan
ATTACH;FMTTYPE=image/jpeg:https://calendar.adasisrael.org/wp-content/uploads/2023/07/JThomas_20230521_0043-z8y1js.tmp_-scaled.jpg
END:VEVENT
BEGIN:VEVENT
DTSTART;TZID=America/New_York:20251029T180000
DTEND;TZID=America/New_York:20251029T184000
DTSTAMP:20260422T041205
CREATED:20250730T061520Z
LAST-MODIFIED:20251029T223506Z
UID:10008865-1761760800-1761763200@calendar.adasisrael.org
SUMMARY:Evening Minyan
DESCRIPTION:Join In-Person on Mondays\, Tuesdays\, Wednesdays\, Thursdays and via Zoom every day (Sunday-Thursday).Siddur Pages: Mincha\, Maariv
URL:https://calendar.adasisrael.org/event/evening-minyan-580/
LOCATION:Biran Beit Midrash
CATEGORIES:Daily Minyan
ATTACH;FMTTYPE=image/jpeg:https://calendar.adasisrael.org/wp-content/uploads/2024/01/minyanheaderweb-XUfQxy.tmp_.jpg
END:VEVENT
BEGIN:VEVENT
DTSTART;TZID=America/New_York:20251029T073000
DTEND;TZID=America/New_York:20251029T090000
DTSTAMP:20260422T041205
CREATED:20250730T061520Z
LAST-MODIFIED:20251029T124502Z
UID:10008863-1761723000-1761728400@calendar.adasisrael.org
SUMMARY:Morning Minyan
DESCRIPTION:Join us in-person or on Zoom: \nSundays and Federal Holidays at 9am\, Zoom Link Here \nMondays-Fridays at 7:30am\, Zoom Link Here \nClick Here For Shacharit Pages
URL:https://calendar.adasisrael.org/event/morning-minyan-690/
LOCATION:Biran Beit Midrash
CATEGORIES:Daily Minyan
ATTACH;FMTTYPE=image/jpeg:https://calendar.adasisrael.org/wp-content/uploads/2023/07/JThomas_20230521_0043-z8y1js.tmp_-scaled.jpg
END:VEVENT
BEGIN:VEVENT
DTSTART;TZID=America/New_York:20251028T190000
DTEND;TZID=America/New_York:20251028T203000
DTSTAMP:20260422T041205
CREATED:20250729T060521Z
LAST-MODIFIED:20251028T234002Z
UID:10008862-1761678000-1761683400@calendar.adasisrael.org
SUMMARY:Nurturing the Nest: A Holistic Journey into Parenthood
DESCRIPTION:Nurturing the Nest: A Holistic Journey into Parenthood \nEmbark on a meaningful and empowering journey into parenthood with this four-part series designed for expecting parents to learn and build community with one another. Nurturing the Nest blends tradition\, emotional insight\, practical wisdom\, and financial preparedness to support you in this life-changing transition. Explore Jewish texts and rituals that honor pregnancy\, birth\, and the postpartum experience. Gain tools to support mental and relational health during the early parenting months. Learn about lactation\, feeding options\, and how to build a strong postpartum support system. Finally\, get practical guidance on financial planning for your growing family. Whether this is your first child or you’re growing your family\, this series offers a supportive\, inclusive space for learning and connection. \nTuesday evenings\, 7:30-9:00 PM:  October 28\, November 4\, November 11 and November 18
URL:https://calendar.adasisrael.org/event/nurturing-the-nest-a-holistic-journey-into-parenthood/
LOCATION:Biran Beit Midrash
CATEGORIES:Learn & Engage
ATTACH;FMTTYPE=image/jpeg:https://calendar.adasisrael.org/wp-content/uploads/2023/07/Front-Professional.jpg
END:VEVENT
BEGIN:VEVENT
DTSTART;TZID=America/New_York:20251028T180000
DTEND;TZID=America/New_York:20251028T190000
DTSTAMP:20260422T041205
CREATED:20250729T060520Z
LAST-MODIFIED:20251028T223502Z
UID:10008860-1761674400-1761678000@calendar.adasisrael.org
SUMMARY:Evening Minyan
DESCRIPTION:Join In-Person on Mondays\, Tuesdays\, Wednesdays\, Thursdays and via Zoom every day (Sunday-Thursday).Siddur Pages: Mincha\, Maariv
URL:https://calendar.adasisrael.org/event/evening-minyan-579/
LOCATION:Biran Beit Midrash
CATEGORIES:Daily Minyan
ATTACH;FMTTYPE=image/jpeg:https://calendar.adasisrael.org/wp-content/uploads/2024/01/minyanheaderweb-XUfQxy.tmp_.jpg
END:VEVENT
BEGIN:VEVENT
DTSTART;TZID=America/New_York:20251028T114500
DTEND;TZID=America/New_York:20251028T123000
DTSTAMP:20260422T041205
CREATED:20250729T060520Z
LAST-MODIFIED:20251028T154002Z
UID:10008859-1761651900-1761654600@calendar.adasisrael.org
SUMMARY:Talmud Study: From Cover to Cover
DESCRIPTION:From Cover to Cover \nExploring a Tractate of Talmud in its’ original is a deep dive into some of our tradition’s most important legal and narrative ponderings. Participants will engage with the daf (page) through traditional commentaries and guided discussion\, building both skills and confidence in navigating the Talmudic page. The class is designed for those with some prior experience in Talmud study and a desire to move toward independent learning. Over time\, we will make our way through an entire tractate—cover to cover. \nGrab your lunch and join Rabbi Yolkut as we explore the basics of Talmud study. This year we will be studying Tractate Brachot. \nTuesdays (11:45-12:30) (Begins September 2nd)
URL:https://calendar.adasisrael.org/event/talmud-study-from-cover-to-cover-6/
LOCATION:Biran Beit Midrash
ATTACH;FMTTYPE=image/jpeg:https://calendar.adasisrael.org/wp-content/uploads/2023/07/Front-Professional.jpg
END:VEVENT
BEGIN:VEVENT
DTSTART;TZID=America/New_York:20251028T073000
DTEND;TZID=America/New_York:20251028T090000
DTSTAMP:20260422T041205
CREATED:20250729T060520Z
LAST-MODIFIED:20251028T130002Z
UID:10008857-1761636600-1761642000@calendar.adasisrael.org
SUMMARY:Morning Minyan
DESCRIPTION:Join us in-person or on Zoom: \nSundays and Federal Holidays at 9am\, Zoom Link Here \nMondays-Fridays at 7:30am\, Zoom Link Here \nClick Here For Shacharit Pages
URL:https://calendar.adasisrael.org/event/morning-minyan-689/
LOCATION:Biran Beit Midrash
CATEGORIES:Daily Minyan
ATTACH;FMTTYPE=image/jpeg:https://calendar.adasisrael.org/wp-content/uploads/2023/07/JThomas_20230521_0043-z8y1js.tmp_-scaled.jpg
END:VEVENT
BEGIN:VEVENT
DTSTART;TZID=America/New_York:20251027T180000
DTEND;TZID=America/New_York:20251027T190000
DTSTAMP:20260422T041205
CREATED:20250728T062518Z
LAST-MODIFIED:20251027T223002Z
UID:10008856-1761588000-1761591600@calendar.adasisrael.org
SUMMARY:Evening Minyan
DESCRIPTION:Join In-Person on Mondays\, Tuesdays\, Wednesdays\, Thursdays and via Zoom every day (Sunday-Thursday).Siddur Pages: Mincha\, Maariv
URL:https://calendar.adasisrael.org/event/evening-minyan-578/
LOCATION:Biran Beit Midrash
CATEGORIES:Daily Minyan
ATTACH;FMTTYPE=image/jpeg:https://calendar.adasisrael.org/wp-content/uploads/2024/01/minyanheaderweb-XUfQxy.tmp_.jpg
END:VEVENT
BEGIN:VEVENT
DTSTART;TZID=America/New_York:20251027T073000
DTEND;TZID=America/New_York:20251027T090000
DTSTAMP:20260422T041205
CREATED:20250728T062518Z
LAST-MODIFIED:20251027T122502Z
UID:10008854-1761550200-1761555600@calendar.adasisrael.org
SUMMARY:Morning Minyan
DESCRIPTION:Join us in-person or on Zoom: \nSundays and Federal Holidays at 9am\, Zoom Link Here \nMondays-Fridays at 7:30am\, Zoom Link Here \nClick Here For Shacharit Pages
URL:https://calendar.adasisrael.org/event/morning-minyan-688/
LOCATION:Biran Beit Midrash
CATEGORIES:Daily Minyan
ATTACH;FMTTYPE=image/jpeg:https://calendar.adasisrael.org/wp-content/uploads/2023/07/JThomas_20230521_0043-z8y1js.tmp_-scaled.jpg
END:VEVENT
BEGIN:VEVENT
DTSTART;TZID=America/New_York:20251026T090000
DTEND;TZID=America/New_York:20251026T100000
DTSTAMP:20260422T041205
CREATED:20250727T060518Z
LAST-MODIFIED:20251026T131502Z
UID:10008850-1761469200-1761472800@calendar.adasisrael.org
SUMMARY:Morning Minyan
DESCRIPTION:Join us in-person or on Zoom: \nSundays and Federal Holidays at 9am\, Zoom Link Here \nMondays-Fridays at 7:30am\, Zoom Link Here \nClick Here For Shacharit Pages
URL:https://calendar.adasisrael.org/event/morning-minyan-687/
LOCATION:Biran Beit Midrash
CATEGORIES:Daily Minyan
ATTACH;FMTTYPE=image/jpeg:https://calendar.adasisrael.org/wp-content/uploads/2023/07/JThomas_20230521_0043-z8y1js.tmp_-scaled.jpg
END:VEVENT
BEGIN:VEVENT
DTSTART;TZID=America/New_York:20251025T130000
DTEND;TZID=America/New_York:20251025T134500
DTSTAMP:20260422T041205
CREATED:20250726T061018Z
LAST-MODIFIED:20251025T164001Z
UID:10008849-1761397200-1761399900@calendar.adasisrael.org
SUMMARY:Shabbat Mincha Service
DESCRIPTION:Join us for a Saturday afternoon of prayer and Torah. The content of the mincha prayers reflects the essential goal of menucha (rest) on the Sabbath day.
URL:https://calendar.adasisrael.org/event/shabbat-mincha-service-119/
LOCATION:Biran Beit Midrash
CATEGORIES:Shabbat
ATTACH;FMTTYPE=image/jpeg:https://calendar.adasisrael.org/wp-content/uploads/2023/07/minchaservice600x400-sc8WO8.tmp_.jpg
END:VEVENT
BEGIN:VEVENT
DTSTART;TZID=America/New_York:20251025T083000
DTEND;TZID=America/New_York:20251025T093000
DTSTAMP:20260422T041205
CREATED:20250726T061017Z
LAST-MODIFIED:20251025T125502Z
UID:10008843-1761381000-1761384600@calendar.adasisrael.org
SUMMARY:Boker Or
DESCRIPTION:The Boker Or Torah study group meets Saturday mornings at 8:30 a.m. with the weekly portion as its focus. Join our clergy and community in person each week for an engaging\, text-based conversation on the week’s parsha\, before Shabbat services.
URL:https://calendar.adasisrael.org/event/boker-or-89/
LOCATION:Biran Beit Midrash
CATEGORIES:Shabbat
ATTACH;FMTTYPE=image/jpeg:https://calendar.adasisrael.org/wp-content/uploads/2023/07/makompic21-22-68hj8a.tmp_.jpg
END:VEVENT
BEGIN:VEVENT
DTSTART;TZID=America/New_York:20251024T073000
DTEND;TZID=America/New_York:20251024T090000
DTSTAMP:20260422T041205
CREATED:20250725T070017Z
LAST-MODIFIED:20251024T122501Z
UID:10008832-1761291000-1761296400@calendar.adasisrael.org
SUMMARY:Morning Minyan
DESCRIPTION:Join us in-person or on Zoom: \nSundays and Federal Holidays at 9am\, Zoom Link Here \nMondays-Fridays at 7:30am\, Zoom Link Here \nClick Here For Shacharit Pages
URL:https://calendar.adasisrael.org/event/morning-minyan-686/
LOCATION:Biran Beit Midrash
CATEGORIES:Daily Minyan
ATTACH;FMTTYPE=image/jpeg:https://calendar.adasisrael.org/wp-content/uploads/2023/07/JThomas_20230521_0043-z8y1js.tmp_-scaled.jpg
END:VEVENT
BEGIN:VEVENT
DTSTART;TZID=America/New_York:20251023T180000
DTEND;TZID=America/New_York:20251023T190000
DTSTAMP:20260422T041205
CREATED:20250724T062518Z
LAST-MODIFIED:20251023T215502Z
UID:10008829-1761242400-1761246000@calendar.adasisrael.org
SUMMARY:Evening Minyan
DESCRIPTION:Join In-Person on Mondays\, Tuesdays\, Wednesdays\, Thursdays and via Zoom every day (Sunday-Thursday).Siddur Pages: Mincha\, Maariv
URL:https://calendar.adasisrael.org/event/evening-minyan-576/
LOCATION:Biran Beit Midrash
CATEGORIES:Daily Minyan
ATTACH;FMTTYPE=image/jpeg:https://calendar.adasisrael.org/wp-content/uploads/2024/01/minyanheaderweb-XUfQxy.tmp_.jpg
END:VEVENT
BEGIN:VEVENT
DTSTART;TZID=America/New_York:20251023T073000
DTEND;TZID=America/New_York:20251023T090000
DTSTAMP:20260422T041205
CREATED:20250724T062518Z
LAST-MODIFIED:20251023T115502Z
UID:10008826-1761204600-1761210000@calendar.adasisrael.org
SUMMARY:Morning Minyan
DESCRIPTION:Join us in-person or on Zoom: \nSundays and Federal Holidays at 9am\, Zoom Link Here \nMondays-Fridays at 7:30am\, Zoom Link Here \nClick Here For Shacharit Pages
URL:https://calendar.adasisrael.org/event/morning-minyan-685/
LOCATION:Biran Beit Midrash
CATEGORIES:Daily Minyan
ATTACH;FMTTYPE=image/jpeg:https://calendar.adasisrael.org/wp-content/uploads/2023/07/JThomas_20230521_0043-z8y1js.tmp_-scaled.jpg
END:VEVENT
BEGIN:VEVENT
DTSTART;TZID=America/New_York:20251022T180000
DTEND;TZID=America/New_York:20251022T184000
DTSTAMP:20260422T041205
CREATED:20250723T063020Z
LAST-MODIFIED:20251022T214002Z
UID:10008824-1761156000-1761158400@calendar.adasisrael.org
SUMMARY:Evening Minyan
DESCRIPTION:Join In-Person on Mondays\, Tuesdays\, Wednesdays\, Thursdays and via Zoom every day (Sunday-Thursday).Siddur Pages: Mincha\, Maariv
URL:https://calendar.adasisrael.org/event/evening-minyan-575/
LOCATION:Biran Beit Midrash
CATEGORIES:Daily Minyan
ATTACH;FMTTYPE=image/jpeg:https://calendar.adasisrael.org/wp-content/uploads/2024/01/minyanheaderweb-XUfQxy.tmp_.jpg
END:VEVENT
BEGIN:VEVENT
DTSTART;TZID=America/New_York:20251022T073000
DTEND;TZID=America/New_York:20251022T090000
DTSTAMP:20260422T041205
CREATED:20250723T063019Z
LAST-MODIFIED:20251022T125513Z
UID:10008822-1761118200-1761123600@calendar.adasisrael.org
SUMMARY:Morning Minyan
DESCRIPTION:Join us in-person or on Zoom: \nSundays and Federal Holidays at 9am\, Zoom Link Here \nMondays-Fridays at 7:30am\, Zoom Link Here \nClick Here For Shacharit Pages
URL:https://calendar.adasisrael.org/event/morning-minyan-684/
LOCATION:Biran Beit Midrash
CATEGORIES:Daily Minyan
ATTACH;FMTTYPE=image/jpeg:https://calendar.adasisrael.org/wp-content/uploads/2023/07/JThomas_20230521_0043-z8y1js.tmp_-scaled.jpg
END:VEVENT
BEGIN:VEVENT
DTSTART;TZID=America/New_York:20251021T180000
DTEND;TZID=America/New_York:20251021T190000
DTSTAMP:20260422T041205
CREATED:20250722T061517Z
LAST-MODIFIED:20251021T222502Z
UID:10008819-1761069600-1761073200@calendar.adasisrael.org
SUMMARY:Evening Minyan
DESCRIPTION:Join In-Person on Mondays\, Tuesdays\, Wednesdays\, Thursdays and via Zoom every day (Sunday-Thursday).Siddur Pages: Mincha\, Maariv
URL:https://calendar.adasisrael.org/event/evening-minyan-574/
LOCATION:Biran Beit Midrash
CATEGORIES:Daily Minyan
ATTACH;FMTTYPE=image/jpeg:https://calendar.adasisrael.org/wp-content/uploads/2024/01/minyanheaderweb-XUfQxy.tmp_.jpg
END:VEVENT
END:VCALENDAR