BEGIN:VCALENDAR
VERSION:2.0
PRODID:-//Adas Israel Congregation - ECPv6.2.9//NONSGML v1.0//EN
CALSCALE:GREGORIAN
METHOD:PUBLISH
X-ORIGINAL-URL:https://calendar.adasisrael.org
X-WR-CALDESC:Events for Adas Israel Congregation
REFRESH-INTERVAL;VALUE=DURATION:PT1H
X-Robots-Tag:noindex
X-PUBLISHED-TTL:PT1H
BEGIN:VTIMEZONE
TZID:America/New_York
BEGIN:DAYLIGHT
TZOFFSETFROM:-0500
TZOFFSETTO:-0400
TZNAME:EDT
DTSTART:20250309T070000
END:DAYLIGHT
BEGIN:STANDARD
TZOFFSETFROM:-0400
TZOFFSETTO:-0500
TZNAME:EST
DTSTART:20251102T060000
END:STANDARD
END:VTIMEZONE
BEGIN:VEVENT
DTSTART;TZID=America/New_York:20251122T130000
DTEND;TZID=America/New_York:20251122T134500
DTSTAMP:20260422T011147
CREATED:20250823T054018Z
LAST-MODIFIED:20251122T175502Z
UID:10009020-1763816400-1763819100@calendar.adasisrael.org
SUMMARY:Shabbat Mincha Service
DESCRIPTION:Join us for a Saturday afternoon of prayer and Torah. The content of the mincha prayers reflects the essential goal of menucha (rest) on the Sabbath day.
URL:https://calendar.adasisrael.org/event/shabbat-mincha-service-123/
LOCATION:Biran Beit Midrash
CATEGORIES:Shabbat
ATTACH;FMTTYPE=image/jpeg:https://calendar.adasisrael.org/wp-content/uploads/2023/07/minchaservice600x400-sc8WO8.tmp_.jpg
END:VEVENT
BEGIN:VEVENT
DTSTART;TZID=America/New_York:20251122T083000
DTEND;TZID=America/New_York:20251122T093000
DTSTAMP:20260422T011147
CREATED:20250823T054018Z
LAST-MODIFIED:20251122T141001Z
UID:10009015-1763800200-1763803800@calendar.adasisrael.org
SUMMARY:Boker Or
DESCRIPTION:The Boker Or Torah study group meets Saturday mornings at 8:30 a.m. with the weekly portion as its focus. Join our clergy and community in person each week for an engaging\, text-based conversation on the week’s parsha\, before Shabbat services.
URL:https://calendar.adasisrael.org/event/boker-or-93/
LOCATION:Biran Beit Midrash
CATEGORIES:Shabbat
ATTACH;FMTTYPE=image/jpeg:https://calendar.adasisrael.org/wp-content/uploads/2023/07/makompic21-22-68hj8a.tmp_.jpg
END:VEVENT
BEGIN:VEVENT
DTSTART;TZID=America/New_York:20251121T180000
DTEND;TZID=America/New_York:20251121T190000
DTSTAMP:20260422T011147
CREATED:20250822T055515Z
LAST-MODIFIED:20251121T225502Z
UID:10009014-1763748000-1763751600@calendar.adasisrael.org
SUMMARY:Kabbalat Shabbat Services
DESCRIPTION:Community Kabbalat Shabbat \nThe tone of this service is traditional\, passionate\, joyful\, and spiritual. We will join together in rousing traditional melodies\, along with moments of depth and quiet contemplation. Our rabbis and other community members will share short divrei Torah (words of Torah). You will leave the service feeling renewed and in time to enjoy a wonderful Shabbat evening.
URL:https://calendar.adasisrael.org/event/kabbalat-shabbat-services-55/
LOCATION:Biran Beit Midrash
CATEGORIES:Shabbat
ATTACH;FMTTYPE=image/jpeg:https://calendar.adasisrael.org/wp-content/uploads/2024/01/253816_orig-kIYbWj.tmp_.jpg
END:VEVENT
BEGIN:VEVENT
DTSTART;TZID=America/New_York:20251121T083000
DTEND;TZID=America/New_York:20251121T093000
DTSTAMP:20260422T011147
CREATED:20251031T195217Z
LAST-MODIFIED:20251121T141001Z
UID:10009458-1763713800-1763717400@calendar.adasisrael.org
SUMMARY:Post Morning Minyan Discussion with Dr. Brigadier General (Ret.) Jonatan (Yoni) Shimshoni
DESCRIPTION:Post Morning Minyan Speaker and Breakfast: Friday Morning\, November 21 at 8:30am \nDr. Brigadier General (Ret.) Jonatan (Yoni) Shimshoni served for 25 years in the IDF in field command and staff positions\, and continued for many years in the reserves\, working on doctrine and technology policy. He earned his PhD in national security policy from the public policy school at Princeton. He is currently on the leadership team of Commanders for Israel’s Security\, a group of some 550 former senior leaders in Israel’s military\, security\, and diplomatic services that analyzes and advocates on issues of national security.
URL:https://calendar.adasisrael.org/event/post-morning-minyan-discussion-with-dr-brigadier-general-ret-jonatan-yoni-shimshoni/
LOCATION:Biran Beit Midrash
CATEGORIES:Learn & Engage
ATTACH;FMTTYPE=image/jpeg:https://calendar.adasisrael.org/wp-content/uploads/2023/07/Front-Professional.jpg
END:VEVENT
BEGIN:VEVENT
DTSTART;TZID=America/New_York:20251121T073000
DTEND;TZID=America/New_York:20251121T083000
DTSTAMP:20260422T011147
CREATED:20250822T055515Z
LAST-MODIFIED:20251121T125501Z
UID:10009010-1763710200-1763713800@calendar.adasisrael.org
SUMMARY:Morning Minyan
DESCRIPTION:Join us in-person or on Zoom: \nSundays and Federal Holidays at 9am\, Zoom Link Here \nMondays-Fridays at 7:30am\, Zoom Link Here \nClick Here For Shacharit Pages
URL:https://calendar.adasisrael.org/event/morning-minyan-711/
LOCATION:Biran Beit Midrash
CATEGORIES:Daily Minyan
ATTACH;FMTTYPE=image/jpeg:https://calendar.adasisrael.org/wp-content/uploads/2023/07/JThomas_20230521_0043-z8y1js.tmp_-scaled.jpg
END:VEVENT
BEGIN:VEVENT
DTSTART;TZID=America/New_York:20251120T180000
DTEND;TZID=America/New_York:20251120T190000
DTSTAMP:20260422T011147
CREATED:20250821T054020Z
LAST-MODIFIED:20251120T234002Z
UID:10009009-1763661600-1763665200@calendar.adasisrael.org
SUMMARY:Evening Minyan
DESCRIPTION:Join In-Person on Mondays\, Tuesdays\, Wednesdays\, Thursdays and via Zoom every day (Sunday-Thursday).Siddur Pages: Mincha\, Maariv \nThanksgiving Schedule: Wednesday\, Nov 26 & Thursday\, Nov 27: Evening Minyan on Zoom ONLY
URL:https://calendar.adasisrael.org/event/evening-minyan-596/
LOCATION:Biran Beit Midrash
CATEGORIES:Daily Minyan
ATTACH;FMTTYPE=image/jpeg:https://calendar.adasisrael.org/wp-content/uploads/2024/01/minyanheaderweb-XUfQxy.tmp_.jpg
END:VEVENT
BEGIN:VEVENT
DTSTART;TZID=America/New_York:20251120T073000
DTEND;TZID=America/New_York:20251120T090000
DTSTAMP:20260422T011147
CREATED:20250821T054020Z
LAST-MODIFIED:20251120T134002Z
UID:10009006-1763623800-1763629200@calendar.adasisrael.org
SUMMARY:Morning Minyan
DESCRIPTION:Join us in-person or on Zoom: \nSundays and Federal Holidays at 9am\, Zoom Link Here \nMondays-Fridays at 7:30am\, Zoom Link Here \nClick Here For Shacharit Pages
URL:https://calendar.adasisrael.org/event/morning-minyan-710/
LOCATION:Biran Beit Midrash
CATEGORIES:Daily Minyan
ATTACH;FMTTYPE=image/jpeg:https://calendar.adasisrael.org/wp-content/uploads/2023/07/JThomas_20230521_0043-z8y1js.tmp_-scaled.jpg
END:VEVENT
BEGIN:VEVENT
DTSTART;TZID=America/New_York:20251119T180000
DTEND;TZID=America/New_York:20251119T184000
DTSTAMP:20260422T011147
CREATED:20250820T075517Z
LAST-MODIFIED:20251119T225501Z
UID:10009002-1763575200-1763577600@calendar.adasisrael.org
SUMMARY:Evening Minyan
DESCRIPTION:Join In-Person on Mondays\, Tuesdays\, Wednesdays\, Thursdays and via Zoom every day (Sunday-Thursday).Siddur Pages: Mincha\, Maariv \nThanksgiving Schedule: Wednesday\, Nov 26 & Thursday\, Nov 27: Evening Minyan on Zoom ONLY
URL:https://calendar.adasisrael.org/event/evening-minyan-595/
LOCATION:Biran Beit Midrash
CATEGORIES:Daily Minyan
ATTACH;FMTTYPE=image/jpeg:https://calendar.adasisrael.org/wp-content/uploads/2024/01/minyanheaderweb-XUfQxy.tmp_.jpg
END:VEVENT
BEGIN:VEVENT
DTSTART;TZID=America/New_York:20251119T073000
DTEND;TZID=America/New_York:20251119T090000
DTSTAMP:20260422T011147
CREATED:20250820T075517Z
LAST-MODIFIED:20251119T135508Z
UID:10009000-1763537400-1763542800@calendar.adasisrael.org
SUMMARY:Morning Minyan
DESCRIPTION:Join us in-person or on Zoom: \nSundays and Federal Holidays at 9am\, Zoom Link Here \nMondays-Fridays at 7:30am\, Zoom Link Here \nClick Here For Shacharit Pages
URL:https://calendar.adasisrael.org/event/morning-minyan-709/
LOCATION:Biran Beit Midrash
CATEGORIES:Daily Minyan
ATTACH;FMTTYPE=image/jpeg:https://calendar.adasisrael.org/wp-content/uploads/2023/07/JThomas_20230521_0043-z8y1js.tmp_-scaled.jpg
END:VEVENT
BEGIN:VEVENT
DTSTART;TZID=America/New_York:20251118T190000
DTEND;TZID=America/New_York:20251118T203000
DTSTAMP:20260422T011147
CREATED:20250820T075516Z
LAST-MODIFIED:20251119T011001Z
UID:10008999-1763492400-1763497800@calendar.adasisrael.org
SUMMARY:Nurturing the Nest: A Holistic Journey into Parenthood
DESCRIPTION:Nurturing the Nest: A Holistic Journey into Parenthood \nEmbark on a meaningful and empowering journey into parenthood with this four-part series designed for expecting parents to learn and build community with one another. Nurturing the Nest blends tradition\, emotional insight\, practical wisdom\, and financial preparedness to support you in this life-changing transition. Explore Jewish texts and rituals that honor pregnancy\, birth\, and the postpartum experience. Gain tools to support mental and relational health during the early parenting months. Learn about lactation\, feeding options\, and how to build a strong postpartum support system. Finally\, get practical guidance on financial planning for your growing family. Whether this is your first child or you’re growing your family\, this series offers a supportive\, inclusive space for learning and connection. \nTuesday evenings\, 7:30-9:00 PM:  October 28\, November 4\, November 11 and November 18
URL:https://calendar.adasisrael.org/event/nurturing-the-nest-a-holistic-journey-into-parenthood-4/
LOCATION:Biran Beit Midrash
CATEGORIES:Learn & Engage
ATTACH;FMTTYPE=image/jpeg:https://calendar.adasisrael.org/wp-content/uploads/2023/07/Front-Professional.jpg
END:VEVENT
BEGIN:VEVENT
DTSTART;TZID=America/New_York:20251118T180000
DTEND;TZID=America/New_York:20251118T190000
DTSTAMP:20260422T011147
CREATED:20250819T055518Z
LAST-MODIFIED:20251118T235512Z
UID:10008989-1763488800-1763492400@calendar.adasisrael.org
SUMMARY:Evening Minyan
DESCRIPTION:Join In-Person on Mondays\, Tuesdays\, Wednesdays\, Thursdays and via Zoom every day (Sunday-Thursday).Siddur Pages: Mincha\, Maariv \nThanksgiving Schedule: Wednesday\, Nov 26 & Thursday\, Nov 27: Evening Minyan on Zoom ONLY
URL:https://calendar.adasisrael.org/event/evening-minyan-594/
LOCATION:Biran Beit Midrash
CATEGORIES:Daily Minyan
ATTACH;FMTTYPE=image/jpeg:https://calendar.adasisrael.org/wp-content/uploads/2024/01/minyanheaderweb-XUfQxy.tmp_.jpg
END:VEVENT
BEGIN:VEVENT
DTSTART;TZID=America/New_York:20251118T114500
DTEND;TZID=America/New_York:20251118T123000
DTSTAMP:20260422T011147
CREATED:20250819T055518Z
LAST-MODIFIED:20251118T163002Z
UID:10008988-1763466300-1763469000@calendar.adasisrael.org
SUMMARY:Talmud Study: From Cover to Cover
DESCRIPTION:From Cover to Cover \nExploring a Tractate of Talmud in its’ original is a deep dive into some of our tradition’s most important legal and narrative ponderings. Participants will engage with the daf (page) through traditional commentaries and guided discussion\, building both skills and confidence in navigating the Talmudic page. The class is designed for those with some prior experience in Talmud study and a desire to move toward independent learning. Over time\, we will make our way through an entire tractate—cover to cover. \nGrab your lunch and join Rabbi Yolkut as we explore the basics of Talmud study. This year we will be studying Tractate Brachot. \nTuesdays (11:45-12:30) (Begins September 2nd)
URL:https://calendar.adasisrael.org/event/talmud-study-from-cover-to-cover-9/
LOCATION:Biran Beit Midrash
ATTACH;FMTTYPE=image/jpeg:https://calendar.adasisrael.org/wp-content/uploads/2023/07/Front-Professional.jpg
END:VEVENT
BEGIN:VEVENT
DTSTART;TZID=America/New_York:20251118T073000
DTEND;TZID=America/New_York:20251118T090000
DTSTAMP:20260422T011147
CREATED:20250819T055518Z
LAST-MODIFIED:20251118T135513Z
UID:10008985-1763451000-1763456400@calendar.adasisrael.org
SUMMARY:Morning Minyan
DESCRIPTION:Join us in-person or on Zoom: \nSundays and Federal Holidays at 9am\, Zoom Link Here \nMondays-Fridays at 7:30am\, Zoom Link Here \nClick Here For Shacharit Pages
URL:https://calendar.adasisrael.org/event/morning-minyan-708/
LOCATION:Biran Beit Midrash
CATEGORIES:Daily Minyan
ATTACH;FMTTYPE=image/jpeg:https://calendar.adasisrael.org/wp-content/uploads/2023/07/JThomas_20230521_0043-z8y1js.tmp_-scaled.jpg
END:VEVENT
BEGIN:VEVENT
DTSTART;TZID=America/New_York:20251117T180000
DTEND;TZID=America/New_York:20251117T190000
DTSTAMP:20260422T011147
CREATED:20250818T062018Z
LAST-MODIFIED:20251117T232502Z
UID:10008983-1763402400-1763406000@calendar.adasisrael.org
SUMMARY:Evening Minyan
DESCRIPTION:Join In-Person on Mondays\, Tuesdays\, Wednesdays\, Thursdays and via Zoom every day (Sunday-Thursday).Siddur Pages: Mincha\, Maariv \nThanksgiving Schedule: Wednesday\, Nov 26 & Thursday\, Nov 27: Evening Minyan on Zoom ONLY
URL:https://calendar.adasisrael.org/event/evening-minyan-593/
LOCATION:Biran Beit Midrash
CATEGORIES:Daily Minyan
ATTACH;FMTTYPE=image/jpeg:https://calendar.adasisrael.org/wp-content/uploads/2024/01/minyanheaderweb-XUfQxy.tmp_.jpg
END:VEVENT
BEGIN:VEVENT
DTSTART;TZID=America/New_York:20251117T073000
DTEND;TZID=America/New_York:20251117T090000
DTSTAMP:20260422T011147
CREATED:20250818T062018Z
LAST-MODIFIED:20251117T132002Z
UID:10008981-1763364600-1763370000@calendar.adasisrael.org
SUMMARY:Morning Minyan
DESCRIPTION:Join us in-person or on Zoom: \nSundays and Federal Holidays at 9am\, Zoom Link Here \nMondays-Fridays at 7:30am\, Zoom Link Here \nClick Here For Shacharit Pages
URL:https://calendar.adasisrael.org/event/morning-minyan-707/
LOCATION:Biran Beit Midrash
CATEGORIES:Daily Minyan
ATTACH;FMTTYPE=image/jpeg:https://calendar.adasisrael.org/wp-content/uploads/2023/07/JThomas_20230521_0043-z8y1js.tmp_-scaled.jpg
END:VEVENT
BEGIN:VEVENT
DTSTART;TZID=America/New_York:20251116T090000
DTEND;TZID=America/New_York:20251116T100000
DTSTAMP:20260422T011147
CREATED:20250817T052517Z
LAST-MODIFIED:20251116T144002Z
UID:10008978-1763283600-1763287200@calendar.adasisrael.org
SUMMARY:Morning Minyan
DESCRIPTION:Join us in-person or on Zoom: \nSundays and Federal Holidays at 9am\, Zoom Link Here \nMondays-Fridays at 7:30am\, Zoom Link Here \nClick Here For Shacharit Pages
URL:https://calendar.adasisrael.org/event/morning-minyan-706/
LOCATION:Biran Beit Midrash
CATEGORIES:Daily Minyan
ATTACH;FMTTYPE=image/jpeg:https://calendar.adasisrael.org/wp-content/uploads/2023/07/JThomas_20230521_0043-z8y1js.tmp_-scaled.jpg
END:VEVENT
BEGIN:VEVENT
DTSTART;TZID=America/New_York:20251115T130000
DTEND;TZID=America/New_York:20251115T140000
DTSTAMP:20260422T011147
CREATED:20250819T202023Z
LAST-MODIFIED:20251115T182502Z
UID:10008992-1763211600-1763215200@calendar.adasisrael.org
SUMMARY:MakomDC- One Midrash\, Many Paths with Rabbi Lauren Holtzblatt
DESCRIPTION:“One Midrash\, Many Paths” \nShabbat afternoons Nov 15\, Jan 31\, March 7 \nIn this class we will explore aggadic midrashim from the 2nd-5th centuries and then journey with them throughout many hundreds of years into the text of the Zohar and the commentaries written by Hasidic masters.  We will explore how a midrash was originally expounded from the p’shat of the Torah and then used many years later by the mystical sages to expand\, refute or create new theological\, textual\, or psychological understandings of our tradition.
URL:https://calendar.adasisrael.org/event/makomdc-one-midrash-many-paths-with-rabbi-lauren-holtzblatt/
LOCATION:Biran Beit Midrash
CATEGORIES:Learn & Engage,Shabbat
ATTACH;FMTTYPE=image/png:https://calendar.adasisrael.org/wp-content/uploads/2024/12/lauren-acZNcu.tmp_.png
END:VEVENT
BEGIN:VEVENT
DTSTART;TZID=America/New_York:20251115T083000
DTEND;TZID=America/New_York:20251115T093000
DTSTAMP:20260422T011147
CREATED:20250816T055519Z
LAST-MODIFIED:20251115T132502Z
UID:10008967-1763195400-1763199000@calendar.adasisrael.org
SUMMARY:Boker Or
DESCRIPTION:The Boker Or Torah study group meets Saturday mornings at 8:30 a.m. with the weekly portion as its focus. Join our clergy and community in person each week for an engaging\, text-based conversation on the week’s parsha\, before Shabbat services.
URL:https://calendar.adasisrael.org/event/boker-or-92/
LOCATION:Biran Beit Midrash
CATEGORIES:Shabbat
ATTACH;FMTTYPE=image/jpeg:https://calendar.adasisrael.org/wp-content/uploads/2023/07/makompic21-22-68hj8a.tmp_.jpg
END:VEVENT
BEGIN:VEVENT
DTSTART;TZID=America/New_York:20251114T173000
DTEND;TZID=America/New_York:20251114T183000
DTSTAMP:20260422T011147
CREATED:20250815T054019Z
LAST-MODIFIED:20251114T231002Z
UID:10008957-1763141400-1763145000@calendar.adasisrael.org
SUMMARY:YP Happy Hour
DESCRIPTION:Register
URL:https://calendar.adasisrael.org/event/yp-happy-hour-13/
LOCATION:Biran Beit Midrash
CATEGORIES:Shabbat
ATTACH;FMTTYPE=image/jpeg:https://calendar.adasisrael.org/wp-content/uploads/2023/07/Front-Professional.jpg
END:VEVENT
BEGIN:VEVENT
DTSTART;TZID=America/New_York:20251114T073000
DTEND;TZID=America/New_York:20251114T090000
DTSTAMP:20260422T011147
CREATED:20250815T054019Z
LAST-MODIFIED:20251114T130002Z
UID:10008952-1763105400-1763110800@calendar.adasisrael.org
SUMMARY:Morning Minyan
DESCRIPTION:Join us in-person or on Zoom: \nSundays and Federal Holidays at 9am\, Zoom Link Here \nMondays-Fridays at 7:30am\, Zoom Link Here \nClick Here For Shacharit Pages
URL:https://calendar.adasisrael.org/event/morning-minyan-705/
LOCATION:Biran Beit Midrash
CATEGORIES:Daily Minyan
ATTACH;FMTTYPE=image/jpeg:https://calendar.adasisrael.org/wp-content/uploads/2023/07/JThomas_20230521_0043-z8y1js.tmp_-scaled.jpg
END:VEVENT
BEGIN:VEVENT
DTSTART;TZID=America/New_York:20251113T180000
DTEND;TZID=America/New_York:20251113T190000
DTSTAMP:20260422T011147
CREATED:20250814T061019Z
LAST-MODIFIED:20251113T225502Z
UID:10008948-1763056800-1763060400@calendar.adasisrael.org
SUMMARY:Evening Minyan
DESCRIPTION:Join In-Person on Mondays\, Tuesdays\, Wednesdays\, Thursdays and via Zoom every day (Sunday-Thursday).Siddur Pages: Mincha\, Maariv \nThanksgiving Schedule: Wednesday\, Nov 26 & Thursday\, Nov 27: Evening Minyan on Zoom ONLY
URL:https://calendar.adasisrael.org/event/evening-minyan-591/
LOCATION:Biran Beit Midrash
CATEGORIES:Daily Minyan
ATTACH;FMTTYPE=image/jpeg:https://calendar.adasisrael.org/wp-content/uploads/2024/01/minyanheaderweb-XUfQxy.tmp_.jpg
END:VEVENT
BEGIN:VEVENT
DTSTART;TZID=America/New_York:20251113T073000
DTEND;TZID=America/New_York:20251113T090000
DTSTAMP:20260422T011147
CREATED:20250814T061019Z
LAST-MODIFIED:20251113T135511Z
UID:10008945-1763019000-1763024400@calendar.adasisrael.org
SUMMARY:Morning Minyan
DESCRIPTION:Join us in-person or on Zoom: \nSundays and Federal Holidays at 9am\, Zoom Link Here \nMondays-Fridays at 7:30am\, Zoom Link Here \nClick Here For Shacharit Pages
URL:https://calendar.adasisrael.org/event/morning-minyan-704/
LOCATION:Biran Beit Midrash
CATEGORIES:Daily Minyan
ATTACH;FMTTYPE=image/jpeg:https://calendar.adasisrael.org/wp-content/uploads/2023/07/JThomas_20230521_0043-z8y1js.tmp_-scaled.jpg
END:VEVENT
BEGIN:VEVENT
DTSTART;TZID=America/New_York:20251112T193000
DTEND;TZID=America/New_York:20251112T210000
DTSTAMP:20260422T011147
CREATED:20250814T061019Z
LAST-MODIFIED:20251113T015512Z
UID:10008944-1762975800-1762981200@calendar.adasisrael.org
SUMMARY:Intro to Judaism 2.0
DESCRIPTION:
URL:https://calendar.adasisrael.org/event/intro-to-judaism-2-0/
LOCATION:Biran Beit Midrash
CATEGORIES:Learn & Engage
ATTACH;FMTTYPE=image/jpeg:https://calendar.adasisrael.org/wp-content/uploads/2023/07/Front-Professional.jpg
END:VEVENT
BEGIN:VEVENT
DTSTART;TZID=America/New_York:20251112T180000
DTEND;TZID=America/New_York:20251112T190000
DTSTAMP:20260422T011147
CREATED:20250813T054018Z
LAST-MODIFIED:20251112T231002Z
UID:10008942-1762970400-1762974000@calendar.adasisrael.org
SUMMARY:Evening Minyan
DESCRIPTION:Join In-Person on Mondays\, Tuesdays\, Wednesdays\, Thursdays and via Zoom every day (Sunday-Thursday).Siddur Pages: Mincha\, Maariv \nThanksgiving Schedule: Wednesday\, Nov 26 & Thursday\, Nov 27: Evening Minyan on Zoom ONLY
URL:https://calendar.adasisrael.org/event/evening-minyan-590/
LOCATION:Biran Beit Midrash
CATEGORIES:Daily Minyan
ATTACH;FMTTYPE=image/jpeg:https://calendar.adasisrael.org/wp-content/uploads/2024/01/minyanheaderweb-XUfQxy.tmp_.jpg
END:VEVENT
BEGIN:VEVENT
DTSTART;TZID=America/New_York:20251112T073000
DTEND;TZID=America/New_York:20251112T090000
DTSTAMP:20260422T011147
CREATED:20250813T054017Z
LAST-MODIFIED:20251112T125502Z
UID:10008940-1762932600-1762938000@calendar.adasisrael.org
SUMMARY:Morning Minyan
DESCRIPTION:Join us in-person or on Zoom: \nSundays and Federal Holidays at 9am\, Zoom Link Here \nMondays-Fridays at 7:30am\, Zoom Link Here \nClick Here For Shacharit Pages
URL:https://calendar.adasisrael.org/event/morning-minyan-703/
LOCATION:Biran Beit Midrash
CATEGORIES:Daily Minyan
ATTACH;FMTTYPE=image/jpeg:https://calendar.adasisrael.org/wp-content/uploads/2023/07/JThomas_20230521_0043-z8y1js.tmp_-scaled.jpg
END:VEVENT
BEGIN:VEVENT
DTSTART;TZID=America/New_York:20251111T190000
DTEND;TZID=America/New_York:20251111T203000
DTSTAMP:20260422T011147
CREATED:20250813T054017Z
LAST-MODIFIED:20251112T004001Z
UID:10008939-1762887600-1762893000@calendar.adasisrael.org
SUMMARY:Nurturing the Nest: A Holistic Journey into Parenthood
DESCRIPTION:Nurturing the Nest: A Holistic Journey into Parenthood \nEmbark on a meaningful and empowering journey into parenthood with this four-part series designed for expecting parents to learn and build community with one another. Nurturing the Nest blends tradition\, emotional insight\, practical wisdom\, and financial preparedness to support you in this life-changing transition. Explore Jewish texts and rituals that honor pregnancy\, birth\, and the postpartum experience. Gain tools to support mental and relational health during the early parenting months. Learn about lactation\, feeding options\, and how to build a strong postpartum support system. Finally\, get practical guidance on financial planning for your growing family. Whether this is your first child or you’re growing your family\, this series offers a supportive\, inclusive space for learning and connection. \nTuesday evenings\, 7:30-9:00 PM:  October 28\, November 4\, November 11 and November 18
URL:https://calendar.adasisrael.org/event/nurturing-the-nest-a-holistic-journey-into-parenthood-3/
LOCATION:Biran Beit Midrash
CATEGORIES:Learn & Engage
ATTACH;FMTTYPE=image/jpeg:https://calendar.adasisrael.org/wp-content/uploads/2023/07/Front-Professional.jpg
END:VEVENT
BEGIN:VEVENT
DTSTART;TZID=America/New_York:20251111T180000
DTEND;TZID=America/New_York:20251111T190000
DTSTAMP:20260422T011147
CREATED:20250812T061520Z
LAST-MODIFIED:20251111T232501Z
UID:10008933-1762884000-1762887600@calendar.adasisrael.org
SUMMARY:Evening Minyan
DESCRIPTION:Join In-Person on Mondays\, Tuesdays\, Wednesdays\, Thursdays and via Zoom every day (Sunday-Thursday).Siddur Pages: Mincha\, Maariv \nThanksgiving Schedule: Wednesday\, Nov 26 & Thursday\, Nov 27: Evening Minyan on Zoom ONLY
URL:https://calendar.adasisrael.org/event/evening-minyan-589/
LOCATION:Biran Beit Midrash
CATEGORIES:Daily Minyan
ATTACH;FMTTYPE=image/jpeg:https://calendar.adasisrael.org/wp-content/uploads/2024/01/minyanheaderweb-XUfQxy.tmp_.jpg
END:VEVENT
BEGIN:VEVENT
DTSTART;TZID=America/New_York:20251111T073000
DTEND;TZID=America/New_York:20251111T090000
DTSTAMP:20260422T011147
CREATED:20250812T061520Z
LAST-MODIFIED:20251111T125502Z
UID:10008929-1762846200-1762851600@calendar.adasisrael.org
SUMMARY:Morning Minyan
DESCRIPTION:Join us in-person or on Zoom: \nSundays and Federal Holidays at 9am\, Zoom Link Here \nMondays-Fridays at 7:30am\, Zoom Link Here \nClick Here For Shacharit Pages
URL:https://calendar.adasisrael.org/event/morning-minyan-702/
LOCATION:Biran Beit Midrash
CATEGORIES:Daily Minyan
ATTACH;FMTTYPE=image/jpeg:https://calendar.adasisrael.org/wp-content/uploads/2023/07/JThomas_20230521_0043-z8y1js.tmp_-scaled.jpg
END:VEVENT
BEGIN:VEVENT
DTSTART;TZID=America/New_York:20251110T180000
DTEND;TZID=America/New_York:20251110T190000
DTSTAMP:20260422T011147
CREATED:20250811T052516Z
LAST-MODIFIED:20251110T235502Z
UID:10008928-1762797600-1762801200@calendar.adasisrael.org
SUMMARY:Evening Minyan
DESCRIPTION:Join In-Person on Mondays\, Tuesdays\, Wednesdays\, Thursdays and via Zoom every day (Sunday-Thursday).Siddur Pages: Mincha\, Maariv \nThanksgiving Schedule: Wednesday\, Nov 26 & Thursday\, Nov 27: Evening Minyan on Zoom ONLY
URL:https://calendar.adasisrael.org/event/evening-minyan-588/
LOCATION:Biran Beit Midrash
CATEGORIES:Daily Minyan
ATTACH;FMTTYPE=image/jpeg:https://calendar.adasisrael.org/wp-content/uploads/2024/01/minyanheaderweb-XUfQxy.tmp_.jpg
END:VEVENT
BEGIN:VEVENT
DTSTART;TZID=America/New_York:20251110T073000
DTEND;TZID=America/New_York:20251110T090000
DTSTAMP:20260422T011147
CREATED:20250811T052516Z
LAST-MODIFIED:20251110T135502Z
UID:10008925-1762759800-1762765200@calendar.adasisrael.org
SUMMARY:Morning Minyan
DESCRIPTION:Join us in-person or on Zoom: \nSundays and Federal Holidays at 9am\, Zoom Link Here \nMondays-Fridays at 7:30am\, Zoom Link Here \nClick Here For Shacharit Pages
URL:https://calendar.adasisrael.org/event/morning-minyan-701/
LOCATION:Biran Beit Midrash
CATEGORIES:Daily Minyan
ATTACH;FMTTYPE=image/jpeg:https://calendar.adasisrael.org/wp-content/uploads/2023/07/JThomas_20230521_0043-z8y1js.tmp_-scaled.jpg
END:VEVENT
END:VCALENDAR