BEGIN:VCALENDAR
VERSION:2.0
PRODID:-//Adas Israel Congregation - ECPv6.2.9//NONSGML v1.0//EN
CALSCALE:GREGORIAN
METHOD:PUBLISH
X-WR-CALNAME:Adas Israel Congregation
X-ORIGINAL-URL:https://calendar.adasisrael.org
X-WR-CALDESC:Events for Adas Israel Congregation
REFRESH-INTERVAL;VALUE=DURATION:PT1H
X-Robots-Tag:noindex
X-PUBLISHED-TTL:PT1H
BEGIN:VTIMEZONE
TZID:America/New_York
BEGIN:DAYLIGHT
TZOFFSETFROM:-0500
TZOFFSETTO:-0400
TZNAME:EDT
DTSTART:20250309T070000
END:DAYLIGHT
BEGIN:STANDARD
TZOFFSETFROM:-0400
TZOFFSETTO:-0500
TZNAME:EST
DTSTART:20251102T060000
END:STANDARD
END:VTIMEZONE
BEGIN:VEVENT
DTSTART;TZID=America/New_York:20251211T180000
DTEND;TZID=America/New_York:20251211T190000
DTSTAMP:20260421T214644
CREATED:20251127T153006Z
LAST-MODIFIED:20251211T235511Z
UID:10009707-1765476000-1765479600@calendar.adasisrael.org
SUMMARY:Evening Minyan
DESCRIPTION:Join In-Person on Mondays\, Tuesdays\, Wednesdays\, Thursdays and via Zoom every day (Sunday-Thursday).Siddur Pages: Mincha\, Maariv \nWinter Break Schedule: \nThe Adas building will be open only for AM minyan on: Mon\, Dec 22 – Fri\, Dec 26\, Sun\, Dec 28\, Thu\, Jan 1\, and Fri\, Jan 2. \nPM minyan on Dec 22\, 23\, and 24\, 25\, 31 and Jan 1 will be Zoom-only.
URL:https://calendar.adasisrael.org/event/evening-minyan-610/
LOCATION:Biran Beit Midrash
CATEGORIES:Daily Minyan
ATTACH;FMTTYPE=image/jpeg:https://calendar.adasisrael.org/wp-content/uploads/2024/01/minyanheaderweb-XUfQxy.tmp_.jpg
END:VEVENT
BEGIN:VEVENT
DTSTART;TZID=America/New_York:20251211T073000
DTEND;TZID=America/New_York:20251211T090000
DTSTAMP:20260421T214644
CREATED:20251127T153006Z
LAST-MODIFIED:20251211T135002Z
UID:10009704-1765438200-1765443600@calendar.adasisrael.org
SUMMARY:Morning Minyan
DESCRIPTION:Join us in-person or on Zoom: \nSundays and Federal Holidays at 9am\, Zoom Link Here \nMondays-Fridays at 7:30am\, Zoom Link Here \nClick Here For Shacharit Pages \nWinter Break Schedule: \nThe Adas building will be open only for AM minyan on: Mon\, Dec 22 – Fri\, Dec 26\, Sun\, Dec 28\, Thu\, Jan 1\, and Fri\, Jan 2. \nPM minyan on Dec 22\, 23\, and 24\, 25\, 31 and Jan 1 will be Zoom-only.
URL:https://calendar.adasisrael.org/event/morning-minyan-728/
LOCATION:Biran Beit Midrash
CATEGORIES:Daily Minyan
ATTACH;FMTTYPE=image/jpeg:https://calendar.adasisrael.org/wp-content/uploads/2023/07/JThomas_20230521_0043-z8y1js.tmp_-scaled.jpg
END:VEVENT
BEGIN:VEVENT
DTSTART;TZID=America/New_York:20251210T180000
DTEND;TZID=America/New_York:20251210T184000
DTSTAMP:20260421T214644
CREATED:20251127T153006Z
LAST-MODIFIED:20251210T233508Z
UID:10009700-1765389600-1765392000@calendar.adasisrael.org
SUMMARY:Evening Minyan
DESCRIPTION:Join In-Person on Mondays\, Tuesdays\, Wednesdays\, Thursdays and via Zoom every day (Sunday-Thursday).Siddur Pages: Mincha\, Maariv \nWinter Break Schedule: \nThe Adas building will be open only for AM minyan on: Mon\, Dec 22 – Fri\, Dec 26\, Sun\, Dec 28\, Thu\, Jan 1\, and Fri\, Jan 2. \nPM minyan on Dec 22\, 23\, and 24\, 25\, 31 and Jan 1 will be Zoom-only.
URL:https://calendar.adasisrael.org/event/evening-minyan-609/
LOCATION:Biran Beit Midrash
CATEGORIES:Daily Minyan
ATTACH;FMTTYPE=image/jpeg:https://calendar.adasisrael.org/wp-content/uploads/2024/01/minyanheaderweb-XUfQxy.tmp_.jpg
END:VEVENT
BEGIN:VEVENT
DTSTART;TZID=America/New_York:20251210T073000
DTEND;TZID=America/New_York:20251210T090000
DTSTAMP:20260421T214644
CREATED:20251127T153006Z
LAST-MODIFIED:20251210T133002Z
UID:10009698-1765351800-1765357200@calendar.adasisrael.org
SUMMARY:Morning Minyan
DESCRIPTION:Join us in-person or on Zoom: \nSundays and Federal Holidays at 9am\, Zoom Link Here \nMondays-Fridays at 7:30am\, Zoom Link Here \nClick Here For Shacharit Pages \nWinter Break Schedule: \nThe Adas building will be open only for AM minyan on: Mon\, Dec 22 – Fri\, Dec 26\, Sun\, Dec 28\, Thu\, Jan 1\, and Fri\, Jan 2. \nPM minyan on Dec 22\, 23\, and 24\, 25\, 31 and Jan 1 will be Zoom-only.
URL:https://calendar.adasisrael.org/event/morning-minyan-727/
LOCATION:Biran Beit Midrash
CATEGORIES:Daily Minyan
ATTACH;FMTTYPE=image/jpeg:https://calendar.adasisrael.org/wp-content/uploads/2023/07/JThomas_20230521_0043-z8y1js.tmp_-scaled.jpg
END:VEVENT
BEGIN:VEVENT
DTSTART;TZID=America/New_York:20251209T183000
DTEND;TZID=America/New_York:20251209T200000
DTSTAMP:20260421T214644
CREATED:20251127T153006Z
LAST-MODIFIED:20251210T004002Z
UID:10009697-1765305000-1765310400@calendar.adasisrael.org
SUMMARY:MakomDC: Revealed and Retold: The Narrative Heart of Judaism
DESCRIPTION:“Revealed and Retold: The Narrative Heart of Judaism” \nTuesday Evenings: December 2nd and 9th\, January 6th\, 13th and 20th*  \n6:30 pm Snacks\, Drinks and Schmoozing 7:00 pm Learning \n \nA five part series wherein we will explore the storytelling soul of Jewish tradition through the lens of A Heavenly Torah by Rabbi Abraham Joshua Heschel. Together we’ll delve into the world of Aggadah—the ethical\, theological\, and imaginative heart of Torah. From the binding of Isaac to the Oven of Achnai\, from the Zohar’s cosmic myths to Hasidic tales of wonder and protest\, we’ll study how stories have shaped Jewish thought and spiritual life. These are not just tales of the past\, but living narratives that reveal the depths of divine encounter\, human struggle\, and the moral vision of our people. \n*Cocktails provided
URL:https://calendar.adasisrael.org/event/makomdc-revealed-and-retold-the-narrative-heart-of-judaism-2/
LOCATION:Biran Beit Midrash
CATEGORIES:Learn & Engage
ATTACH;FMTTYPE=image/jpeg:https://calendar.adasisrael.org/wp-content/uploads/2023/07/Front-Professional.jpg
END:VEVENT
BEGIN:VEVENT
DTSTART;TZID=America/New_York:20251209T180000
DTEND;TZID=America/New_York:20251209T183000
DTSTAMP:20260421T214644
CREATED:20251127T153005Z
LAST-MODIFIED:20251209T232502Z
UID:10009696-1765303200-1765305000@calendar.adasisrael.org
SUMMARY:Evening Minyan
DESCRIPTION:Join In-Person on Mondays\, Tuesdays\, Wednesdays\, Thursdays and via Zoom every day (Sunday-Thursday).Siddur Pages: Mincha\, Maariv \nWinter Break Schedule: \nThe Adas building will be open only for AM minyan on: Mon\, Dec 22 – Fri\, Dec 26\, Sun\, Dec 28\, Thu\, Jan 1\, and Fri\, Jan 2. \nPM minyan on Dec 22\, 23\, and 24\, 25\, 31 and Jan 1 will be Zoom-only.
URL:https://calendar.adasisrael.org/event/evening-minyan-608/
LOCATION:Biran Beit Midrash
CATEGORIES:Daily Minyan
ATTACH;FMTTYPE=image/jpeg:https://calendar.adasisrael.org/wp-content/uploads/2024/01/minyanheaderweb-XUfQxy.tmp_.jpg
END:VEVENT
BEGIN:VEVENT
DTSTART;TZID=America/New_York:20251209T114500
DTEND;TZID=America/New_York:20251209T123000
DTSTAMP:20260421T214644
CREATED:20251127T153005Z
LAST-MODIFIED:20251209T165502Z
UID:10009695-1765280700-1765283400@calendar.adasisrael.org
SUMMARY:Talmud Study: From Cover to Cover
DESCRIPTION:From Cover to Cover \nExploring a Tractate of Talmud in its’ original is a deep dive into some of our tradition’s most important legal and narrative ponderings. Participants will engage with the daf (page) through traditional commentaries and guided discussion\, building both skills and confidence in navigating the Talmudic page. The class is designed for those with some prior experience in Talmud study and a desire to move toward independent learning. Over time\, we will make our way through an entire tractate—cover to cover. \nGrab your lunch and join Rabbi Yolkut as we explore the basics of Talmud study. This year we will be studying Tractate Brachot. \nTuesdays (11:45-12:30) (Begins September 2nd)
URL:https://calendar.adasisrael.org/event/talmud-study-from-cover-to-cover-11/
LOCATION:Biran Beit Midrash
ATTACH;FMTTYPE=image/jpeg:https://calendar.adasisrael.org/wp-content/uploads/2023/07/Front-Professional.jpg
END:VEVENT
BEGIN:VEVENT
DTSTART;TZID=America/New_York:20251209T073000
DTEND;TZID=America/New_York:20251209T090000
DTSTAMP:20260421T214644
CREATED:20251127T153005Z
LAST-MODIFIED:20251209T131502Z
UID:10009692-1765265400-1765270800@calendar.adasisrael.org
SUMMARY:Morning Minyan
DESCRIPTION:Join us in-person or on Zoom: \nSundays and Federal Holidays at 9am\, Zoom Link Here \nMondays-Fridays at 7:30am\, Zoom Link Here \nClick Here For Shacharit Pages \nWinter Break Schedule: \nThe Adas building will be open only for AM minyan on: Mon\, Dec 22 – Fri\, Dec 26\, Sun\, Dec 28\, Thu\, Jan 1\, and Fri\, Jan 2. \nPM minyan on Dec 22\, 23\, and 24\, 25\, 31 and Jan 1 will be Zoom-only.
URL:https://calendar.adasisrael.org/event/morning-minyan-726/
LOCATION:Biran Beit Midrash
CATEGORIES:Daily Minyan
ATTACH;FMTTYPE=image/jpeg:https://calendar.adasisrael.org/wp-content/uploads/2023/07/JThomas_20230521_0043-z8y1js.tmp_-scaled.jpg
END:VEVENT
BEGIN:VEVENT
DTSTART;TZID=America/New_York:20251208T180000
DTEND;TZID=America/New_York:20251208T190000
DTSTAMP:20260421T214644
CREATED:20251127T153005Z
LAST-MODIFIED:20251208T231001Z
UID:10009691-1765216800-1765220400@calendar.adasisrael.org
SUMMARY:Evening Minyan
DESCRIPTION:Join In-Person on Mondays\, Tuesdays\, Wednesdays\, Thursdays and via Zoom every day (Sunday-Thursday).Siddur Pages: Mincha\, Maariv \nWinter Break Schedule: \nThe Adas building will be open only for AM minyan on: Mon\, Dec 22 – Fri\, Dec 26\, Sun\, Dec 28\, Thu\, Jan 1\, and Fri\, Jan 2. \nPM minyan on Dec 22\, 23\, and 24\, 25\, 31 and Jan 1 will be Zoom-only.
URL:https://calendar.adasisrael.org/event/evening-minyan-607/
LOCATION:Biran Beit Midrash
CATEGORIES:Daily Minyan
ATTACH;FMTTYPE=image/jpeg:https://calendar.adasisrael.org/wp-content/uploads/2024/01/minyanheaderweb-XUfQxy.tmp_.jpg
END:VEVENT
BEGIN:VEVENT
DTSTART;TZID=America/New_York:20251208T073000
DTEND;TZID=America/New_York:20251208T090000
DTSTAMP:20260421T214644
CREATED:20251127T153005Z
LAST-MODIFIED:20251208T125502Z
UID:10009688-1765179000-1765184400@calendar.adasisrael.org
SUMMARY:Morning Minyan
DESCRIPTION:Join us in-person or on Zoom: \nSundays and Federal Holidays at 9am\, Zoom Link Here \nMondays-Fridays at 7:30am\, Zoom Link Here \nClick Here For Shacharit Pages \nWinter Break Schedule: \nThe Adas building will be open only for AM minyan on: Mon\, Dec 22 – Fri\, Dec 26\, Sun\, Dec 28\, Thu\, Jan 1\, and Fri\, Jan 2. \nPM minyan on Dec 22\, 23\, and 24\, 25\, 31 and Jan 1 will be Zoom-only.
URL:https://calendar.adasisrael.org/event/morning-minyan-725/
LOCATION:Biran Beit Midrash
CATEGORIES:Daily Minyan
ATTACH;FMTTYPE=image/jpeg:https://calendar.adasisrael.org/wp-content/uploads/2023/07/JThomas_20230521_0043-z8y1js.tmp_-scaled.jpg
END:VEVENT
BEGIN:VEVENT
DTSTART;TZID=America/New_York:20251207T130000
DTEND;TZID=America/New_York:20251207T143000
DTSTAMP:20260421T214644
CREATED:20251127T153004Z
LAST-MODIFIED:20251207T191502Z
UID:10009684-1765112400-1765117800@calendar.adasisrael.org
SUMMARY:Full Social Action Committee Meeting
DESCRIPTION:
URL:https://calendar.adasisrael.org/event/full-social-action-committee-meeting/
LOCATION:Biran Beit Midrash
ATTACH;FMTTYPE=image/jpeg:https://calendar.adasisrael.org/wp-content/uploads/2023/07/Front-Professional.jpg
END:VEVENT
BEGIN:VEVENT
DTSTART;TZID=America/New_York:20251207T090000
DTEND;TZID=America/New_York:20251207T100000
DTSTAMP:20260421T214644
CREATED:20251127T153004Z
LAST-MODIFIED:20251207T141002Z
UID:10009681-1765098000-1765101600@calendar.adasisrael.org
SUMMARY:Morning Minyan
DESCRIPTION:Join us in-person or on Zoom: \nSundays and Federal Holidays at 9am\, Zoom Link Here \nMondays-Fridays at 7:30am\, Zoom Link Here \nClick Here For Shacharit Pages \nWinter Break Schedule: \nThe Adas building will be open only for AM minyan on: Mon\, Dec 22 – Fri\, Dec 26\, Sun\, Dec 28\, Thu\, Jan 1\, and Fri\, Jan 2. \nPM minyan on Dec 22\, 23\, and 24\, 25\, 31 and Jan 1 will be Zoom-only.
URL:https://calendar.adasisrael.org/event/morning-minyan-724/
LOCATION:Biran Beit Midrash
CATEGORIES:Daily Minyan
ATTACH;FMTTYPE=image/jpeg:https://calendar.adasisrael.org/wp-content/uploads/2023/07/JThomas_20230521_0043-z8y1js.tmp_-scaled.jpg
END:VEVENT
BEGIN:VEVENT
DTSTART;TZID=America/New_York:20251206T143000
DTEND;TZID=America/New_York:20251206T223000
DTSTAMP:20260421T214644
CREATED:20251127T153004Z
LAST-MODIFIED:20251207T025002Z
UID:10009678-1765031400-1765060200@calendar.adasisrael.org
SUMMARY:TEM Shabbaton
DESCRIPTION:
URL:https://calendar.adasisrael.org/event/tem-shabbaton-10/
LOCATION:Biran Beit Midrash
ATTACH;FMTTYPE=image/jpeg:https://calendar.adasisrael.org/wp-content/uploads/2023/07/Front-Professional.jpg
END:VEVENT
BEGIN:VEVENT
DTSTART;TZID=America/New_York:20251206T130000
DTEND;TZID=America/New_York:20251206T140000
DTSTAMP:20260421T214644
CREATED:20251127T153004Z
LAST-MODIFIED:20251206T185518Z
UID:10009672-1765026000-1765029600@calendar.adasisrael.org
SUMMARY:MakomDC:  The Necessity of Narrative in Halakhic Decision Making with Rabbi Aaron Alexander
DESCRIPTION:The Necessity of Narrative in Halakhic Decision Making \nShabbat afternoons Dec 6th\, Feb 14th\, March 28th \nIf a Jewish Legal (halakhic) decision is made in the forest with nobody present\, did it actually happen? Maybe. The reality is that written law–case-law (responsa) and codes–significantly depend on the very human stories that animates both the unique questions\, and idiosyncratic responses. In this series we’ll explore some critical halakhic decisions (responsa\, mostly) in which the stories behind the questions influenced the direction of the rabbinic decisor. (Texts provided in Hebrew & English\, all are welcome!)
URL:https://calendar.adasisrael.org/event/makomdc-the-necessity-of-narrative-in-halakhic-decision-making-with-rabbi-aaron-alexander/
LOCATION:Biran Beit Midrash
CATEGORIES:Learn & Engage
ATTACH;FMTTYPE=image/jpeg:https://calendar.adasisrael.org/wp-content/uploads/2023/07/Front-Professional.jpg
END:VEVENT
BEGIN:VEVENT
DTSTART;TZID=America/New_York:20251206T110000
DTEND;TZID=America/New_York:20251206T120000
DTSTAMP:20260421T214644
CREATED:20251203T232020Z
LAST-MODIFIED:20251206T163001Z
UID:10010100-1765018800-1765022400@calendar.adasisrael.org
SUMMARY:Kindergarten Consecration
DESCRIPTION:
URL:https://calendar.adasisrael.org/event/kindergarten-consecration-3/
LOCATION:Biran Beit Midrash
ATTACH;FMTTYPE=image/jpeg:https://calendar.adasisrael.org/wp-content/uploads/2023/07/Front-Professional.jpg
END:VEVENT
BEGIN:VEVENT
DTSTART;TZID=America/New_York:20251205T073000
DTEND;TZID=America/New_York:20251205T090000
DTSTAMP:20260421T214644
CREATED:20251127T153003Z
LAST-MODIFIED:20251205T131502Z
UID:10009659-1764919800-1764925200@calendar.adasisrael.org
SUMMARY:Morning Minyan
DESCRIPTION:Join us in-person or on Zoom: \nSundays and Federal Holidays at 9am\, Zoom Link Here \nMondays-Fridays at 7:30am\, Zoom Link Here \nClick Here For Shacharit Pages \nWinter Break Schedule: \nThe Adas building will be open only for AM minyan on: Mon\, Dec 22 – Fri\, Dec 26\, Sun\, Dec 28\, Thu\, Jan 1\, and Fri\, Jan 2. \nPM minyan on Dec 22\, 23\, and 24\, 25\, 31 and Jan 1 will be Zoom-only.
URL:https://calendar.adasisrael.org/event/morning-minyan-723/
LOCATION:Biran Beit Midrash
CATEGORIES:Daily Minyan
ATTACH;FMTTYPE=image/jpeg:https://calendar.adasisrael.org/wp-content/uploads/2023/07/JThomas_20230521_0043-z8y1js.tmp_-scaled.jpg
END:VEVENT
BEGIN:VEVENT
DTSTART;TZID=America/New_York:20251204T180000
DTEND;TZID=America/New_York:20251204T190000
DTSTAMP:20260421T214644
CREATED:20251127T153003Z
LAST-MODIFIED:20251204T232502Z
UID:10009656-1764871200-1764874800@calendar.adasisrael.org
SUMMARY:Evening Minyan
DESCRIPTION:Join In-Person on Mondays\, Tuesdays\, Wednesdays\, Thursdays and via Zoom every day (Sunday-Thursday).Siddur Pages: Mincha\, Maariv \nWinter Break Schedule: \nThe Adas building will be open only for AM minyan on: Mon\, Dec 22 – Fri\, Dec 26\, Sun\, Dec 28\, Thu\, Jan 1\, and Fri\, Jan 2. \nPM minyan on Dec 22\, 23\, and 24\, 25\, 31 and Jan 1 will be Zoom-only.
URL:https://calendar.adasisrael.org/event/evening-minyan-605/
LOCATION:Biran Beit Midrash
CATEGORIES:Daily Minyan
ATTACH;FMTTYPE=image/jpeg:https://calendar.adasisrael.org/wp-content/uploads/2024/01/minyanheaderweb-XUfQxy.tmp_.jpg
END:VEVENT
BEGIN:VEVENT
DTSTART;TZID=America/New_York:20251204T073000
DTEND;TZID=America/New_York:20251204T090000
DTSTAMP:20260421T214644
CREATED:20251127T153003Z
LAST-MODIFIED:20251204T132501Z
UID:10009653-1764833400-1764838800@calendar.adasisrael.org
SUMMARY:Morning Minyan
DESCRIPTION:Join us in-person or on Zoom: \nSundays and Federal Holidays at 9am\, Zoom Link Here \nMondays-Fridays at 7:30am\, Zoom Link Here \nClick Here For Shacharit Pages \nWinter Break Schedule: \nThe Adas building will be open only for AM minyan on: Mon\, Dec 22 – Fri\, Dec 26\, Sun\, Dec 28\, Thu\, Jan 1\, and Fri\, Jan 2. \nPM minyan on Dec 22\, 23\, and 24\, 25\, 31 and Jan 1 will be Zoom-only.
URL:https://calendar.adasisrael.org/event/morning-minyan-722/
LOCATION:Biran Beit Midrash
CATEGORIES:Daily Minyan
ATTACH;FMTTYPE=image/jpeg:https://calendar.adasisrael.org/wp-content/uploads/2023/07/JThomas_20230521_0043-z8y1js.tmp_-scaled.jpg
END:VEVENT
BEGIN:VEVENT
DTSTART;TZID=America/New_York:20251203T190000
DTEND;TZID=America/New_York:20251203T200000
DTSTAMP:20260421T214644
CREATED:20251127T153003Z
LAST-MODIFIED:20251204T004002Z
UID:10009651-1764788400-1764792000@calendar.adasisrael.org
SUMMARY:YP Group Coffee Chat
DESCRIPTION:
URL:https://calendar.adasisrael.org/event/yp-group-coffee-chat-2/
LOCATION:Biran Beit Midrash
ATTACH;FMTTYPE=image/jpeg:https://calendar.adasisrael.org/wp-content/uploads/2023/07/Front-Professional.jpg
END:VEVENT
BEGIN:VEVENT
DTSTART;TZID=America/New_York:20251203T180000
DTEND;TZID=America/New_York:20251203T184000
DTSTAMP:20260421T214644
CREATED:20251127T153003Z
LAST-MODIFIED:20251203T232501Z
UID:10009649-1764784800-1764787200@calendar.adasisrael.org
SUMMARY:Evening Minyan
DESCRIPTION:Join In-Person on Mondays\, Tuesdays\, Wednesdays\, Thursdays and via Zoom every day (Sunday-Thursday).Siddur Pages: Mincha\, Maariv \nWinter Break Schedule: \nThe Adas building will be open only for AM minyan on: Mon\, Dec 22 – Fri\, Dec 26\, Sun\, Dec 28\, Thu\, Jan 1\, and Fri\, Jan 2. \nPM minyan on Dec 22\, 23\, and 24\, 25\, 31 and Jan 1 will be Zoom-only.
URL:https://calendar.adasisrael.org/event/evening-minyan-604/
LOCATION:Biran Beit Midrash
CATEGORIES:Daily Minyan
ATTACH;FMTTYPE=image/jpeg:https://calendar.adasisrael.org/wp-content/uploads/2024/01/minyanheaderweb-XUfQxy.tmp_.jpg
END:VEVENT
BEGIN:VEVENT
DTSTART;TZID=America/New_York:20251203T073000
DTEND;TZID=America/New_York:20251203T090000
DTSTAMP:20260421T214644
CREATED:20251127T153002Z
LAST-MODIFIED:20251203T131002Z
UID:10009647-1764747000-1764752400@calendar.adasisrael.org
SUMMARY:Morning Minyan
DESCRIPTION:Join us in-person or on Zoom: \nSundays and Federal Holidays at 9am\, Zoom Link Here \nMondays-Fridays at 7:30am\, Zoom Link Here \nClick Here For Shacharit Pages \nWinter Break Schedule: \nThe Adas building will be open only for AM minyan on: Mon\, Dec 22 – Fri\, Dec 26\, Sun\, Dec 28\, Thu\, Jan 1\, and Fri\, Jan 2. \nPM minyan on Dec 22\, 23\, and 24\, 25 and Jan 1 will be Zoom-only.
URL:https://calendar.adasisrael.org/event/morning-minyan-721/
LOCATION:Biran Beit Midrash
CATEGORIES:Daily Minyan
ATTACH;FMTTYPE=image/jpeg:https://calendar.adasisrael.org/wp-content/uploads/2023/07/JThomas_20230521_0043-z8y1js.tmp_-scaled.jpg
END:VEVENT
BEGIN:VEVENT
DTSTART;TZID=America/New_York:20251202T183000
DTEND;TZID=America/New_York:20251202T200000
DTSTAMP:20260421T214644
CREATED:20251127T153002Z
LAST-MODIFIED:20251203T004502Z
UID:10009646-1764700200-1764705600@calendar.adasisrael.org
SUMMARY:MakomDC: Revealed and Retold: The Narrative Heart of Judaism
DESCRIPTION:“Revealed and Retold: The Narrative Heart of Judaism” \nTuesday Evenings: December 2nd and 9th\, January 6th\, 13th and 20th*  \n6:30 pm Snacks\, Drinks and Schmoozing 7:00 pm Learning \n \nA five part series wherein we will explore the storytelling soul of Jewish tradition through the lens of A Heavenly Torah by Rabbi Abraham Joshua Heschel. Together we’ll delve into the world of Aggadah—the ethical\, theological\, and imaginative heart of Torah. From the binding of Isaac to the Oven of Achnai\, from the Zohar’s cosmic myths to Hasidic tales of wonder and protest\, we’ll study how stories have shaped Jewish thought and spiritual life. These are not just tales of the past\, but living narratives that reveal the depths of divine encounter\, human struggle\, and the moral vision of our people. \n*Cocktails provided
URL:https://calendar.adasisrael.org/event/makomdc-revealed-and-retold-the-narrative-heart-of-judaism/
LOCATION:Biran Beit Midrash
CATEGORIES:Learn & Engage
ATTACH;FMTTYPE=image/jpeg:https://calendar.adasisrael.org/wp-content/uploads/2023/07/Front-Professional.jpg
END:VEVENT
BEGIN:VEVENT
DTSTART;TZID=America/New_York:20251202T180000
DTEND;TZID=America/New_York:20251202T183000
DTSTAMP:20260421T214644
CREATED:20251127T153002Z
LAST-MODIFIED:20251202T232502Z
UID:10009645-1764698400-1764700200@calendar.adasisrael.org
SUMMARY:Evening Minyan
DESCRIPTION:Join In-Person on Mondays\, Tuesdays\, Wednesdays\, Thursdays and via Zoom every day (Sunday-Thursday).Siddur Pages: Mincha\, Maariv \nWinter Break Schedule: \nThe Adas building will be open only for AM minyan on: Mon\, Dec 22 – Fri\, Dec 26\, Sun\, Dec 28\, Thu\, Jan 1\, and Fri\, Jan 2. \nPM minyan on Dec 22\, 23\, and 24\, 25 and Jan 1 will be Zoom-only.
URL:https://calendar.adasisrael.org/event/evening-minyan-603/
LOCATION:Biran Beit Midrash
CATEGORIES:Daily Minyan
ATTACH;FMTTYPE=image/jpeg:https://calendar.adasisrael.org/wp-content/uploads/2024/01/minyanheaderweb-XUfQxy.tmp_.jpg
END:VEVENT
BEGIN:VEVENT
DTSTART;TZID=America/New_York:20251202T114500
DTEND;TZID=America/New_York:20251202T123000
DTSTAMP:20260421T214644
CREATED:20251127T153002Z
LAST-MODIFIED:20251202T171002Z
UID:10009643-1764675900-1764678600@calendar.adasisrael.org
SUMMARY:Talmud Study: From Cover to Cover
DESCRIPTION:From Cover to Cover \nExploring a Tractate of Talmud in its’ original is a deep dive into some of our tradition’s most important legal and narrative ponderings. Participants will engage with the daf (page) through traditional commentaries and guided discussion\, building both skills and confidence in navigating the Talmudic page. The class is designed for those with some prior experience in Talmud study and a desire to move toward independent learning. Over time\, we will make our way through an entire tractate—cover to cover. \nGrab your lunch and join Rabbi Yolkut as we explore the basics of Talmud study. This year we will be studying Tractate Brachot. \nTuesdays (11:45-12:30) (Begins September 2nd)
URL:https://calendar.adasisrael.org/event/talmud-study-from-cover-to-cover-8/
LOCATION:Biran Beit Midrash
ATTACH;FMTTYPE=image/jpeg:https://calendar.adasisrael.org/wp-content/uploads/2023/07/Front-Professional.jpg
END:VEVENT
BEGIN:VEVENT
DTSTART;TZID=America/New_York:20251202T073000
DTEND;TZID=America/New_York:20251202T090000
DTSTAMP:20260421T214644
CREATED:20251127T153002Z
LAST-MODIFIED:20251202T133002Z
UID:10009642-1764660600-1764666000@calendar.adasisrael.org
SUMMARY:Morning Minyan
DESCRIPTION:Join us in-person or on Zoom: \nSundays and Federal Holidays at 9am\, Zoom Link Here \nMondays-Fridays at 7:30am\, Zoom Link Here \nClick Here For Shacharit Pages \nWinter Break Schedule: \nThe Adas building will be open only for AM minyan on: Mon\, Dec 22 – Fri\, Dec 26\, Sun\, Dec 28\, Thu\, Jan 1\, and Fri\, Jan 2. \nPM minyan on Dec 22\, 23\, and 24\, 25 and Jan 1 will be Zoom-only.
URL:https://calendar.adasisrael.org/event/morning-minyan-720/
LOCATION:Biran Beit Midrash
CATEGORIES:Daily Minyan
ATTACH;FMTTYPE=image/jpeg:https://calendar.adasisrael.org/wp-content/uploads/2023/07/JThomas_20230521_0043-z8y1js.tmp_-scaled.jpg
END:VEVENT
BEGIN:VEVENT
DTSTART;TZID=America/New_York:20251201T180000
DTEND;TZID=America/New_York:20251201T190000
DTSTAMP:20260421T214644
CREATED:20251127T153002Z
LAST-MODIFIED:20251201T234002Z
UID:10009641-1764612000-1764615600@calendar.adasisrael.org
SUMMARY:Evening Minyan
DESCRIPTION:Join In-Person on Mondays\, Tuesdays\, Wednesdays\, Thursdays and via Zoom every day (Sunday-Thursday).Siddur Pages: Mincha\, Maariv \nWinter Break Schedule: \nThe Adas building will be open only for AM minyan on: Mon\, Dec 22 – Fri\, Dec 26\, Sun\, Dec 28\, Thu\, Jan 1\, and Fri\, Jan 2. \nPM minyan on Dec 22\, 23\, and 24\, 25 and Jan 1 will be Zoom-only.
URL:https://calendar.adasisrael.org/event/evening-minyan-602/
LOCATION:Biran Beit Midrash
CATEGORIES:Daily Minyan
ATTACH;FMTTYPE=image/jpeg:https://calendar.adasisrael.org/wp-content/uploads/2024/01/minyanheaderweb-XUfQxy.tmp_.jpg
END:VEVENT
BEGIN:VEVENT
DTSTART;TZID=America/New_York:20251201T073000
DTEND;TZID=America/New_York:20251201T090000
DTSTAMP:20260421T214644
CREATED:20251127T153002Z
LAST-MODIFIED:20251201T134001Z
UID:10009639-1764574200-1764579600@calendar.adasisrael.org
SUMMARY:Morning Minyan
DESCRIPTION:Join us in-person or on Zoom: \nSundays and Federal Holidays at 9am\, Zoom Link Here \nMondays-Fridays at 7:30am\, Zoom Link Here \nClick Here For Shacharit Pages
URL:https://calendar.adasisrael.org/event/morning-minyan-719/
LOCATION:Biran Beit Midrash
CATEGORIES:Daily Minyan
ATTACH;FMTTYPE=image/jpeg:https://calendar.adasisrael.org/wp-content/uploads/2023/07/JThomas_20230521_0043-z8y1js.tmp_-scaled.jpg
END:VEVENT
BEGIN:VEVENT
DTSTART;TZID=America/New_York:20251130T090000
DTEND;TZID=America/New_York:20251130T100000
DTSTAMP:20260421T214644
CREATED:20251127T153001Z
LAST-MODIFIED:20251130T142501Z
UID:10009637-1764493200-1764496800@calendar.adasisrael.org
SUMMARY:Morning Minyan
DESCRIPTION:Join us in-person or on Zoom: \nSundays and Federal Holidays at 9am\, Zoom Link Here \nMondays-Fridays at 7:30am\, Zoom Link Here \nClick Here For Shacharit Pages
URL:https://calendar.adasisrael.org/event/morning-minyan-718/
LOCATION:Biran Beit Midrash
CATEGORIES:Daily Minyan
ATTACH;FMTTYPE=image/jpeg:https://calendar.adasisrael.org/wp-content/uploads/2023/07/JThomas_20230521_0043-z8y1js.tmp_-scaled.jpg
END:VEVENT
BEGIN:VEVENT
DTSTART;TZID=America/New_York:20251129T130000
DTEND;TZID=America/New_York:20251129T134500
DTSTAMP:20260421T214644
CREATED:20251127T153001Z
LAST-MODIFIED:20251129T182502Z
UID:10009636-1764421200-1764423900@calendar.adasisrael.org
SUMMARY:Shabbat Mincha Service
DESCRIPTION:Join us for a Saturday afternoon of prayer and Torah. The content of the mincha prayers reflects the essential goal of menucha (rest) on the Sabbath day.
URL:https://calendar.adasisrael.org/event/shabbat-mincha-service-124/
LOCATION:Biran Beit Midrash
CATEGORIES:Shabbat
ATTACH;FMTTYPE=image/jpeg:https://calendar.adasisrael.org/wp-content/uploads/2023/07/minchaservice600x400-sc8WO8.tmp_.jpg
END:VEVENT
BEGIN:VEVENT
DTSTART;TZID=America/New_York:20251128T180000
DTEND;TZID=America/New_York:20251128T190000
DTSTAMP:20260421T214644
CREATED:20251127T153001Z
LAST-MODIFIED:20251128T231502Z
UID:10009632-1764352800-1764356400@calendar.adasisrael.org
SUMMARY:Kabbalat Shabbat Services
DESCRIPTION:Community Kabbalat Shabbat \nThe tone of this service is traditional\, passionate\, joyful\, and spiritual. We will join together in rousing traditional melodies\, along with moments of depth and quiet contemplation. Our rabbis and other community members will share short divrei Torah (words of Torah). You will leave the service feeling renewed and in time to enjoy a wonderful Shabbat evening.
URL:https://calendar.adasisrael.org/event/kabbalat-shabbat-services-51/
LOCATION:Biran Beit Midrash
CATEGORIES:Shabbat
ATTACH;FMTTYPE=image/jpeg:https://calendar.adasisrael.org/wp-content/uploads/2024/01/253816_orig-kIYbWj.tmp_.jpg
END:VEVENT
END:VCALENDAR