BEGIN:VCALENDAR
VERSION:2.0
PRODID:-//Adas Israel Congregation - ECPv6.2.9//NONSGML v1.0//EN
CALSCALE:GREGORIAN
METHOD:PUBLISH
X-WR-CALNAME:Adas Israel Congregation
X-ORIGINAL-URL:https://calendar.adasisrael.org
X-WR-CALDESC:Events for Adas Israel Congregation
REFRESH-INTERVAL;VALUE=DURATION:PT1H
X-Robots-Tag:noindex
X-PUBLISHED-TTL:PT1H
BEGIN:VTIMEZONE
TZID:America/New_York
BEGIN:DAYLIGHT
TZOFFSETFROM:-0500
TZOFFSETTO:-0400
TZNAME:EDT
DTSTART:20250309T070000
END:DAYLIGHT
BEGIN:STANDARD
TZOFFSETFROM:-0400
TZOFFSETTO:-0500
TZNAME:EST
DTSTART:20251102T060000
END:STANDARD
END:VTIMEZONE
BEGIN:VEVENT
DTSTART;TZID=America/New_York:20251223T073000
DTEND;TZID=America/New_York:20251223T090000
DTSTAMP:20260421T201707
CREATED:20251127T153011Z
LAST-MODIFIED:20251223T133002Z
UID:10009770-1766475000-1766480400@calendar.adasisrael.org
SUMMARY:Morning Minyan
DESCRIPTION:Join us in-person or on Zoom: \nSundays and Federal Holidays at 9am\, Zoom Link Here \nMondays-Fridays at 7:30am\, Zoom Link Here \nClick Here For Shacharit Pages \nWinter Break Schedule: \nThe Adas building will be open only for AM minyan on: Mon\, Dec 22 – Fri\, Dec 26\, Sun\, Dec 28\, Thu\, Jan 1\, and Fri\, Jan 2. \nPM minyan on Dec 22\, 23\, and 24\, 25\, 31 and Jan 1 will be Zoom-only.
URL:https://calendar.adasisrael.org/event/morning-minyan-738/
LOCATION:Biran Beit Midrash
CATEGORIES:Daily Minyan
ATTACH;FMTTYPE=image/jpeg:https://calendar.adasisrael.org/wp-content/uploads/2023/07/JThomas_20230521_0043-z8y1js.tmp_-scaled.jpg
END:VEVENT
BEGIN:VEVENT
DTSTART;TZID=America/New_York:20251222T073000
DTEND;TZID=America/New_York:20251222T090000
DTSTAMP:20260421T201707
CREATED:20251127T153011Z
LAST-MODIFIED:20251222T134002Z
UID:10009767-1766388600-1766394000@calendar.adasisrael.org
SUMMARY:Morning Minyan
DESCRIPTION:Join us in-person or on Zoom: \nSundays and Federal Holidays at 9am\, Zoom Link Here \nMondays-Fridays at 7:30am\, Zoom Link Here \nClick Here For Shacharit Pages \nWinter Break Schedule: \nThe Adas building will be open only for AM minyan on: Mon\, Dec 22 – Fri\, Dec 26\, Sun\, Dec 28\, Thu\, Jan 1\, and Fri\, Jan 2. \nPM minyan on Dec 22\, 23\, and 24\, 25\, 31 and Jan 1 will be Zoom-only.
URL:https://calendar.adasisrael.org/event/morning-minyan-737/
LOCATION:Biran Beit Midrash
CATEGORIES:Daily Minyan
ATTACH;FMTTYPE=image/jpeg:https://calendar.adasisrael.org/wp-content/uploads/2023/07/JThomas_20230521_0043-z8y1js.tmp_-scaled.jpg
END:VEVENT
BEGIN:VEVENT
DTSTART;TZID=America/New_York:20251221T090000
DTEND;TZID=America/New_York:20251221T100000
DTSTAMP:20260421T201707
CREATED:20251127T153010Z
LAST-MODIFIED:20251221T150002Z
UID:10009765-1766307600-1766311200@calendar.adasisrael.org
SUMMARY:Morning Minyan
DESCRIPTION:Join us in-person or on Zoom: \nSundays and Federal Holidays at 9am\, Zoom Link Here \nMondays-Fridays at 7:30am\, Zoom Link Here \nClick Here For Shacharit Pages \nWinter Break Schedule: \nThe Adas building will be open only for AM minyan on: Mon\, Dec 22 – Fri\, Dec 26\, Sun\, Dec 28\, Thu\, Jan 1\, and Fri\, Jan 2. \nPM minyan on Dec 22\, 23\, and 24\, 25\, 31 and Jan 1 will be Zoom-only.
URL:https://calendar.adasisrael.org/event/morning-minyan-736/
LOCATION:Biran Beit Midrash
CATEGORIES:Daily Minyan
ATTACH;FMTTYPE=image/jpeg:https://calendar.adasisrael.org/wp-content/uploads/2023/07/JThomas_20230521_0043-z8y1js.tmp_-scaled.jpg
END:VEVENT
BEGIN:VEVENT
DTSTART;TZID=America/New_York:20251220T130000
DTEND;TZID=America/New_York:20251220T134500
DTSTAMP:20260421T201707
CREATED:20251127T153010Z
LAST-MODIFIED:20251220T184006Z
UID:10009764-1766235600-1766238300@calendar.adasisrael.org
SUMMARY:Shabbat Mincha Service
DESCRIPTION:Join us for a Saturday afternoon of prayer and Torah. The content of the mincha prayers reflects the essential goal of menucha (rest) on the Sabbath day.
URL:https://calendar.adasisrael.org/event/shabbat-mincha-service-127/
LOCATION:Biran Beit Midrash
CATEGORIES:Shabbat
ATTACH;FMTTYPE=image/jpeg:https://calendar.adasisrael.org/wp-content/uploads/2023/07/minchaservice600x400-sc8WO8.tmp_.jpg
END:VEVENT
BEGIN:VEVENT
DTSTART;TZID=America/New_York:20251220T083000
DTEND;TZID=America/New_York:20251220T093000
DTSTAMP:20260421T201707
CREATED:20251127T153010Z
LAST-MODIFIED:20251220T142502Z
UID:10009758-1766219400-1766223000@calendar.adasisrael.org
SUMMARY:Boker Or
DESCRIPTION:The Boker Or Torah study group meets Saturday mornings at 8:30 a.m. with the weekly portion as its focus. Join our clergy and community in person each week for an engaging\, text-based conversation on the week’s parsha\, before Shabbat services.
URL:https://calendar.adasisrael.org/event/boker-or-95/
LOCATION:Biran Beit Midrash
CATEGORIES:Shabbat
ATTACH;FMTTYPE=image/jpeg:https://calendar.adasisrael.org/wp-content/uploads/2023/07/makompic21-22-68hj8a.tmp_.jpg
END:VEVENT
BEGIN:VEVENT
DTSTART;TZID=America/New_York:20251219T180000
DTEND;TZID=America/New_York:20251219T193000
DTSTAMP:20260421T201707
CREATED:20251127T153010Z
LAST-MODIFIED:20251220T003002Z
UID:10009757-1766167200-1766172600@calendar.adasisrael.org
SUMMARY:Kabbalat Shabbat Services
DESCRIPTION:Community Kabbalat Shabbat \nThe tone of this service is traditional\, passionate\, joyful\, and spiritual. We will join together in rousing traditional melodies\, along with moments of depth and quiet contemplation. Our rabbis and other community members will share short divrei Torah (words of Torah). You will leave the service feeling renewed and in time to enjoy a wonderful Shabbat evening.
URL:https://calendar.adasisrael.org/event/kabbalat-shabbat-services-56/
LOCATION:Biran Beit Midrash
CATEGORIES:Shabbat
ATTACH;FMTTYPE=image/jpeg:https://calendar.adasisrael.org/wp-content/uploads/2024/01/253816_orig-kIYbWj.tmp_.jpg
END:VEVENT
BEGIN:VEVENT
DTSTART;TZID=America/New_York:20251219T073000
DTEND;TZID=America/New_York:20251219T090000
DTSTAMP:20260421T201707
CREATED:20251127T153010Z
LAST-MODIFIED:20251219T130002Z
UID:10009754-1766129400-1766134800@calendar.adasisrael.org
SUMMARY:Morning Minyan
DESCRIPTION:Join us in-person or on Zoom: \nSundays and Federal Holidays at 9am\, Zoom Link Here \nMondays-Fridays at 7:30am\, Zoom Link Here \nClick Here For Shacharit Pages \nWinter Break Schedule: \nThe Adas building will be open only for AM minyan on: Mon\, Dec 22 – Fri\, Dec 26\, Sun\, Dec 28\, Thu\, Jan 1\, and Fri\, Jan 2. \nPM minyan on Dec 22\, 23\, and 24\, 25\, 31 and Jan 1 will be Zoom-only.
URL:https://calendar.adasisrael.org/event/morning-minyan-735/
LOCATION:Biran Beit Midrash
CATEGORIES:Daily Minyan
ATTACH;FMTTYPE=image/jpeg:https://calendar.adasisrael.org/wp-content/uploads/2023/07/JThomas_20230521_0043-z8y1js.tmp_-scaled.jpg
END:VEVENT
BEGIN:VEVENT
DTSTART;TZID=America/New_York:20251218T180000
DTEND;TZID=America/New_York:20251218T190000
DTSTAMP:20260421T201707
CREATED:20251127T153009Z
LAST-MODIFIED:20251218T235002Z
UID:10009752-1766080800-1766084400@calendar.adasisrael.org
SUMMARY:Evening Minyan
DESCRIPTION:Join In-Person on Mondays\, Tuesdays\, Wednesdays\, Thursdays and via Zoom every day (Sunday-Thursday).Siddur Pages: Mincha\, Maariv \nWinter Break Schedule: \nThe Adas building will be open only for AM minyan on: Mon\, Dec 22 – Fri\, Dec 26\, Sun\, Dec 28\, Thu\, Jan 1\, and Fri\, Jan 2. \nPM minyan on Dec 22\, 23\, and 24\, 25\, 31 and Jan 1 will be Zoom-only.
URL:https://calendar.adasisrael.org/event/evening-minyan-615/
LOCATION:Biran Beit Midrash
CATEGORIES:Daily Minyan
ATTACH;FMTTYPE=image/jpeg:https://calendar.adasisrael.org/wp-content/uploads/2024/01/minyanheaderweb-XUfQxy.tmp_.jpg
END:VEVENT
BEGIN:VEVENT
DTSTART;TZID=America/New_York:20251218T073000
DTEND;TZID=America/New_York:20251218T090000
DTSTAMP:20260421T201707
CREATED:20251127T153009Z
LAST-MODIFIED:20251218T134002Z
UID:10009749-1766043000-1766048400@calendar.adasisrael.org
SUMMARY:Morning Minyan
DESCRIPTION:Join us in-person or on Zoom: \nSundays and Federal Holidays at 9am\, Zoom Link Here \nMondays-Fridays at 7:30am\, Zoom Link Here \nClick Here For Shacharit Pages \nWinter Break Schedule: \nThe Adas building will be open only for AM minyan on: Mon\, Dec 22 – Fri\, Dec 26\, Sun\, Dec 28\, Thu\, Jan 1\, and Fri\, Jan 2. \nPM minyan on Dec 22\, 23\, and 24\, 25\, 31 and Jan 1 will be Zoom-only.
URL:https://calendar.adasisrael.org/event/morning-minyan-734/
LOCATION:Biran Beit Midrash
CATEGORIES:Daily Minyan
ATTACH;FMTTYPE=image/jpeg:https://calendar.adasisrael.org/wp-content/uploads/2023/07/JThomas_20230521_0043-z8y1js.tmp_-scaled.jpg
END:VEVENT
BEGIN:VEVENT
DTSTART;TZID=America/New_York:20251217T180000
DTEND;TZID=America/New_York:20251217T184000
DTSTAMP:20260421T201707
CREATED:20251127T153009Z
LAST-MODIFIED:20251217T233510Z
UID:10009747-1765994400-1765996800@calendar.adasisrael.org
SUMMARY:Evening Minyan
DESCRIPTION:Join In-Person on Mondays\, Tuesdays\, Wednesdays\, Thursdays and via Zoom every day (Sunday-Thursday).Siddur Pages: Mincha\, Maariv \nWinter Break Schedule: \nThe Adas building will be open only for AM minyan on: Mon\, Dec 22 – Fri\, Dec 26\, Sun\, Dec 28\, Thu\, Jan 1\, and Fri\, Jan 2. \nPM minyan on Dec 22\, 23\, and 24\, 25\, 31 and Jan 1 will be Zoom-only.
URL:https://calendar.adasisrael.org/event/evening-minyan-614/
LOCATION:Biran Beit Midrash
CATEGORIES:Daily Minyan
ATTACH;FMTTYPE=image/jpeg:https://calendar.adasisrael.org/wp-content/uploads/2024/01/minyanheaderweb-XUfQxy.tmp_.jpg
END:VEVENT
BEGIN:VEVENT
DTSTART;TZID=America/New_York:20251217T073000
DTEND;TZID=America/New_York:20251217T090000
DTSTAMP:20260421T201707
CREATED:20251127T153009Z
LAST-MODIFIED:20251217T133502Z
UID:10009745-1765956600-1765962000@calendar.adasisrael.org
SUMMARY:Morning Minyan
DESCRIPTION:Join us in-person or on Zoom: \nSundays and Federal Holidays at 9am\, Zoom Link Here \nMondays-Fridays at 7:30am\, Zoom Link Here \nClick Here For Shacharit Pages \nWinter Break Schedule: \nThe Adas building will be open only for AM minyan on: Mon\, Dec 22 – Fri\, Dec 26\, Sun\, Dec 28\, Thu\, Jan 1\, and Fri\, Jan 2. \nPM minyan on Dec 22\, 23\, and 24\, 25\, 31 and Jan 1 will be Zoom-only.
URL:https://calendar.adasisrael.org/event/morning-minyan-733/
LOCATION:Biran Beit Midrash
CATEGORIES:Daily Minyan
ATTACH;FMTTYPE=image/jpeg:https://calendar.adasisrael.org/wp-content/uploads/2023/07/JThomas_20230521_0043-z8y1js.tmp_-scaled.jpg
END:VEVENT
BEGIN:VEVENT
DTSTART;TZID=America/New_York:20251216T180000
DTEND;TZID=America/New_York:20251216T190000
DTSTAMP:20260421T201707
CREATED:20251127T153009Z
LAST-MODIFIED:20251216T234001Z
UID:10009742-1765908000-1765911600@calendar.adasisrael.org
SUMMARY:Evening Minyan
DESCRIPTION:Join In-Person on Mondays\, Tuesdays\, Wednesdays\, Thursdays and via Zoom every day (Sunday-Thursday).Siddur Pages: Mincha\, Maariv \nWinter Break Schedule: \nThe Adas building will be open only for AM minyan on: Mon\, Dec 22 – Fri\, Dec 26\, Sun\, Dec 28\, Thu\, Jan 1\, and Fri\, Jan 2. \nPM minyan on Dec 22\, 23\, and 24\, 25\, 31 and Jan 1 will be Zoom-only.
URL:https://calendar.adasisrael.org/event/evening-minyan-613/
LOCATION:Biran Beit Midrash
CATEGORIES:Daily Minyan
ATTACH;FMTTYPE=image/jpeg:https://calendar.adasisrael.org/wp-content/uploads/2024/01/minyanheaderweb-XUfQxy.tmp_.jpg
END:VEVENT
BEGIN:VEVENT
DTSTART;TZID=America/New_York:20251216T114500
DTEND;TZID=America/New_York:20251216T123000
DTSTAMP:20260421T201707
CREATED:20251127T153008Z
LAST-MODIFIED:20251216T170002Z
UID:10009738-1765885500-1765888200@calendar.adasisrael.org
SUMMARY:Talmud Study: From Cover to Cover
DESCRIPTION:From Cover to Cover \nExploring a Tractate of Talmud in its’ original is a deep dive into some of our tradition’s most important legal and narrative ponderings. Participants will engage with the daf (page) through traditional commentaries and guided discussion\, building both skills and confidence in navigating the Talmudic page. The class is designed for those with some prior experience in Talmud study and a desire to move toward independent learning. Over time\, we will make our way through an entire tractate—cover to cover. \nGrab your lunch and join Rabbi Yolkut as we explore the basics of Talmud study. This year we will be studying Tractate Brachot. \nTuesdays (11:45-12:30) (Begins September 2nd)
URL:https://calendar.adasisrael.org/event/talmud-study-from-cover-to-cover-12/
LOCATION:Biran Beit Midrash
ATTACH;FMTTYPE=image/jpeg:https://calendar.adasisrael.org/wp-content/uploads/2023/07/Front-Professional.jpg
END:VEVENT
BEGIN:VEVENT
DTSTART;TZID=America/New_York:20251216T073000
DTEND;TZID=America/New_York:20251216T090000
DTSTAMP:20260421T201707
CREATED:20251127T153008Z
LAST-MODIFIED:20251216T130002Z
UID:10009740-1765870200-1765875600@calendar.adasisrael.org
SUMMARY:Morning Minyan
DESCRIPTION:Join us in-person or on Zoom: \nSundays and Federal Holidays at 9am\, Zoom Link Here \nMondays-Fridays at 7:30am\, Zoom Link Here \nClick Here For Shacharit Pages \nWinter Break Schedule: \nThe Adas building will be open only for AM minyan on: Mon\, Dec 22 – Fri\, Dec 26\, Sun\, Dec 28\, Thu\, Jan 1\, and Fri\, Jan 2. \nPM minyan on Dec 22\, 23\, and 24\, 25\, 31 and Jan 1 will be Zoom-only.
URL:https://calendar.adasisrael.org/event/morning-minyan-732/
LOCATION:Biran Beit Midrash
CATEGORIES:Daily Minyan
ATTACH;FMTTYPE=image/jpeg:https://calendar.adasisrael.org/wp-content/uploads/2023/07/JThomas_20230521_0043-z8y1js.tmp_-scaled.jpg
END:VEVENT
BEGIN:VEVENT
DTSTART;TZID=America/New_York:20251215T180000
DTEND;TZID=America/New_York:20251215T190000
DTSTAMP:20260421T201707
CREATED:20251127T153008Z
LAST-MODIFIED:20251215T225502Z
UID:10009737-1765821600-1765825200@calendar.adasisrael.org
SUMMARY:Evening Minyan
DESCRIPTION:Join In-Person on Mondays\, Tuesdays\, Wednesdays\, Thursdays and via Zoom every day (Sunday-Thursday).Siddur Pages: Mincha\, Maariv \nWinter Break Schedule: \nThe Adas building will be open only for AM minyan on: Mon\, Dec 22 – Fri\, Dec 26\, Sun\, Dec 28\, Thu\, Jan 1\, and Fri\, Jan 2. \nPM minyan on Dec 22\, 23\, and 24\, 25\, 31 and Jan 1 will be Zoom-only.
URL:https://calendar.adasisrael.org/event/evening-minyan-612/
LOCATION:Biran Beit Midrash
CATEGORIES:Daily Minyan
ATTACH;FMTTYPE=image/jpeg:https://calendar.adasisrael.org/wp-content/uploads/2024/01/minyanheaderweb-XUfQxy.tmp_.jpg
END:VEVENT
BEGIN:VEVENT
DTSTART;TZID=America/New_York:20251215T073000
DTEND;TZID=America/New_York:20251215T090000
DTSTAMP:20260421T201707
CREATED:20251127T153008Z
LAST-MODIFIED:20251215T135502Z
UID:10009735-1765783800-1765789200@calendar.adasisrael.org
SUMMARY:Morning Minyan
DESCRIPTION:Join us in-person or on Zoom: \nSundays and Federal Holidays at 9am\, Zoom Link Here \nMondays-Fridays at 7:30am\, Zoom Link Here \nClick Here For Shacharit Pages \nWinter Break Schedule: \nThe Adas building will be open only for AM minyan on: Mon\, Dec 22 – Fri\, Dec 26\, Sun\, Dec 28\, Thu\, Jan 1\, and Fri\, Jan 2. \nPM minyan on Dec 22\, 23\, and 24\, 25\, 31 and Jan 1 will be Zoom-only.
URL:https://calendar.adasisrael.org/event/morning-minyan-731/
LOCATION:Biran Beit Midrash
CATEGORIES:Daily Minyan
ATTACH;FMTTYPE=image/jpeg:https://calendar.adasisrael.org/wp-content/uploads/2023/07/JThomas_20230521_0043-z8y1js.tmp_-scaled.jpg
END:VEVENT
BEGIN:VEVENT
DTSTART;TZID=America/New_York:20251213T130000
DTEND;TZID=America/New_York:20251213T140000
DTSTAMP:20260421T201707
CREATED:20251127T153008Z
LAST-MODIFIED:20251213T175502Z
UID:10009724-1765630800-1765634400@calendar.adasisrael.org
SUMMARY:MakomDC: Mendelson Family Scholar Series-  Dr. Marjorie Lehman and Dr. Mira Wasserman
DESCRIPTION:Dr. Marjorie Lehman and Dr. Mira Wasserman \n“Stories of Slaves in Rabbinic Households: Daru\, Tavi\, and Rebi’s Slavewoman” \nShabbat\, December 13th 1 pm \nWe live with the legacy of a foundational story about our freedom from Egyptian slavery. It informs our rituals\, our liturgy\, and structures our past. And yet\, slaves were a regular part of life for the rabbis of the Talmud. We will meet the slaves and slavewomen that lived in rabbinic households and explore the ethical quandaries that confronted the rabbis and continue to confront us today. \nDr. Marjorie Lehman is professor of Talmud and Rabbinics at The Jewish Theological Seminary and the Area Coordinator of Rabbinic Literatures and Cultures. She teaches a wide range of courses in Rabbinics\, including courses on gender in Talmudic literature\, aggadah\, halakhah\, the history of the Jewish book\, and pedagogy. Her scholarly journey reflects a commitment to balancing the historical and intellectual aspects of Jewish texts while also focusing on the ways they speak to and help us to understand our place in the contemporary moment.
URL:https://calendar.adasisrael.org/event/makomdc-mendelson-family-scholar-series-dr-marjorie-lehman-and-dr-mira-wasserman/
LOCATION:Biran Beit Midrash
CATEGORIES:Learn & Engage
ATTACH;FMTTYPE=image/jpeg:https://calendar.adasisrael.org/wp-content/uploads/2023/07/Front-Professional.jpg
END:VEVENT
BEGIN:VEVENT
DTSTART;TZID=America/New_York:20251213T083000
DTEND;TZID=America/New_York:20251213T093000
DTSTAMP:20260421T201707
CREATED:20251127T153007Z
LAST-MODIFIED:20251213T135501Z
UID:10009719-1765614600-1765618200@calendar.adasisrael.org
SUMMARY:Boker Or
DESCRIPTION:The Boker Or Torah study group meets Saturday mornings at 8:30 a.m. with the weekly portion as its focus. Join our clergy and community in person each week for an engaging\, text-based conversation on the week’s parsha\, before Shabbat services.
URL:https://calendar.adasisrael.org/event/boker-or-94/
LOCATION:Biran Beit Midrash
CATEGORIES:Shabbat
ATTACH;FMTTYPE=image/jpeg:https://calendar.adasisrael.org/wp-content/uploads/2023/07/makompic21-22-68hj8a.tmp_.jpg
END:VEVENT
BEGIN:VEVENT
DTSTART;TZID=America/New_York:20251212T173000
DTEND;TZID=America/New_York:20251212T183000
DTSTAMP:20260421T201707
CREATED:20251127T153007Z
LAST-MODIFIED:20251212T225502Z
UID:10009718-1765560600-1765564200@calendar.adasisrael.org
SUMMARY:YP Happy Hour
DESCRIPTION:Register
URL:https://calendar.adasisrael.org/event/yp-happy-hour-14/
LOCATION:Biran Beit Midrash
CATEGORIES:Shabbat
ATTACH;FMTTYPE=image/jpeg:https://calendar.adasisrael.org/wp-content/uploads/2023/07/Front-Professional.jpg
END:VEVENT
BEGIN:VEVENT
DTSTART;TZID=America/New_York:20251212T073000
DTEND;TZID=America/New_York:20251212T090000
DTSTAMP:20260421T201707
CREATED:20251127T153007Z
LAST-MODIFIED:20251212T125502Z
UID:10009708-1765524600-1765530000@calendar.adasisrael.org
SUMMARY:Morning Minyan
DESCRIPTION:Join us in-person or on Zoom: \nSundays and Federal Holidays at 9am\, Zoom Link Here \nMondays-Fridays at 7:30am\, Zoom Link Here \nClick Here For Shacharit Pages \nWinter Break Schedule: \nThe Adas building will be open only for AM minyan on: Mon\, Dec 22 – Fri\, Dec 26\, Sun\, Dec 28\, Thu\, Jan 1\, and Fri\, Jan 2. \nPM minyan on Dec 22\, 23\, and 24\, 25\, 31 and Jan 1 will be Zoom-only.
URL:https://calendar.adasisrael.org/event/morning-minyan-729/
LOCATION:Biran Beit Midrash
CATEGORIES:Daily Minyan
ATTACH;FMTTYPE=image/jpeg:https://calendar.adasisrael.org/wp-content/uploads/2023/07/JThomas_20230521_0043-z8y1js.tmp_-scaled.jpg
END:VEVENT
BEGIN:VEVENT
DTSTART;TZID=America/New_York:20251211T180000
DTEND;TZID=America/New_York:20251211T190000
DTSTAMP:20260421T201707
CREATED:20251127T153006Z
LAST-MODIFIED:20251211T235511Z
UID:10009707-1765476000-1765479600@calendar.adasisrael.org
SUMMARY:Evening Minyan
DESCRIPTION:Join In-Person on Mondays\, Tuesdays\, Wednesdays\, Thursdays and via Zoom every day (Sunday-Thursday).Siddur Pages: Mincha\, Maariv \nWinter Break Schedule: \nThe Adas building will be open only for AM minyan on: Mon\, Dec 22 – Fri\, Dec 26\, Sun\, Dec 28\, Thu\, Jan 1\, and Fri\, Jan 2. \nPM minyan on Dec 22\, 23\, and 24\, 25\, 31 and Jan 1 will be Zoom-only.
URL:https://calendar.adasisrael.org/event/evening-minyan-610/
LOCATION:Biran Beit Midrash
CATEGORIES:Daily Minyan
ATTACH;FMTTYPE=image/jpeg:https://calendar.adasisrael.org/wp-content/uploads/2024/01/minyanheaderweb-XUfQxy.tmp_.jpg
END:VEVENT
BEGIN:VEVENT
DTSTART;TZID=America/New_York:20251211T073000
DTEND;TZID=America/New_York:20251211T090000
DTSTAMP:20260421T201707
CREATED:20251127T153006Z
LAST-MODIFIED:20251211T135002Z
UID:10009704-1765438200-1765443600@calendar.adasisrael.org
SUMMARY:Morning Minyan
DESCRIPTION:Join us in-person or on Zoom: \nSundays and Federal Holidays at 9am\, Zoom Link Here \nMondays-Fridays at 7:30am\, Zoom Link Here \nClick Here For Shacharit Pages \nWinter Break Schedule: \nThe Adas building will be open only for AM minyan on: Mon\, Dec 22 – Fri\, Dec 26\, Sun\, Dec 28\, Thu\, Jan 1\, and Fri\, Jan 2. \nPM minyan on Dec 22\, 23\, and 24\, 25\, 31 and Jan 1 will be Zoom-only.
URL:https://calendar.adasisrael.org/event/morning-minyan-728/
LOCATION:Biran Beit Midrash
CATEGORIES:Daily Minyan
ATTACH;FMTTYPE=image/jpeg:https://calendar.adasisrael.org/wp-content/uploads/2023/07/JThomas_20230521_0043-z8y1js.tmp_-scaled.jpg
END:VEVENT
BEGIN:VEVENT
DTSTART;TZID=America/New_York:20251210T180000
DTEND;TZID=America/New_York:20251210T184000
DTSTAMP:20260421T201707
CREATED:20251127T153006Z
LAST-MODIFIED:20251210T233508Z
UID:10009700-1765389600-1765392000@calendar.adasisrael.org
SUMMARY:Evening Minyan
DESCRIPTION:Join In-Person on Mondays\, Tuesdays\, Wednesdays\, Thursdays and via Zoom every day (Sunday-Thursday).Siddur Pages: Mincha\, Maariv \nWinter Break Schedule: \nThe Adas building will be open only for AM minyan on: Mon\, Dec 22 – Fri\, Dec 26\, Sun\, Dec 28\, Thu\, Jan 1\, and Fri\, Jan 2. \nPM minyan on Dec 22\, 23\, and 24\, 25\, 31 and Jan 1 will be Zoom-only.
URL:https://calendar.adasisrael.org/event/evening-minyan-609/
LOCATION:Biran Beit Midrash
CATEGORIES:Daily Minyan
ATTACH;FMTTYPE=image/jpeg:https://calendar.adasisrael.org/wp-content/uploads/2024/01/minyanheaderweb-XUfQxy.tmp_.jpg
END:VEVENT
BEGIN:VEVENT
DTSTART;TZID=America/New_York:20251210T073000
DTEND;TZID=America/New_York:20251210T090000
DTSTAMP:20260421T201707
CREATED:20251127T153006Z
LAST-MODIFIED:20251210T133002Z
UID:10009698-1765351800-1765357200@calendar.adasisrael.org
SUMMARY:Morning Minyan
DESCRIPTION:Join us in-person or on Zoom: \nSundays and Federal Holidays at 9am\, Zoom Link Here \nMondays-Fridays at 7:30am\, Zoom Link Here \nClick Here For Shacharit Pages \nWinter Break Schedule: \nThe Adas building will be open only for AM minyan on: Mon\, Dec 22 – Fri\, Dec 26\, Sun\, Dec 28\, Thu\, Jan 1\, and Fri\, Jan 2. \nPM minyan on Dec 22\, 23\, and 24\, 25\, 31 and Jan 1 will be Zoom-only.
URL:https://calendar.adasisrael.org/event/morning-minyan-727/
LOCATION:Biran Beit Midrash
CATEGORIES:Daily Minyan
ATTACH;FMTTYPE=image/jpeg:https://calendar.adasisrael.org/wp-content/uploads/2023/07/JThomas_20230521_0043-z8y1js.tmp_-scaled.jpg
END:VEVENT
BEGIN:VEVENT
DTSTART;TZID=America/New_York:20251209T183000
DTEND;TZID=America/New_York:20251209T200000
DTSTAMP:20260421T201707
CREATED:20251127T153006Z
LAST-MODIFIED:20251210T004002Z
UID:10009697-1765305000-1765310400@calendar.adasisrael.org
SUMMARY:MakomDC: Revealed and Retold: The Narrative Heart of Judaism
DESCRIPTION:“Revealed and Retold: The Narrative Heart of Judaism” \nTuesday Evenings: December 2nd and 9th\, January 6th\, 13th and 20th*  \n6:30 pm Snacks\, Drinks and Schmoozing 7:00 pm Learning \n \nA five part series wherein we will explore the storytelling soul of Jewish tradition through the lens of A Heavenly Torah by Rabbi Abraham Joshua Heschel. Together we’ll delve into the world of Aggadah—the ethical\, theological\, and imaginative heart of Torah. From the binding of Isaac to the Oven of Achnai\, from the Zohar’s cosmic myths to Hasidic tales of wonder and protest\, we’ll study how stories have shaped Jewish thought and spiritual life. These are not just tales of the past\, but living narratives that reveal the depths of divine encounter\, human struggle\, and the moral vision of our people. \n*Cocktails provided
URL:https://calendar.adasisrael.org/event/makomdc-revealed-and-retold-the-narrative-heart-of-judaism-2/
LOCATION:Biran Beit Midrash
CATEGORIES:Learn & Engage
ATTACH;FMTTYPE=image/jpeg:https://calendar.adasisrael.org/wp-content/uploads/2023/07/Front-Professional.jpg
END:VEVENT
BEGIN:VEVENT
DTSTART;TZID=America/New_York:20251209T180000
DTEND;TZID=America/New_York:20251209T183000
DTSTAMP:20260421T201707
CREATED:20251127T153005Z
LAST-MODIFIED:20251209T232502Z
UID:10009696-1765303200-1765305000@calendar.adasisrael.org
SUMMARY:Evening Minyan
DESCRIPTION:Join In-Person on Mondays\, Tuesdays\, Wednesdays\, Thursdays and via Zoom every day (Sunday-Thursday).Siddur Pages: Mincha\, Maariv \nWinter Break Schedule: \nThe Adas building will be open only for AM minyan on: Mon\, Dec 22 – Fri\, Dec 26\, Sun\, Dec 28\, Thu\, Jan 1\, and Fri\, Jan 2. \nPM minyan on Dec 22\, 23\, and 24\, 25\, 31 and Jan 1 will be Zoom-only.
URL:https://calendar.adasisrael.org/event/evening-minyan-608/
LOCATION:Biran Beit Midrash
CATEGORIES:Daily Minyan
ATTACH;FMTTYPE=image/jpeg:https://calendar.adasisrael.org/wp-content/uploads/2024/01/minyanheaderweb-XUfQxy.tmp_.jpg
END:VEVENT
BEGIN:VEVENT
DTSTART;TZID=America/New_York:20251209T114500
DTEND;TZID=America/New_York:20251209T123000
DTSTAMP:20260421T201707
CREATED:20251127T153005Z
LAST-MODIFIED:20251209T165502Z
UID:10009695-1765280700-1765283400@calendar.adasisrael.org
SUMMARY:Talmud Study: From Cover to Cover
DESCRIPTION:From Cover to Cover \nExploring a Tractate of Talmud in its’ original is a deep dive into some of our tradition’s most important legal and narrative ponderings. Participants will engage with the daf (page) through traditional commentaries and guided discussion\, building both skills and confidence in navigating the Talmudic page. The class is designed for those with some prior experience in Talmud study and a desire to move toward independent learning. Over time\, we will make our way through an entire tractate—cover to cover. \nGrab your lunch and join Rabbi Yolkut as we explore the basics of Talmud study. This year we will be studying Tractate Brachot. \nTuesdays (11:45-12:30) (Begins September 2nd)
URL:https://calendar.adasisrael.org/event/talmud-study-from-cover-to-cover-11/
LOCATION:Biran Beit Midrash
ATTACH;FMTTYPE=image/jpeg:https://calendar.adasisrael.org/wp-content/uploads/2023/07/Front-Professional.jpg
END:VEVENT
BEGIN:VEVENT
DTSTART;TZID=America/New_York:20251209T073000
DTEND;TZID=America/New_York:20251209T090000
DTSTAMP:20260421T201707
CREATED:20251127T153005Z
LAST-MODIFIED:20251209T131502Z
UID:10009692-1765265400-1765270800@calendar.adasisrael.org
SUMMARY:Morning Minyan
DESCRIPTION:Join us in-person or on Zoom: \nSundays and Federal Holidays at 9am\, Zoom Link Here \nMondays-Fridays at 7:30am\, Zoom Link Here \nClick Here For Shacharit Pages \nWinter Break Schedule: \nThe Adas building will be open only for AM minyan on: Mon\, Dec 22 – Fri\, Dec 26\, Sun\, Dec 28\, Thu\, Jan 1\, and Fri\, Jan 2. \nPM minyan on Dec 22\, 23\, and 24\, 25\, 31 and Jan 1 will be Zoom-only.
URL:https://calendar.adasisrael.org/event/morning-minyan-726/
LOCATION:Biran Beit Midrash
CATEGORIES:Daily Minyan
ATTACH;FMTTYPE=image/jpeg:https://calendar.adasisrael.org/wp-content/uploads/2023/07/JThomas_20230521_0043-z8y1js.tmp_-scaled.jpg
END:VEVENT
BEGIN:VEVENT
DTSTART;TZID=America/New_York:20251208T180000
DTEND;TZID=America/New_York:20251208T190000
DTSTAMP:20260421T201707
CREATED:20251127T153005Z
LAST-MODIFIED:20251208T231001Z
UID:10009691-1765216800-1765220400@calendar.adasisrael.org
SUMMARY:Evening Minyan
DESCRIPTION:Join In-Person on Mondays\, Tuesdays\, Wednesdays\, Thursdays and via Zoom every day (Sunday-Thursday).Siddur Pages: Mincha\, Maariv \nWinter Break Schedule: \nThe Adas building will be open only for AM minyan on: Mon\, Dec 22 – Fri\, Dec 26\, Sun\, Dec 28\, Thu\, Jan 1\, and Fri\, Jan 2. \nPM minyan on Dec 22\, 23\, and 24\, 25\, 31 and Jan 1 will be Zoom-only.
URL:https://calendar.adasisrael.org/event/evening-minyan-607/
LOCATION:Biran Beit Midrash
CATEGORIES:Daily Minyan
ATTACH;FMTTYPE=image/jpeg:https://calendar.adasisrael.org/wp-content/uploads/2024/01/minyanheaderweb-XUfQxy.tmp_.jpg
END:VEVENT
BEGIN:VEVENT
DTSTART;TZID=America/New_York:20251208T073000
DTEND;TZID=America/New_York:20251208T090000
DTSTAMP:20260421T201707
CREATED:20251127T153005Z
LAST-MODIFIED:20251208T125502Z
UID:10009688-1765179000-1765184400@calendar.adasisrael.org
SUMMARY:Morning Minyan
DESCRIPTION:Join us in-person or on Zoom: \nSundays and Federal Holidays at 9am\, Zoom Link Here \nMondays-Fridays at 7:30am\, Zoom Link Here \nClick Here For Shacharit Pages \nWinter Break Schedule: \nThe Adas building will be open only for AM minyan on: Mon\, Dec 22 – Fri\, Dec 26\, Sun\, Dec 28\, Thu\, Jan 1\, and Fri\, Jan 2. \nPM minyan on Dec 22\, 23\, and 24\, 25\, 31 and Jan 1 will be Zoom-only.
URL:https://calendar.adasisrael.org/event/morning-minyan-725/
LOCATION:Biran Beit Midrash
CATEGORIES:Daily Minyan
ATTACH;FMTTYPE=image/jpeg:https://calendar.adasisrael.org/wp-content/uploads/2023/07/JThomas_20230521_0043-z8y1js.tmp_-scaled.jpg
END:VEVENT
END:VCALENDAR