BEGIN:VCALENDAR
VERSION:2.0
PRODID:-//Adas Israel Congregation - ECPv6.2.9//NONSGML v1.0//EN
CALSCALE:GREGORIAN
METHOD:PUBLISH
X-ORIGINAL-URL:https://calendar.adasisrael.org
X-WR-CALDESC:Events for Adas Israel Congregation
REFRESH-INTERVAL;VALUE=DURATION:PT1H
X-Robots-Tag:noindex
X-PUBLISHED-TTL:PT1H
BEGIN:VTIMEZONE
TZID:America/New_York
BEGIN:DAYLIGHT
TZOFFSETFROM:-0500
TZOFFSETTO:-0400
TZNAME:EDT
DTSTART:20250309T070000
END:DAYLIGHT
BEGIN:STANDARD
TZOFFSETFROM:-0400
TZOFFSETTO:-0500
TZNAME:EST
DTSTART:20251102T060000
END:STANDARD
BEGIN:DAYLIGHT
TZOFFSETFROM:-0500
TZOFFSETTO:-0400
TZNAME:EDT
DTSTART:20260308T070000
END:DAYLIGHT
BEGIN:STANDARD
TZOFFSETFROM:-0400
TZOFFSETTO:-0500
TZNAME:EST
DTSTART:20261101T060000
END:STANDARD
END:VTIMEZONE
BEGIN:VEVENT
DTSTART;TZID=America/New_York:20260106T073000
DTEND;TZID=America/New_York:20260106T090000
DTSTAMP:20260421T185002
CREATED:20251127T153015Z
LAST-MODIFIED:20260106T125502Z
UID:10009810-1767684600-1767690000@calendar.adasisrael.org
SUMMARY:Morning Minyan
DESCRIPTION:Join us in-person or on Zoom: \nSundays and Federal Holidays at 9am\, Zoom Link Here \nMondays-Fridays at 7:30am\, Zoom Link Here \nClick Here For Shacharit Pages
URL:https://calendar.adasisrael.org/event/morning-minyan-750/
LOCATION:Biran Beit Midrash
CATEGORIES:Daily Minyan
ATTACH;FMTTYPE=image/jpeg:https://calendar.adasisrael.org/wp-content/uploads/2023/07/JThomas_20230521_0043-z8y1js.tmp_-scaled.jpg
END:VEVENT
BEGIN:VEVENT
DTSTART;TZID=America/New_York:20260105T180000
DTEND;TZID=America/New_York:20260105T190000
DTSTAMP:20260421T185002
CREATED:20251127T153015Z
LAST-MODIFIED:20260105T230502Z
UID:10009809-1767636000-1767639600@calendar.adasisrael.org
SUMMARY:Evening Minyan
DESCRIPTION:Join In-Person on Mondays\, Tuesdays\, Wednesdays\, Thursdays and via Zoom every day (Sunday-Thursday).Siddur Pages: Mincha\, Maariv \nWinter Break Schedule: \nThe Adas building will be open only for AM minyan on: Mon\, Dec 22 – Fri\, Dec 26\, Sun\, Dec 28\, Thu\, Jan 1\, and Fri\, Jan 2. \nPM minyan on Dec 22\, 23\, and 24\, 25\, 31 and Jan 1 will be Zoom-only.
URL:https://calendar.adasisrael.org/event/evening-minyan-627/
LOCATION:Biran Beit Midrash
CATEGORIES:Daily Minyan
ATTACH;FMTTYPE=image/jpeg:https://calendar.adasisrael.org/wp-content/uploads/2024/01/minyanheaderweb-XUfQxy.tmp_.jpg
END:VEVENT
BEGIN:VEVENT
DTSTART;TZID=America/New_York:20260105T073000
DTEND;TZID=America/New_York:20260105T090000
DTSTAMP:20260421T185002
CREATED:20251127T153015Z
LAST-MODIFIED:20260105T134502Z
UID:10009807-1767598200-1767603600@calendar.adasisrael.org
SUMMARY:Morning Minyan
DESCRIPTION:Join us in-person or on Zoom: \nSundays and Federal Holidays at 9am\, Zoom Link Here \nMondays-Fridays at 7:30am\, Zoom Link Here \nClick Here For Shacharit Pages \nWinter Break Schedule: \nThe Adas building will be open only for AM minyan on: Mon\, Dec 22 – Fri\, Dec 26\, Sun\, Dec 28\, Thu\, Jan 1\, and Fri\, Jan 2. \nPM minyan on Dec 22\, 23\, and 24\, 25\, 31 and Jan 1 will be Zoom-only.
URL:https://calendar.adasisrael.org/event/morning-minyan-749/
LOCATION:Biran Beit Midrash
CATEGORIES:Daily Minyan
ATTACH;FMTTYPE=image/jpeg:https://calendar.adasisrael.org/wp-content/uploads/2023/07/JThomas_20230521_0043-z8y1js.tmp_-scaled.jpg
END:VEVENT
BEGIN:VEVENT
DTSTART;TZID=America/New_York:20260104T090000
DTEND;TZID=America/New_York:20260104T100000
DTSTAMP:20260421T185002
CREATED:20251127T153015Z
LAST-MODIFIED:20260104T140002Z
UID:10009805-1767517200-1767520800@calendar.adasisrael.org
SUMMARY:Morning Minyan
DESCRIPTION:Join us in-person or on Zoom: \nSundays and Federal Holidays at 9am\, Zoom Link Here \nMondays-Fridays at 7:30am\, Zoom Link Here \nClick Here For Shacharit Pages \nWinter Break Schedule: \nThe Adas building will be open only for AM minyan on: Mon\, Dec 22 – Fri\, Dec 26\, Sun\, Dec 28\, Thu\, Jan 1\, and Fri\, Jan 2. \nPM minyan on Dec 22\, 23\, and 24\, 25\, 31 and Jan 1 will be Zoom-only.
URL:https://calendar.adasisrael.org/event/morning-minyan-748/
LOCATION:Biran Beit Midrash
CATEGORIES:Daily Minyan
ATTACH;FMTTYPE=image/jpeg:https://calendar.adasisrael.org/wp-content/uploads/2023/07/JThomas_20230521_0043-z8y1js.tmp_-scaled.jpg
END:VEVENT
BEGIN:VEVENT
DTSTART;TZID=America/New_York:20260103T130000
DTEND;TZID=America/New_York:20260103T134500
DTSTAMP:20260421T185002
CREATED:20251127T153015Z
LAST-MODIFIED:20260103T184002Z
UID:10009804-1767445200-1767447900@calendar.adasisrael.org
SUMMARY:Shabbat Mincha Service
DESCRIPTION:Join us for a Saturday afternoon of prayer and Torah. The content of the mincha prayers reflects the essential goal of menucha (rest) on the Sabbath day.
URL:https://calendar.adasisrael.org/event/shabbat-mincha-service-129/
LOCATION:Biran Beit Midrash
CATEGORIES:Shabbat
ATTACH;FMTTYPE=image/jpeg:https://calendar.adasisrael.org/wp-content/uploads/2023/07/minchaservice600x400-sc8WO8.tmp_.jpg
END:VEVENT
BEGIN:VEVENT
DTSTART;TZID=America/New_York:20260103T093000
DTEND;TZID=America/New_York:20260103T120000
DTSTAMP:20260421T185002
CREATED:20251127T153014Z
LAST-MODIFIED:20260103T155502Z
UID:10009799-1767432600-1767441600@calendar.adasisrael.org
SUMMARY:Shabbat Smith Service
DESCRIPTION:Click Here To Livestream \nLed by our inspiring Rabbis and Cantor\, this service includes a D’var Torah and sermon and often includes participation by members and B’nai Mitzvah. \nShabbat Service Links: \nSiddur Lev Shalem: Kabbalat Shabbat | Click Here to DownloadSiddur Lev Shalem: Shabbat Morning | Click Here to Download
URL:https://calendar.adasisrael.org/event/shabbat-smith-service-118/
LOCATION:Biran Beit Midrash
CATEGORIES:Shabbat
ATTACH;FMTTYPE=image/jpeg:https://calendar.adasisrael.org/wp-content/uploads/2024/03/AdasShabbat-YxiwDc.tmp_.jpg
END:VEVENT
BEGIN:VEVENT
DTSTART;TZID=America/New_York:20260102T180000
DTEND;TZID=America/New_York:20260102T190000
DTSTAMP:20260421T185002
CREATED:20251127T153014Z
LAST-MODIFIED:20260102T233002Z
UID:10009798-1767376800-1767380400@calendar.adasisrael.org
SUMMARY:Kabbalat Shabbat Services
DESCRIPTION:Community Kabbalat Shabbat \nThe tone of this service is traditional\, passionate\, joyful\, and spiritual. We will join together in rousing traditional melodies\, along with moments of depth and quiet contemplation. Our rabbis and other community members will share short divrei Torah (words of Torah). You will leave the service feeling renewed and in time to enjoy a wonderful Shabbat evening.
URL:https://calendar.adasisrael.org/event/kabbalat-shabbat-services-57/
LOCATION:Biran Beit Midrash
CATEGORIES:Shabbat
ATTACH;FMTTYPE=image/jpeg:https://calendar.adasisrael.org/wp-content/uploads/2024/01/253816_orig-kIYbWj.tmp_.jpg
END:VEVENT
BEGIN:VEVENT
DTSTART;TZID=America/New_York:20260102T090000
DTEND;TZID=America/New_York:20260102T103000
DTSTAMP:20260421T185002
CREATED:20251127T153014Z
LAST-MODIFIED:20260102T142502Z
UID:10009796-1767344400-1767349800@calendar.adasisrael.org
SUMMARY:Morning Minyan
DESCRIPTION:
URL:https://calendar.adasisrael.org/event/morning-minyan-747/
LOCATION:Biran Beit Midrash
CATEGORIES:Daily Minyan
ATTACH;FMTTYPE=image/jpeg:https://calendar.adasisrael.org/wp-content/uploads/2023/07/JThomas_20230521_0043-z8y1js.tmp_-scaled.jpg
END:VEVENT
BEGIN:VEVENT
DTSTART;TZID=America/New_York:20260101T090000
DTEND;TZID=America/New_York:20260101T103000
DTSTAMP:20260421T185002
CREATED:20251127T153014Z
LAST-MODIFIED:20260101T151002Z
UID:10009794-1767258000-1767263400@calendar.adasisrael.org
SUMMARY:Morning Minyan
DESCRIPTION:Join us in-person or on Zoom: \nSundays and Federal Holidays at 9am\, Zoom Link Here \nMondays-Fridays at 7:30am\, Zoom Link Here \nClick Here For Shacharit Pages \nWinter Break Schedule: \nThe Adas building will be open only for AM minyan on: Mon\, Dec 22 – Fri\, Dec 26\, Sun\, Dec 28\, Thu\, Jan 1\, and Fri\, Jan 2. \nPM minyan on Dec 22\, 23\, and 24\, 25\, 31 and Jan 1 will be Zoom-only.
URL:https://calendar.adasisrael.org/event/morning-minyan-746/
LOCATION:Biran Beit Midrash
CATEGORIES:Daily Minyan
ATTACH;FMTTYPE=image/jpeg:https://calendar.adasisrael.org/wp-content/uploads/2023/07/JThomas_20230521_0043-z8y1js.tmp_-scaled.jpg
END:VEVENT
BEGIN:VEVENT
DTSTART;TZID=America/New_York:20251231T073000
DTEND;TZID=America/New_York:20251231T090000
DTSTAMP:20260421T185002
CREATED:20251127T153013Z
LAST-MODIFIED:20251231T132502Z
UID:10009792-1767166200-1767171600@calendar.adasisrael.org
SUMMARY:Morning Minyan
DESCRIPTION:Join us in-person or on Zoom: \nSundays and Federal Holidays at 9am\, Zoom Link Here \nMondays-Fridays at 7:30am\, Zoom Link Here \nClick Here For Shacharit Pages \nWinter Break Schedule: \nThe Adas building will be open only for AM minyan on: Mon\, Dec 22 – Fri\, Dec 26\, Sun\, Dec 28\, Thu\, Jan 1\, and Fri\, Jan 2. \nPM minyan on Dec 22\, 23\, and 24\, 25\, 31 and Jan 1 will be Zoom-only.
URL:https://calendar.adasisrael.org/event/morning-minyan-745/
LOCATION:Biran Beit Midrash
CATEGORIES:Daily Minyan
ATTACH;FMTTYPE=image/jpeg:https://calendar.adasisrael.org/wp-content/uploads/2023/07/JThomas_20230521_0043-z8y1js.tmp_-scaled.jpg
END:VEVENT
BEGIN:VEVENT
DTSTART;TZID=America/New_York:20251230T180000
DTEND;TZID=America/New_York:20251230T190000
DTSTAMP:20260421T185002
CREATED:20251127T153013Z
LAST-MODIFIED:20251230T230001Z
UID:10009791-1767117600-1767121200@calendar.adasisrael.org
SUMMARY:Evening Minyan
DESCRIPTION:Join In-Person on Mondays\, Tuesdays\, Wednesdays\, Thursdays and via Zoom every day (Sunday-Thursday).Siddur Pages: Mincha\, Maariv \nWinter Break Schedule: \nThe Adas building will be open only for AM minyan on: Mon\, Dec 22 – Fri\, Dec 26\, Sun\, Dec 28\, Thu\, Jan 1\, and Fri\, Jan 2. \nPM minyan on Dec 22\, 23\, and 24\, 25\, 31 and Jan 1 will be Zoom-only.
URL:https://calendar.adasisrael.org/event/evening-minyan-623/
LOCATION:Biran Beit Midrash
CATEGORIES:Daily Minyan
ATTACH;FMTTYPE=image/jpeg:https://calendar.adasisrael.org/wp-content/uploads/2024/01/minyanheaderweb-XUfQxy.tmp_.jpg
END:VEVENT
BEGIN:VEVENT
DTSTART;TZID=America/New_York:20251230T073000
DTEND;TZID=America/New_York:20251230T090000
DTSTAMP:20260421T185002
CREATED:20251127T153013Z
LAST-MODIFIED:20251230T135502Z
UID:10009789-1767079800-1767085200@calendar.adasisrael.org
SUMMARY:Morning Minyan
DESCRIPTION:Join us in-person or on Zoom: \nSundays and Federal Holidays at 9am\, Zoom Link Here \nMondays-Fridays at 7:30am\, Zoom Link Here \nClick Here For Shacharit Pages \nWinter Break Schedule: \nThe Adas building will be open only for AM minyan on: Mon\, Dec 22 – Fri\, Dec 26\, Sun\, Dec 28\, Thu\, Jan 1\, and Fri\, Jan 2. \nPM minyan on Dec 22\, 23\, and 24\, 25\, 31 and Jan 1 will be Zoom-only.
URL:https://calendar.adasisrael.org/event/morning-minyan-744/
LOCATION:Biran Beit Midrash
CATEGORIES:Daily Minyan
ATTACH;FMTTYPE=image/jpeg:https://calendar.adasisrael.org/wp-content/uploads/2023/07/JThomas_20230521_0043-z8y1js.tmp_-scaled.jpg
END:VEVENT
BEGIN:VEVENT
DTSTART;TZID=America/New_York:20251229T180000
DTEND;TZID=America/New_York:20251229T190000
DTSTAMP:20260421T185002
CREATED:20251127T153013Z
LAST-MODIFIED:20251229T235502Z
UID:10009788-1767031200-1767034800@calendar.adasisrael.org
SUMMARY:Evening Minyan
DESCRIPTION:Join In-Person on Mondays\, Tuesdays\, Wednesdays\, Thursdays and via Zoom every day (Sunday-Thursday).Siddur Pages: Mincha\, Maariv \nWinter Break Schedule: \nThe Adas building will be open only for AM minyan on: Mon\, Dec 22 – Fri\, Dec 26\, Sun\, Dec 28\, Thu\, Jan 1\, and Fri\, Jan 2. \nPM minyan on Dec 22\, 23\, and 24\, 25\, 31 and Jan 1 will be Zoom-only.
URL:https://calendar.adasisrael.org/event/evening-minyan-622/
LOCATION:Biran Beit Midrash
CATEGORIES:Daily Minyan
ATTACH;FMTTYPE=image/jpeg:https://calendar.adasisrael.org/wp-content/uploads/2024/01/minyanheaderweb-XUfQxy.tmp_.jpg
END:VEVENT
BEGIN:VEVENT
DTSTART;TZID=America/New_York:20251229T073000
DTEND;TZID=America/New_York:20251229T090000
DTSTAMP:20260421T185002
CREATED:20251127T153013Z
LAST-MODIFIED:20251229T133002Z
UID:10009786-1766993400-1766998800@calendar.adasisrael.org
SUMMARY:Morning Minyan
DESCRIPTION:Join us in-person or on Zoom: \nSundays and Federal Holidays at 9am\, Zoom Link Here \nMondays-Fridays at 7:30am\, Zoom Link Here \nClick Here For Shacharit Pages \nWinter Break Schedule: \nThe Adas building will be open only for AM minyan on: Mon\, Dec 22 – Fri\, Dec 26\, Sun\, Dec 28\, Thu\, Jan 1\, and Fri\, Jan 2. \nPM minyan on Dec 22\, 23\, and 24\, 25\, 31 and Jan 1 will be Zoom-only.
URL:https://calendar.adasisrael.org/event/morning-minyan-743/
LOCATION:Biran Beit Midrash
CATEGORIES:Daily Minyan
ATTACH;FMTTYPE=image/jpeg:https://calendar.adasisrael.org/wp-content/uploads/2023/07/JThomas_20230521_0043-z8y1js.tmp_-scaled.jpg
END:VEVENT
BEGIN:VEVENT
DTSTART;TZID=America/New_York:20251228T090000
DTEND;TZID=America/New_York:20251228T100000
DTSTAMP:20260421T185002
CREATED:20251127T153013Z
LAST-MODIFIED:20251228T143002Z
UID:10009784-1766912400-1766916000@calendar.adasisrael.org
SUMMARY:Morning Minyan
DESCRIPTION:Join us in-person or on Zoom: \nSundays and Federal Holidays at 9am\, Zoom Link Here \nMondays-Fridays at 7:30am\, Zoom Link Here \nClick Here For Shacharit Pages \nWinter Break Schedule: \nThe Adas building will be open only for AM minyan on: Mon\, Dec 22 – Fri\, Dec 26\, Sun\, Dec 28\, Thu\, Jan 1\, and Fri\, Jan 2. \nPM minyan on Dec 22\, 23\, and 24\, 25\, 31 and Jan 1 will be Zoom-only.
URL:https://calendar.adasisrael.org/event/morning-minyan-742/
LOCATION:Biran Beit Midrash
CATEGORIES:Daily Minyan
ATTACH;FMTTYPE=image/jpeg:https://calendar.adasisrael.org/wp-content/uploads/2023/07/JThomas_20230521_0043-z8y1js.tmp_-scaled.jpg
END:VEVENT
BEGIN:VEVENT
DTSTART;TZID=America/New_York:20251227T130000
DTEND;TZID=America/New_York:20251227T134500
DTSTAMP:20260421T185002
CREATED:20251127T153012Z
LAST-MODIFIED:20251227T175502Z
UID:10009783-1766840400-1766843100@calendar.adasisrael.org
SUMMARY:Shabbat Mincha Service
DESCRIPTION:Join us for a Saturday afternoon of prayer and Torah. The content of the mincha prayers reflects the essential goal of menucha (rest) on the Sabbath day.
URL:https://calendar.adasisrael.org/event/shabbat-mincha-service-128/
LOCATION:Biran Beit Midrash
CATEGORIES:Shabbat
ATTACH;FMTTYPE=image/jpeg:https://calendar.adasisrael.org/wp-content/uploads/2023/07/minchaservice600x400-sc8WO8.tmp_.jpg
END:VEVENT
BEGIN:VEVENT
DTSTART;TZID=America/New_York:20251226T090000
DTEND;TZID=America/New_York:20251226T103000
DTSTAMP:20260421T185002
CREATED:20251127T153012Z
LAST-MODIFIED:20251226T145002Z
UID:10009778-1766739600-1766745000@calendar.adasisrael.org
SUMMARY:Morning Minyan
DESCRIPTION:
URL:https://calendar.adasisrael.org/event/morning-minyan-741/
LOCATION:Biran Beit Midrash
CATEGORIES:Daily Minyan
ATTACH;FMTTYPE=image/jpeg:https://calendar.adasisrael.org/wp-content/uploads/2023/07/JThomas_20230521_0043-z8y1js.tmp_-scaled.jpg
END:VEVENT
BEGIN:VEVENT
DTSTART;TZID=America/New_York:20251225T090000
DTEND;TZID=America/New_York:20251225T103000
DTSTAMP:20260421T185002
CREATED:20251127T153012Z
LAST-MODIFIED:20251225T144002Z
UID:10009776-1766653200-1766658600@calendar.adasisrael.org
SUMMARY:Morning Minyan
DESCRIPTION:
URL:https://calendar.adasisrael.org/event/morning-minyan-740/
LOCATION:Biran Beit Midrash
CATEGORIES:Daily Minyan
ATTACH;FMTTYPE=image/jpeg:https://calendar.adasisrael.org/wp-content/uploads/2023/07/JThomas_20230521_0043-z8y1js.tmp_-scaled.jpg
END:VEVENT
BEGIN:VEVENT
DTSTART;TZID=America/New_York:20251224T073000
DTEND;TZID=America/New_York:20251224T090000
DTSTAMP:20260421T185002
CREATED:20251127T153011Z
LAST-MODIFIED:20251224T134001Z
UID:10009773-1766561400-1766566800@calendar.adasisrael.org
SUMMARY:Morning Minyan
DESCRIPTION:Join us in-person or on Zoom: \nSundays and Federal Holidays at 9am\, Zoom Link Here \nMondays-Fridays at 7:30am\, Zoom Link Here \nClick Here For Shacharit Pages \nWinter Break Schedule: \nThe Adas building will be open only for AM minyan on: Mon\, Dec 22 – Fri\, Dec 26\, Sun\, Dec 28\, Thu\, Jan 1\, and Fri\, Jan 2. \nPM minyan on Dec 22\, 23\, and 24\, 25\, 31 and Jan 1 will be Zoom-only.
URL:https://calendar.adasisrael.org/event/morning-minyan-739/
LOCATION:Biran Beit Midrash
CATEGORIES:Daily Minyan
ATTACH;FMTTYPE=image/jpeg:https://calendar.adasisrael.org/wp-content/uploads/2023/07/JThomas_20230521_0043-z8y1js.tmp_-scaled.jpg
END:VEVENT
BEGIN:VEVENT
DTSTART;TZID=America/New_York:20251223T073000
DTEND;TZID=America/New_York:20251223T090000
DTSTAMP:20260421T185002
CREATED:20251127T153011Z
LAST-MODIFIED:20251223T133002Z
UID:10009770-1766475000-1766480400@calendar.adasisrael.org
SUMMARY:Morning Minyan
DESCRIPTION:Join us in-person or on Zoom: \nSundays and Federal Holidays at 9am\, Zoom Link Here \nMondays-Fridays at 7:30am\, Zoom Link Here \nClick Here For Shacharit Pages \nWinter Break Schedule: \nThe Adas building will be open only for AM minyan on: Mon\, Dec 22 – Fri\, Dec 26\, Sun\, Dec 28\, Thu\, Jan 1\, and Fri\, Jan 2. \nPM minyan on Dec 22\, 23\, and 24\, 25\, 31 and Jan 1 will be Zoom-only.
URL:https://calendar.adasisrael.org/event/morning-minyan-738/
LOCATION:Biran Beit Midrash
CATEGORIES:Daily Minyan
ATTACH;FMTTYPE=image/jpeg:https://calendar.adasisrael.org/wp-content/uploads/2023/07/JThomas_20230521_0043-z8y1js.tmp_-scaled.jpg
END:VEVENT
BEGIN:VEVENT
DTSTART;TZID=America/New_York:20251222T073000
DTEND;TZID=America/New_York:20251222T090000
DTSTAMP:20260421T185002
CREATED:20251127T153011Z
LAST-MODIFIED:20251222T134002Z
UID:10009767-1766388600-1766394000@calendar.adasisrael.org
SUMMARY:Morning Minyan
DESCRIPTION:Join us in-person or on Zoom: \nSundays and Federal Holidays at 9am\, Zoom Link Here \nMondays-Fridays at 7:30am\, Zoom Link Here \nClick Here For Shacharit Pages \nWinter Break Schedule: \nThe Adas building will be open only for AM minyan on: Mon\, Dec 22 – Fri\, Dec 26\, Sun\, Dec 28\, Thu\, Jan 1\, and Fri\, Jan 2. \nPM minyan on Dec 22\, 23\, and 24\, 25\, 31 and Jan 1 will be Zoom-only.
URL:https://calendar.adasisrael.org/event/morning-minyan-737/
LOCATION:Biran Beit Midrash
CATEGORIES:Daily Minyan
ATTACH;FMTTYPE=image/jpeg:https://calendar.adasisrael.org/wp-content/uploads/2023/07/JThomas_20230521_0043-z8y1js.tmp_-scaled.jpg
END:VEVENT
BEGIN:VEVENT
DTSTART;TZID=America/New_York:20251221T090000
DTEND;TZID=America/New_York:20251221T100000
DTSTAMP:20260421T185002
CREATED:20251127T153010Z
LAST-MODIFIED:20251221T150002Z
UID:10009765-1766307600-1766311200@calendar.adasisrael.org
SUMMARY:Morning Minyan
DESCRIPTION:Join us in-person or on Zoom: \nSundays and Federal Holidays at 9am\, Zoom Link Here \nMondays-Fridays at 7:30am\, Zoom Link Here \nClick Here For Shacharit Pages \nWinter Break Schedule: \nThe Adas building will be open only for AM minyan on: Mon\, Dec 22 – Fri\, Dec 26\, Sun\, Dec 28\, Thu\, Jan 1\, and Fri\, Jan 2. \nPM minyan on Dec 22\, 23\, and 24\, 25\, 31 and Jan 1 will be Zoom-only.
URL:https://calendar.adasisrael.org/event/morning-minyan-736/
LOCATION:Biran Beit Midrash
CATEGORIES:Daily Minyan
ATTACH;FMTTYPE=image/jpeg:https://calendar.adasisrael.org/wp-content/uploads/2023/07/JThomas_20230521_0043-z8y1js.tmp_-scaled.jpg
END:VEVENT
BEGIN:VEVENT
DTSTART;TZID=America/New_York:20251220T130000
DTEND;TZID=America/New_York:20251220T134500
DTSTAMP:20260421T185002
CREATED:20251127T153010Z
LAST-MODIFIED:20251220T184006Z
UID:10009764-1766235600-1766238300@calendar.adasisrael.org
SUMMARY:Shabbat Mincha Service
DESCRIPTION:Join us for a Saturday afternoon of prayer and Torah. The content of the mincha prayers reflects the essential goal of menucha (rest) on the Sabbath day.
URL:https://calendar.adasisrael.org/event/shabbat-mincha-service-127/
LOCATION:Biran Beit Midrash
CATEGORIES:Shabbat
ATTACH;FMTTYPE=image/jpeg:https://calendar.adasisrael.org/wp-content/uploads/2023/07/minchaservice600x400-sc8WO8.tmp_.jpg
END:VEVENT
BEGIN:VEVENT
DTSTART;TZID=America/New_York:20251220T083000
DTEND;TZID=America/New_York:20251220T093000
DTSTAMP:20260421T185002
CREATED:20251127T153010Z
LAST-MODIFIED:20251220T142502Z
UID:10009758-1766219400-1766223000@calendar.adasisrael.org
SUMMARY:Boker Or
DESCRIPTION:The Boker Or Torah study group meets Saturday mornings at 8:30 a.m. with the weekly portion as its focus. Join our clergy and community in person each week for an engaging\, text-based conversation on the week’s parsha\, before Shabbat services.
URL:https://calendar.adasisrael.org/event/boker-or-95/
LOCATION:Biran Beit Midrash
CATEGORIES:Shabbat
ATTACH;FMTTYPE=image/jpeg:https://calendar.adasisrael.org/wp-content/uploads/2023/07/makompic21-22-68hj8a.tmp_.jpg
END:VEVENT
BEGIN:VEVENT
DTSTART;TZID=America/New_York:20251219T180000
DTEND;TZID=America/New_York:20251219T193000
DTSTAMP:20260421T185002
CREATED:20251127T153010Z
LAST-MODIFIED:20251220T003002Z
UID:10009757-1766167200-1766172600@calendar.adasisrael.org
SUMMARY:Kabbalat Shabbat Services
DESCRIPTION:Community Kabbalat Shabbat \nThe tone of this service is traditional\, passionate\, joyful\, and spiritual. We will join together in rousing traditional melodies\, along with moments of depth and quiet contemplation. Our rabbis and other community members will share short divrei Torah (words of Torah). You will leave the service feeling renewed and in time to enjoy a wonderful Shabbat evening.
URL:https://calendar.adasisrael.org/event/kabbalat-shabbat-services-56/
LOCATION:Biran Beit Midrash
CATEGORIES:Shabbat
ATTACH;FMTTYPE=image/jpeg:https://calendar.adasisrael.org/wp-content/uploads/2024/01/253816_orig-kIYbWj.tmp_.jpg
END:VEVENT
BEGIN:VEVENT
DTSTART;TZID=America/New_York:20251219T073000
DTEND;TZID=America/New_York:20251219T090000
DTSTAMP:20260421T185002
CREATED:20251127T153010Z
LAST-MODIFIED:20251219T130002Z
UID:10009754-1766129400-1766134800@calendar.adasisrael.org
SUMMARY:Morning Minyan
DESCRIPTION:Join us in-person or on Zoom: \nSundays and Federal Holidays at 9am\, Zoom Link Here \nMondays-Fridays at 7:30am\, Zoom Link Here \nClick Here For Shacharit Pages \nWinter Break Schedule: \nThe Adas building will be open only for AM minyan on: Mon\, Dec 22 – Fri\, Dec 26\, Sun\, Dec 28\, Thu\, Jan 1\, and Fri\, Jan 2. \nPM minyan on Dec 22\, 23\, and 24\, 25\, 31 and Jan 1 will be Zoom-only.
URL:https://calendar.adasisrael.org/event/morning-minyan-735/
LOCATION:Biran Beit Midrash
CATEGORIES:Daily Minyan
ATTACH;FMTTYPE=image/jpeg:https://calendar.adasisrael.org/wp-content/uploads/2023/07/JThomas_20230521_0043-z8y1js.tmp_-scaled.jpg
END:VEVENT
BEGIN:VEVENT
DTSTART;TZID=America/New_York:20251218T180000
DTEND;TZID=America/New_York:20251218T190000
DTSTAMP:20260421T185002
CREATED:20251127T153009Z
LAST-MODIFIED:20251218T235002Z
UID:10009752-1766080800-1766084400@calendar.adasisrael.org
SUMMARY:Evening Minyan
DESCRIPTION:Join In-Person on Mondays\, Tuesdays\, Wednesdays\, Thursdays and via Zoom every day (Sunday-Thursday).Siddur Pages: Mincha\, Maariv \nWinter Break Schedule: \nThe Adas building will be open only for AM minyan on: Mon\, Dec 22 – Fri\, Dec 26\, Sun\, Dec 28\, Thu\, Jan 1\, and Fri\, Jan 2. \nPM minyan on Dec 22\, 23\, and 24\, 25\, 31 and Jan 1 will be Zoom-only.
URL:https://calendar.adasisrael.org/event/evening-minyan-615/
LOCATION:Biran Beit Midrash
CATEGORIES:Daily Minyan
ATTACH;FMTTYPE=image/jpeg:https://calendar.adasisrael.org/wp-content/uploads/2024/01/minyanheaderweb-XUfQxy.tmp_.jpg
END:VEVENT
BEGIN:VEVENT
DTSTART;TZID=America/New_York:20251218T073000
DTEND;TZID=America/New_York:20251218T090000
DTSTAMP:20260421T185002
CREATED:20251127T153009Z
LAST-MODIFIED:20251218T134002Z
UID:10009749-1766043000-1766048400@calendar.adasisrael.org
SUMMARY:Morning Minyan
DESCRIPTION:Join us in-person or on Zoom: \nSundays and Federal Holidays at 9am\, Zoom Link Here \nMondays-Fridays at 7:30am\, Zoom Link Here \nClick Here For Shacharit Pages \nWinter Break Schedule: \nThe Adas building will be open only for AM minyan on: Mon\, Dec 22 – Fri\, Dec 26\, Sun\, Dec 28\, Thu\, Jan 1\, and Fri\, Jan 2. \nPM minyan on Dec 22\, 23\, and 24\, 25\, 31 and Jan 1 will be Zoom-only.
URL:https://calendar.adasisrael.org/event/morning-minyan-734/
LOCATION:Biran Beit Midrash
CATEGORIES:Daily Minyan
ATTACH;FMTTYPE=image/jpeg:https://calendar.adasisrael.org/wp-content/uploads/2023/07/JThomas_20230521_0043-z8y1js.tmp_-scaled.jpg
END:VEVENT
BEGIN:VEVENT
DTSTART;TZID=America/New_York:20251217T180000
DTEND;TZID=America/New_York:20251217T184000
DTSTAMP:20260421T185002
CREATED:20251127T153009Z
LAST-MODIFIED:20251217T233510Z
UID:10009747-1765994400-1765996800@calendar.adasisrael.org
SUMMARY:Evening Minyan
DESCRIPTION:Join In-Person on Mondays\, Tuesdays\, Wednesdays\, Thursdays and via Zoom every day (Sunday-Thursday).Siddur Pages: Mincha\, Maariv \nWinter Break Schedule: \nThe Adas building will be open only for AM minyan on: Mon\, Dec 22 – Fri\, Dec 26\, Sun\, Dec 28\, Thu\, Jan 1\, and Fri\, Jan 2. \nPM minyan on Dec 22\, 23\, and 24\, 25\, 31 and Jan 1 will be Zoom-only.
URL:https://calendar.adasisrael.org/event/evening-minyan-614/
LOCATION:Biran Beit Midrash
CATEGORIES:Daily Minyan
ATTACH;FMTTYPE=image/jpeg:https://calendar.adasisrael.org/wp-content/uploads/2024/01/minyanheaderweb-XUfQxy.tmp_.jpg
END:VEVENT
BEGIN:VEVENT
DTSTART;TZID=America/New_York:20251217T073000
DTEND;TZID=America/New_York:20251217T090000
DTSTAMP:20260421T185002
CREATED:20251127T153009Z
LAST-MODIFIED:20251217T133502Z
UID:10009745-1765956600-1765962000@calendar.adasisrael.org
SUMMARY:Morning Minyan
DESCRIPTION:Join us in-person or on Zoom: \nSundays and Federal Holidays at 9am\, Zoom Link Here \nMondays-Fridays at 7:30am\, Zoom Link Here \nClick Here For Shacharit Pages \nWinter Break Schedule: \nThe Adas building will be open only for AM minyan on: Mon\, Dec 22 – Fri\, Dec 26\, Sun\, Dec 28\, Thu\, Jan 1\, and Fri\, Jan 2. \nPM minyan on Dec 22\, 23\, and 24\, 25\, 31 and Jan 1 will be Zoom-only.
URL:https://calendar.adasisrael.org/event/morning-minyan-733/
LOCATION:Biran Beit Midrash
CATEGORIES:Daily Minyan
ATTACH;FMTTYPE=image/jpeg:https://calendar.adasisrael.org/wp-content/uploads/2023/07/JThomas_20230521_0043-z8y1js.tmp_-scaled.jpg
END:VEVENT
END:VCALENDAR