BEGIN:VCALENDAR
VERSION:2.0
PRODID:-//Adas Israel Congregation - ECPv6.2.9//NONSGML v1.0//EN
CALSCALE:GREGORIAN
METHOD:PUBLISH
X-ORIGINAL-URL:https://calendar.adasisrael.org
X-WR-CALDESC:Events for Adas Israel Congregation
REFRESH-INTERVAL;VALUE=DURATION:PT1H
X-Robots-Tag:noindex
X-PUBLISHED-TTL:PT1H
BEGIN:VTIMEZONE
TZID:America/New_York
BEGIN:DAYLIGHT
TZOFFSETFROM:-0500
TZOFFSETTO:-0400
TZNAME:EDT
DTSTART:20250309T070000
END:DAYLIGHT
BEGIN:STANDARD
TZOFFSETFROM:-0400
TZOFFSETTO:-0500
TZNAME:EST
DTSTART:20251102T060000
END:STANDARD
BEGIN:DAYLIGHT
TZOFFSETFROM:-0500
TZOFFSETTO:-0400
TZNAME:EDT
DTSTART:20260308T070000
END:DAYLIGHT
BEGIN:STANDARD
TZOFFSETFROM:-0400
TZOFFSETTO:-0500
TZNAME:EST
DTSTART:20261101T060000
END:STANDARD
END:VTIMEZONE
BEGIN:VEVENT
DTSTART;TZID=America/New_York:20260114T180000
DTEND;TZID=America/New_York:20260114T184000
DTSTAMP:20260421T172650
CREATED:20260113T234003Z
LAST-MODIFIED:20260114T233508Z
UID:10010323-1768413600-1768416000@calendar.adasisrael.org
SUMMARY:Evening Minyan
DESCRIPTION:Join In-Person on Mondays\, Tuesdays\, Wednesdays\, Thursdays and via Zoom every day (Sunday-Thursday).Siddur Pages: Mincha\, Maariv \nWinter Break Schedule: \nThe Adas building will be open only for AM minyan on: Mon\, Dec 22 – Fri\, Dec 26\, Sun\, Dec 28\, Thu\, Jan 1\, and Fri\, Jan 2. \nPM minyan on Dec 22\, 23\, and 24\, 25\, 31 and Jan 1 will be Zoom-only.
URL:https://calendar.adasisrael.org/event/evening-minyan-634/
LOCATION:Biran Beit Midrash
CATEGORIES:Daily Minyan
ATTACH;FMTTYPE=image/jpeg:https://calendar.adasisrael.org/wp-content/uploads/2024/01/minyanheaderweb-XUfQxy.tmp_.jpg
END:VEVENT
BEGIN:VEVENT
DTSTART;TZID=America/New_York:20260114T073000
DTEND;TZID=America/New_York:20260114T090000
DTSTAMP:20260421T172650
CREATED:20260113T234002Z
LAST-MODIFIED:20260114T135002Z
UID:10010321-1768375800-1768381200@calendar.adasisrael.org
SUMMARY:Morning Minyan
DESCRIPTION:Join us in-person or on Zoom: \nSundays and Federal Holidays at 9am\, Zoom Link Here \nMondays-Fridays at 7:30am\, Zoom Link Here \nClick Here For Shacharit Pages
URL:https://calendar.adasisrael.org/event/morning-minyan-757/
LOCATION:Biran Beit Midrash
CATEGORIES:Daily Minyan
ATTACH;FMTTYPE=image/jpeg:https://calendar.adasisrael.org/wp-content/uploads/2023/07/JThomas_20230521_0043-z8y1js.tmp_-scaled.jpg
END:VEVENT
BEGIN:VEVENT
DTSTART;TZID=America/New_York:20260113T183000
DTEND;TZID=America/New_York:20260113T200000
DTSTAMP:20260421T172650
CREATED:20251127T153018Z
LAST-MODIFIED:20260114T010001Z
UID:10009850-1768329000-1768334400@calendar.adasisrael.org
SUMMARY:MakomDC: Revealed and Retold: The Narrative Heart of Judaism
DESCRIPTION:“Revealed and Retold: The Narrative Heart of Judaism” \nTuesday Evenings: December 2nd and 9th\, January 6th\, 13th and 20th*  \n6:30 pm Snacks\, Drinks and Schmoozing 7:00 pm Learning \n \nA five part series wherein we will explore the storytelling soul of Jewish tradition through the lens of A Heavenly Torah by Rabbi Abraham Joshua Heschel. Together we’ll delve into the world of Aggadah—the ethical\, theological\, and imaginative heart of Torah. From the binding of Isaac to the Oven of Achnai\, from the Zohar’s cosmic myths to Hasidic tales of wonder and protest\, we’ll study how stories have shaped Jewish thought and spiritual life. These are not just tales of the past\, but living narratives that reveal the depths of divine encounter\, human struggle\, and the moral vision of our people. \n*Cocktails provided
URL:https://calendar.adasisrael.org/event/makomdc-revealed-and-retold-the-narrative-heart-of-judaism-4/
LOCATION:Biran Beit Midrash
CATEGORIES:Learn & Engage
ATTACH;FMTTYPE=image/jpeg:https://calendar.adasisrael.org/wp-content/uploads/2023/07/Front-Professional.jpg
END:VEVENT
BEGIN:VEVENT
DTSTART;TZID=America/New_York:20260113T180000
DTEND;TZID=America/New_York:20260113T183000
DTSTAMP:20260421T172650
CREATED:20251127T153018Z
LAST-MODIFIED:20260113T223002Z
UID:10009851-1768327200-1768329000@calendar.adasisrael.org
SUMMARY:Evening Minyan
DESCRIPTION:Join In-Person on Mondays\, Tuesdays\, Wednesdays\, Thursdays and via Zoom every day (Sunday-Thursday).Siddur Pages: Mincha\, Maariv \nWinter Break Schedule: \nThe Adas building will be open only for AM minyan on: Mon\, Dec 22 – Fri\, Dec 26\, Sun\, Dec 28\, Thu\, Jan 1\, and Fri\, Jan 2. \nPM minyan on Dec 22\, 23\, and 24\, 25\, 31 and Jan 1 will be Zoom-only.
URL:https://calendar.adasisrael.org/event/evening-minyan-633/
LOCATION:Biran Beit Midrash
CATEGORIES:Daily Minyan
ATTACH;FMTTYPE=image/jpeg:https://calendar.adasisrael.org/wp-content/uploads/2024/01/minyanheaderweb-XUfQxy.tmp_.jpg
END:VEVENT
BEGIN:VEVENT
DTSTART;TZID=America/New_York:20260113T114500
DTEND;TZID=America/New_York:20260113T123000
DTSTAMP:20260421T172650
CREATED:20251127T153018Z
LAST-MODIFIED:20260113T172502Z
UID:10009849-1768304700-1768307400@calendar.adasisrael.org
SUMMARY:Talmud Study: From Cover to Cover
DESCRIPTION:From Cover to Cover \nExploring a Tractate of Talmud in its’ original is a deep dive into some of our tradition’s most important legal and narrative ponderings. Participants will engage with the daf (page) through traditional commentaries and guided discussion\, building both skills and confidence in navigating the Talmudic page. The class is designed for those with some prior experience in Talmud study and a desire to move toward independent learning. Over time\, we will make our way through an entire tractate—cover to cover. \nGrab your lunch and join Rabbi Yolkut as we explore the basics of Talmud study. This year we will be studying Tractate Brachot. \nTuesdays (11:45-12:30) (Begins September 2nd)
URL:https://calendar.adasisrael.org/event/talmud-study-from-cover-to-cover-14/
LOCATION:Biran Beit Midrash
ATTACH;FMTTYPE=image/jpeg:https://calendar.adasisrael.org/wp-content/uploads/2023/07/Front-Professional.jpg
END:VEVENT
BEGIN:VEVENT
DTSTART;TZID=America/New_York:20260113T073000
DTEND;TZID=America/New_York:20260113T090000
DTSTAMP:20260421T172650
CREATED:20251127T153018Z
LAST-MODIFIED:20260113T134502Z
UID:10009845-1768289400-1768294800@calendar.adasisrael.org
SUMMARY:Morning Minyan
DESCRIPTION:Join us in-person or on Zoom: \nSundays and Federal Holidays at 9am\, Zoom Link Here \nMondays-Fridays at 7:30am\, Zoom Link Here \nClick Here For Shacharit Pages
URL:https://calendar.adasisrael.org/event/morning-minyan-756/
LOCATION:Biran Beit Midrash
CATEGORIES:Daily Minyan
ATTACH;FMTTYPE=image/jpeg:https://calendar.adasisrael.org/wp-content/uploads/2023/07/JThomas_20230521_0043-z8y1js.tmp_-scaled.jpg
END:VEVENT
BEGIN:VEVENT
DTSTART;TZID=America/New_York:20260112T180000
DTEND;TZID=America/New_York:20260112T190000
DTSTAMP:20260421T172650
CREATED:20251127T153018Z
LAST-MODIFIED:20260112T235515Z
UID:10009844-1768240800-1768244400@calendar.adasisrael.org
SUMMARY:Evening Minyan
DESCRIPTION:Join In-Person on Mondays\, Tuesdays\, Wednesdays\, Thursdays and via Zoom every day (Sunday-Thursday).Siddur Pages: Mincha\, Maariv \nWinter Break Schedule: \nThe Adas building will be open only for AM minyan on: Mon\, Dec 22 – Fri\, Dec 26\, Sun\, Dec 28\, Thu\, Jan 1\, and Fri\, Jan 2. \nPM minyan on Dec 22\, 23\, and 24\, 25\, 31 and Jan 1 will be Zoom-only.
URL:https://calendar.adasisrael.org/event/evening-minyan-632/
LOCATION:Biran Beit Midrash
CATEGORIES:Daily Minyan
ATTACH;FMTTYPE=image/jpeg:https://calendar.adasisrael.org/wp-content/uploads/2024/01/minyanheaderweb-XUfQxy.tmp_.jpg
END:VEVENT
BEGIN:VEVENT
DTSTART;TZID=America/New_York:20260112T073000
DTEND;TZID=America/New_York:20260112T090000
DTSTAMP:20260421T172650
CREATED:20251127T153018Z
LAST-MODIFIED:20260112T135002Z
UID:10009841-1768203000-1768208400@calendar.adasisrael.org
SUMMARY:Morning Minyan
DESCRIPTION:Join us in-person or on Zoom: \nSundays and Federal Holidays at 9am\, Zoom Link Here \nMondays-Fridays at 7:30am\, Zoom Link Here \nClick Here For Shacharit Pages
URL:https://calendar.adasisrael.org/event/morning-minyan-755/
LOCATION:Biran Beit Midrash
CATEGORIES:Daily Minyan
ATTACH;FMTTYPE=image/jpeg:https://calendar.adasisrael.org/wp-content/uploads/2023/07/JThomas_20230521_0043-z8y1js.tmp_-scaled.jpg
END:VEVENT
BEGIN:VEVENT
DTSTART;TZID=America/New_York:20260111T103000
DTEND;TZID=America/New_York:20260111T120000
DTSTAMP:20260421T172650
CREATED:20251216T180640Z
LAST-MODIFIED:20260111T165502Z
UID:10010190-1768127400-1768132800@calendar.adasisrael.org
SUMMARY:Brotherhood: Generation-To-Generation: Mastering Everyday A.I.
DESCRIPTION:Do you need to be good at A.I. because it’s the future? Or does A.I. make you lazy\, and you won’t learn anything if you use it? \nThe Adas Brotherhood’s Generation-to-Generation program presents a How-To event on Mastering Everyday A.I.\, for parents and teens to learn and work through these questions together. \nThis technology is changing the world\, and Dr. Erran Carmel\, of AU’s Kogod School of Business will talk about how to bend it to your needs. He’ll teach about crafting prompts that get results (for planning meals & vacations; for receiving health & financial advice); and of course\, what it means to be a student in the Age of A.I. \n \nRegister
URL:https://calendar.adasisrael.org/event/brotherhood-generation-to-generation-mastering-everyday-a-i/
LOCATION:Biran Beit Midrash
CATEGORIES:Learn & Engage
ATTACH;FMTTYPE=image/jpeg:https://calendar.adasisrael.org/wp-content/uploads/2023/07/Front-Professional.jpg
END:VEVENT
BEGIN:VEVENT
DTSTART;TZID=America/New_York:20260111T090000
DTEND;TZID=America/New_York:20260111T100000
DTSTAMP:20260421T172650
CREATED:20251127T153017Z
LAST-MODIFIED:20260111T143002Z
UID:10009837-1768122000-1768125600@calendar.adasisrael.org
SUMMARY:Morning Minyan
DESCRIPTION:Join us in-person or on Zoom: \nSundays and Federal Holidays at 9am\, Zoom Link Here \nMondays-Fridays at 7:30am\, Zoom Link Here \nClick Here For Shacharit Pages
URL:https://calendar.adasisrael.org/event/morning-minyan-754/
LOCATION:Biran Beit Midrash
CATEGORIES:Daily Minyan
ATTACH;FMTTYPE=image/jpeg:https://calendar.adasisrael.org/wp-content/uploads/2023/07/JThomas_20230521_0043-z8y1js.tmp_-scaled.jpg
END:VEVENT
BEGIN:VEVENT
DTSTART;TZID=America/New_York:20260110T130000
DTEND;TZID=America/New_York:20260110T134500
DTSTAMP:20260421T172650
CREATED:20251127T153017Z
LAST-MODIFIED:20260110T182502Z
UID:10009836-1768050000-1768052700@calendar.adasisrael.org
SUMMARY:Shabbat Mincha Service
DESCRIPTION:Join us for a Saturday afternoon of prayer and Torah. The content of the mincha prayers reflects the essential goal of menucha (rest) on the Sabbath day.
URL:https://calendar.adasisrael.org/event/shabbat-mincha-service-130/
LOCATION:Biran Beit Midrash
CATEGORIES:Shabbat
ATTACH;FMTTYPE=image/jpeg:https://calendar.adasisrael.org/wp-content/uploads/2023/07/minchaservice600x400-sc8WO8.tmp_.jpg
END:VEVENT
BEGIN:VEVENT
DTSTART;TZID=America/New_York:20260110T093000
DTEND;TZID=America/New_York:20260110T120000
DTSTAMP:20260421T172650
CREATED:20251127T153017Z
LAST-MODIFIED:20260110T155502Z
UID:10009831-1768037400-1768046400@calendar.adasisrael.org
SUMMARY:Shabbat Smith Service
DESCRIPTION:Click Here To Livestream \nLed by our inspiring Rabbis and Cantor\, this service includes a D’var Torah and sermon and often includes participation by members and B’nai Mitzvah. \nShabbat Service Links: \nSiddur Lev Shalem: Kabbalat Shabbat | Click Here to DownloadSiddur Lev Shalem: Shabbat Morning | Click Here to Download
URL:https://calendar.adasisrael.org/event/shabbat-smith-service-119/
LOCATION:Biran Beit Midrash
CATEGORIES:Shabbat
ATTACH;FMTTYPE=image/jpeg:https://calendar.adasisrael.org/wp-content/uploads/2024/03/AdasShabbat-YxiwDc.tmp_.jpg
END:VEVENT
BEGIN:VEVENT
DTSTART;TZID=America/New_York:20260109T073000
DTEND;TZID=America/New_York:20260109T090000
DTSTAMP:20260421T172650
CREATED:20251127T153017Z
LAST-MODIFIED:20260109T125502Z
UID:10009824-1767943800-1767949200@calendar.adasisrael.org
SUMMARY:Morning Minyan
DESCRIPTION:Join us in-person or on Zoom: \nSundays and Federal Holidays at 9am\, Zoom Link Here \nMondays-Fridays at 7:30am\, Zoom Link Here \nClick Here For Shacharit Pages
URL:https://calendar.adasisrael.org/event/morning-minyan-753/
LOCATION:Biran Beit Midrash
CATEGORIES:Daily Minyan
ATTACH;FMTTYPE=image/jpeg:https://calendar.adasisrael.org/wp-content/uploads/2023/07/JThomas_20230521_0043-z8y1js.tmp_-scaled.jpg
END:VEVENT
BEGIN:VEVENT
DTSTART;TZID=America/New_York:20260108T180000
DTEND;TZID=America/New_York:20260108T190000
DTSTAMP:20260421T172650
CREATED:20251127T153016Z
LAST-MODIFIED:20260108T231503Z
UID:10009823-1767895200-1767898800@calendar.adasisrael.org
SUMMARY:Evening Minyan
DESCRIPTION:Join In-Person on Mondays\, Tuesdays\, Wednesdays\, Thursdays and via Zoom every day (Sunday-Thursday).Siddur Pages: Mincha\, Maariv \nWinter Break Schedule: \nThe Adas building will be open only for AM minyan on: Mon\, Dec 22 – Fri\, Dec 26\, Sun\, Dec 28\, Thu\, Jan 1\, and Fri\, Jan 2. \nPM minyan on Dec 22\, 23\, and 24\, 25\, 31 and Jan 1 will be Zoom-only.
URL:https://calendar.adasisrael.org/event/evening-minyan-630/
LOCATION:Biran Beit Midrash
CATEGORIES:Daily Minyan
ATTACH;FMTTYPE=image/jpeg:https://calendar.adasisrael.org/wp-content/uploads/2024/01/minyanheaderweb-XUfQxy.tmp_.jpg
END:VEVENT
BEGIN:VEVENT
DTSTART;TZID=America/New_York:20260108T073000
DTEND;TZID=America/New_York:20260108T090000
DTSTAMP:20260421T172650
CREATED:20251127T153016Z
LAST-MODIFIED:20260108T131003Z
UID:10009820-1767857400-1767862800@calendar.adasisrael.org
SUMMARY:Morning Minyan
DESCRIPTION:Join us in-person or on Zoom: \nSundays and Federal Holidays at 9am\, Zoom Link Here \nMondays-Fridays at 7:30am\, Zoom Link Here \nClick Here For Shacharit Pages
URL:https://calendar.adasisrael.org/event/morning-minyan-752/
LOCATION:Biran Beit Midrash
CATEGORIES:Daily Minyan
ATTACH;FMTTYPE=image/jpeg:https://calendar.adasisrael.org/wp-content/uploads/2023/07/JThomas_20230521_0043-z8y1js.tmp_-scaled.jpg
END:VEVENT
BEGIN:VEVENT
DTSTART;TZID=America/New_York:20260107T180000
DTEND;TZID=America/New_York:20260107T184000
DTSTAMP:20260421T172650
CREATED:20251127T153016Z
LAST-MODIFIED:20260107T231001Z
UID:10009817-1767808800-1767811200@calendar.adasisrael.org
SUMMARY:Evening Minyan
DESCRIPTION:Join In-Person on Mondays\, Tuesdays\, Wednesdays\, Thursdays and via Zoom every day (Sunday-Thursday).Siddur Pages: Mincha\, Maariv \nWinter Break Schedule: \nThe Adas building will be open only for AM minyan on: Mon\, Dec 22 – Fri\, Dec 26\, Sun\, Dec 28\, Thu\, Jan 1\, and Fri\, Jan 2. \nPM minyan on Dec 22\, 23\, and 24\, 25\, 31 and Jan 1 will be Zoom-only.
URL:https://calendar.adasisrael.org/event/evening-minyan-629/
LOCATION:Biran Beit Midrash
CATEGORIES:Daily Minyan
ATTACH;FMTTYPE=image/jpeg:https://calendar.adasisrael.org/wp-content/uploads/2024/01/minyanheaderweb-XUfQxy.tmp_.jpg
END:VEVENT
BEGIN:VEVENT
DTSTART;TZID=America/New_York:20260107T073000
DTEND;TZID=America/New_York:20260107T090000
DTSTAMP:20260421T172650
CREATED:20251127T153016Z
LAST-MODIFIED:20260107T131001Z
UID:10009815-1767771000-1767776400@calendar.adasisrael.org
SUMMARY:Morning Minyan
DESCRIPTION:Join us in-person or on Zoom: \nSundays and Federal Holidays at 9am\, Zoom Link Here \nMondays-Fridays at 7:30am\, Zoom Link Here \nClick Here For Shacharit Pages
URL:https://calendar.adasisrael.org/event/morning-minyan-751/
LOCATION:Biran Beit Midrash
CATEGORIES:Daily Minyan
ATTACH;FMTTYPE=image/jpeg:https://calendar.adasisrael.org/wp-content/uploads/2023/07/JThomas_20230521_0043-z8y1js.tmp_-scaled.jpg
END:VEVENT
BEGIN:VEVENT
DTSTART;TZID=America/New_York:20260106T183000
DTEND;TZID=America/New_York:20260106T200000
DTSTAMP:20260421T172650
CREATED:20251127T153016Z
LAST-MODIFIED:20260107T002501Z
UID:10009814-1767724200-1767729600@calendar.adasisrael.org
SUMMARY:MakomDC: Revealed and Retold: The Narrative Heart of Judaism
DESCRIPTION:“Revealed and Retold: The Narrative Heart of Judaism” \nTuesday Evenings: December 2nd and 9th\, January 6th\, 13th and 20th*  \n6:30 pm Snacks\, Drinks and Schmoozing 7:00 pm Learning \n \nA five part series wherein we will explore the storytelling soul of Jewish tradition through the lens of A Heavenly Torah by Rabbi Abraham Joshua Heschel. Together we’ll delve into the world of Aggadah—the ethical\, theological\, and imaginative heart of Torah. From the binding of Isaac to the Oven of Achnai\, from the Zohar’s cosmic myths to Hasidic tales of wonder and protest\, we’ll study how stories have shaped Jewish thought and spiritual life. These are not just tales of the past\, but living narratives that reveal the depths of divine encounter\, human struggle\, and the moral vision of our people. \n*Cocktails provided
URL:https://calendar.adasisrael.org/event/makomdc-revealed-and-retold-the-narrative-heart-of-judaism-3/
LOCATION:Biran Beit Midrash
CATEGORIES:Learn & Engage
ATTACH;FMTTYPE=image/jpeg:https://calendar.adasisrael.org/wp-content/uploads/2023/07/Front-Professional.jpg
END:VEVENT
BEGIN:VEVENT
DTSTART;TZID=America/New_York:20260106T180000
DTEND;TZID=America/New_York:20260106T183000
DTSTAMP:20260421T172650
CREATED:20251127T153016Z
LAST-MODIFIED:20260106T232002Z
UID:10009813-1767722400-1767724200@calendar.adasisrael.org
SUMMARY:Evening Minyan
DESCRIPTION:Join In-Person on Mondays\, Tuesdays\, Wednesdays\, Thursdays and via Zoom every day (Sunday-Thursday).Siddur Pages: Mincha\, Maariv \nWinter Break Schedule: \nThe Adas building will be open only for AM minyan on: Mon\, Dec 22 – Fri\, Dec 26\, Sun\, Dec 28\, Thu\, Jan 1\, and Fri\, Jan 2. \nPM minyan on Dec 22\, 23\, and 24\, 25\, 31 and Jan 1 will be Zoom-only.
URL:https://calendar.adasisrael.org/event/evening-minyan-628/
LOCATION:Biran Beit Midrash
CATEGORIES:Daily Minyan
ATTACH;FMTTYPE=image/jpeg:https://calendar.adasisrael.org/wp-content/uploads/2024/01/minyanheaderweb-XUfQxy.tmp_.jpg
END:VEVENT
BEGIN:VEVENT
DTSTART;TZID=America/New_York:20260106T114500
DTEND;TZID=America/New_York:20260106T123000
DTSTAMP:20260421T172650
CREATED:20251127T153016Z
LAST-MODIFIED:20260106T165002Z
UID:10009812-1767699900-1767702600@calendar.adasisrael.org
SUMMARY:Talmud Study: From Cover to Cover
DESCRIPTION:From Cover to Cover \nExploring a Tractate of Talmud in its’ original is a deep dive into some of our tradition’s most important legal and narrative ponderings. Participants will engage with the daf (page) through traditional commentaries and guided discussion\, building both skills and confidence in navigating the Talmudic page. The class is designed for those with some prior experience in Talmud study and a desire to move toward independent learning. Over time\, we will make our way through an entire tractate—cover to cover. \nGrab your lunch and join Rabbi Yolkut as we explore the basics of Talmud study. This year we will be studying Tractate Brachot. \nTuesdays (11:45-12:30) (Begins September 2nd)
URL:https://calendar.adasisrael.org/event/talmud-study-from-cover-to-cover-13/
LOCATION:Biran Beit Midrash
ATTACH;FMTTYPE=image/jpeg:https://calendar.adasisrael.org/wp-content/uploads/2023/07/Front-Professional.jpg
END:VEVENT
BEGIN:VEVENT
DTSTART;TZID=America/New_York:20260106T073000
DTEND;TZID=America/New_York:20260106T090000
DTSTAMP:20260421T172650
CREATED:20251127T153015Z
LAST-MODIFIED:20260106T125502Z
UID:10009810-1767684600-1767690000@calendar.adasisrael.org
SUMMARY:Morning Minyan
DESCRIPTION:Join us in-person or on Zoom: \nSundays and Federal Holidays at 9am\, Zoom Link Here \nMondays-Fridays at 7:30am\, Zoom Link Here \nClick Here For Shacharit Pages
URL:https://calendar.adasisrael.org/event/morning-minyan-750/
LOCATION:Biran Beit Midrash
CATEGORIES:Daily Minyan
ATTACH;FMTTYPE=image/jpeg:https://calendar.adasisrael.org/wp-content/uploads/2023/07/JThomas_20230521_0043-z8y1js.tmp_-scaled.jpg
END:VEVENT
BEGIN:VEVENT
DTSTART;TZID=America/New_York:20260105T180000
DTEND;TZID=America/New_York:20260105T190000
DTSTAMP:20260421T172650
CREATED:20251127T153015Z
LAST-MODIFIED:20260105T230502Z
UID:10009809-1767636000-1767639600@calendar.adasisrael.org
SUMMARY:Evening Minyan
DESCRIPTION:Join In-Person on Mondays\, Tuesdays\, Wednesdays\, Thursdays and via Zoom every day (Sunday-Thursday).Siddur Pages: Mincha\, Maariv \nWinter Break Schedule: \nThe Adas building will be open only for AM minyan on: Mon\, Dec 22 – Fri\, Dec 26\, Sun\, Dec 28\, Thu\, Jan 1\, and Fri\, Jan 2. \nPM minyan on Dec 22\, 23\, and 24\, 25\, 31 and Jan 1 will be Zoom-only.
URL:https://calendar.adasisrael.org/event/evening-minyan-627/
LOCATION:Biran Beit Midrash
CATEGORIES:Daily Minyan
ATTACH;FMTTYPE=image/jpeg:https://calendar.adasisrael.org/wp-content/uploads/2024/01/minyanheaderweb-XUfQxy.tmp_.jpg
END:VEVENT
BEGIN:VEVENT
DTSTART;TZID=America/New_York:20260105T073000
DTEND;TZID=America/New_York:20260105T090000
DTSTAMP:20260421T172650
CREATED:20251127T153015Z
LAST-MODIFIED:20260105T134502Z
UID:10009807-1767598200-1767603600@calendar.adasisrael.org
SUMMARY:Morning Minyan
DESCRIPTION:Join us in-person or on Zoom: \nSundays and Federal Holidays at 9am\, Zoom Link Here \nMondays-Fridays at 7:30am\, Zoom Link Here \nClick Here For Shacharit Pages \nWinter Break Schedule: \nThe Adas building will be open only for AM minyan on: Mon\, Dec 22 – Fri\, Dec 26\, Sun\, Dec 28\, Thu\, Jan 1\, and Fri\, Jan 2. \nPM minyan on Dec 22\, 23\, and 24\, 25\, 31 and Jan 1 will be Zoom-only.
URL:https://calendar.adasisrael.org/event/morning-minyan-749/
LOCATION:Biran Beit Midrash
CATEGORIES:Daily Minyan
ATTACH;FMTTYPE=image/jpeg:https://calendar.adasisrael.org/wp-content/uploads/2023/07/JThomas_20230521_0043-z8y1js.tmp_-scaled.jpg
END:VEVENT
BEGIN:VEVENT
DTSTART;TZID=America/New_York:20260104T090000
DTEND;TZID=America/New_York:20260104T100000
DTSTAMP:20260421T172650
CREATED:20251127T153015Z
LAST-MODIFIED:20260104T140002Z
UID:10009805-1767517200-1767520800@calendar.adasisrael.org
SUMMARY:Morning Minyan
DESCRIPTION:Join us in-person or on Zoom: \nSundays and Federal Holidays at 9am\, Zoom Link Here \nMondays-Fridays at 7:30am\, Zoom Link Here \nClick Here For Shacharit Pages \nWinter Break Schedule: \nThe Adas building will be open only for AM minyan on: Mon\, Dec 22 – Fri\, Dec 26\, Sun\, Dec 28\, Thu\, Jan 1\, and Fri\, Jan 2. \nPM minyan on Dec 22\, 23\, and 24\, 25\, 31 and Jan 1 will be Zoom-only.
URL:https://calendar.adasisrael.org/event/morning-minyan-748/
LOCATION:Biran Beit Midrash
CATEGORIES:Daily Minyan
ATTACH;FMTTYPE=image/jpeg:https://calendar.adasisrael.org/wp-content/uploads/2023/07/JThomas_20230521_0043-z8y1js.tmp_-scaled.jpg
END:VEVENT
BEGIN:VEVENT
DTSTART;TZID=America/New_York:20260103T130000
DTEND;TZID=America/New_York:20260103T134500
DTSTAMP:20260421T172650
CREATED:20251127T153015Z
LAST-MODIFIED:20260103T184002Z
UID:10009804-1767445200-1767447900@calendar.adasisrael.org
SUMMARY:Shabbat Mincha Service
DESCRIPTION:Join us for a Saturday afternoon of prayer and Torah. The content of the mincha prayers reflects the essential goal of menucha (rest) on the Sabbath day.
URL:https://calendar.adasisrael.org/event/shabbat-mincha-service-129/
LOCATION:Biran Beit Midrash
CATEGORIES:Shabbat
ATTACH;FMTTYPE=image/jpeg:https://calendar.adasisrael.org/wp-content/uploads/2023/07/minchaservice600x400-sc8WO8.tmp_.jpg
END:VEVENT
BEGIN:VEVENT
DTSTART;TZID=America/New_York:20260103T093000
DTEND;TZID=America/New_York:20260103T120000
DTSTAMP:20260421T172650
CREATED:20251127T153014Z
LAST-MODIFIED:20260103T155502Z
UID:10009799-1767432600-1767441600@calendar.adasisrael.org
SUMMARY:Shabbat Smith Service
DESCRIPTION:Click Here To Livestream \nLed by our inspiring Rabbis and Cantor\, this service includes a D’var Torah and sermon and often includes participation by members and B’nai Mitzvah. \nShabbat Service Links: \nSiddur Lev Shalem: Kabbalat Shabbat | Click Here to DownloadSiddur Lev Shalem: Shabbat Morning | Click Here to Download
URL:https://calendar.adasisrael.org/event/shabbat-smith-service-118/
LOCATION:Biran Beit Midrash
CATEGORIES:Shabbat
ATTACH;FMTTYPE=image/jpeg:https://calendar.adasisrael.org/wp-content/uploads/2024/03/AdasShabbat-YxiwDc.tmp_.jpg
END:VEVENT
BEGIN:VEVENT
DTSTART;TZID=America/New_York:20260102T180000
DTEND;TZID=America/New_York:20260102T190000
DTSTAMP:20260421T172650
CREATED:20251127T153014Z
LAST-MODIFIED:20260102T233002Z
UID:10009798-1767376800-1767380400@calendar.adasisrael.org
SUMMARY:Kabbalat Shabbat Services
DESCRIPTION:Community Kabbalat Shabbat \nThe tone of this service is traditional\, passionate\, joyful\, and spiritual. We will join together in rousing traditional melodies\, along with moments of depth and quiet contemplation. Our rabbis and other community members will share short divrei Torah (words of Torah). You will leave the service feeling renewed and in time to enjoy a wonderful Shabbat evening.
URL:https://calendar.adasisrael.org/event/kabbalat-shabbat-services-57/
LOCATION:Biran Beit Midrash
CATEGORIES:Shabbat
ATTACH;FMTTYPE=image/jpeg:https://calendar.adasisrael.org/wp-content/uploads/2024/01/253816_orig-kIYbWj.tmp_.jpg
END:VEVENT
BEGIN:VEVENT
DTSTART;TZID=America/New_York:20260102T090000
DTEND;TZID=America/New_York:20260102T103000
DTSTAMP:20260421T172651
CREATED:20251127T153014Z
LAST-MODIFIED:20260102T142502Z
UID:10009796-1767344400-1767349800@calendar.adasisrael.org
SUMMARY:Morning Minyan
DESCRIPTION:
URL:https://calendar.adasisrael.org/event/morning-minyan-747/
LOCATION:Biran Beit Midrash
CATEGORIES:Daily Minyan
ATTACH;FMTTYPE=image/jpeg:https://calendar.adasisrael.org/wp-content/uploads/2023/07/JThomas_20230521_0043-z8y1js.tmp_-scaled.jpg
END:VEVENT
BEGIN:VEVENT
DTSTART;TZID=America/New_York:20260101T090000
DTEND;TZID=America/New_York:20260101T103000
DTSTAMP:20260421T172651
CREATED:20251127T153014Z
LAST-MODIFIED:20260101T151002Z
UID:10009794-1767258000-1767263400@calendar.adasisrael.org
SUMMARY:Morning Minyan
DESCRIPTION:Join us in-person or on Zoom: \nSundays and Federal Holidays at 9am\, Zoom Link Here \nMondays-Fridays at 7:30am\, Zoom Link Here \nClick Here For Shacharit Pages \nWinter Break Schedule: \nThe Adas building will be open only for AM minyan on: Mon\, Dec 22 – Fri\, Dec 26\, Sun\, Dec 28\, Thu\, Jan 1\, and Fri\, Jan 2. \nPM minyan on Dec 22\, 23\, and 24\, 25\, 31 and Jan 1 will be Zoom-only.
URL:https://calendar.adasisrael.org/event/morning-minyan-746/
LOCATION:Biran Beit Midrash
CATEGORIES:Daily Minyan
ATTACH;FMTTYPE=image/jpeg:https://calendar.adasisrael.org/wp-content/uploads/2023/07/JThomas_20230521_0043-z8y1js.tmp_-scaled.jpg
END:VEVENT
BEGIN:VEVENT
DTSTART;TZID=America/New_York:20251231T073000
DTEND;TZID=America/New_York:20251231T090000
DTSTAMP:20260421T172651
CREATED:20251127T153013Z
LAST-MODIFIED:20251231T132502Z
UID:10009792-1767166200-1767171600@calendar.adasisrael.org
SUMMARY:Morning Minyan
DESCRIPTION:Join us in-person or on Zoom: \nSundays and Federal Holidays at 9am\, Zoom Link Here \nMondays-Fridays at 7:30am\, Zoom Link Here \nClick Here For Shacharit Pages \nWinter Break Schedule: \nThe Adas building will be open only for AM minyan on: Mon\, Dec 22 – Fri\, Dec 26\, Sun\, Dec 28\, Thu\, Jan 1\, and Fri\, Jan 2. \nPM minyan on Dec 22\, 23\, and 24\, 25\, 31 and Jan 1 will be Zoom-only.
URL:https://calendar.adasisrael.org/event/morning-minyan-745/
LOCATION:Biran Beit Midrash
CATEGORIES:Daily Minyan
ATTACH;FMTTYPE=image/jpeg:https://calendar.adasisrael.org/wp-content/uploads/2023/07/JThomas_20230521_0043-z8y1js.tmp_-scaled.jpg
END:VEVENT
END:VCALENDAR