BEGIN:VCALENDAR
VERSION:2.0
PRODID:-//Adas Israel Congregation - ECPv6.2.9//NONSGML v1.0//EN
CALSCALE:GREGORIAN
METHOD:PUBLISH
X-ORIGINAL-URL:https://calendar.adasisrael.org
X-WR-CALDESC:Events for Adas Israel Congregation
REFRESH-INTERVAL;VALUE=DURATION:PT1H
X-Robots-Tag:noindex
X-PUBLISHED-TTL:PT1H
BEGIN:VTIMEZONE
TZID:America/New_York
BEGIN:DAYLIGHT
TZOFFSETFROM:-0500
TZOFFSETTO:-0400
TZNAME:EDT
DTSTART:20260308T070000
END:DAYLIGHT
BEGIN:STANDARD
TZOFFSETFROM:-0400
TZOFFSETTO:-0500
TZNAME:EST
DTSTART:20261101T060000
END:STANDARD
END:VTIMEZONE
BEGIN:VEVENT
DTSTART;TZID=America/New_York:20260420T180000
DTEND;TZID=America/New_York:20260420T190000
DTSTAMP:20260421T042725
CREATED:20260414T191259Z
LAST-MODIFIED:20260420T225502Z
UID:10012612-1776708000-1776711600@calendar.adasisrael.org
SUMMARY:Evening Minyan
DESCRIPTION:
URL:https://calendar.adasisrael.org/event/evening-minyan-691/
LOCATION:Biran Beit Midrash
CATEGORIES:Daily Minyan
ATTACH;FMTTYPE=image/jpeg:https://calendar.adasisrael.org/wp-content/uploads/2023/07/Front-Professional.jpg
END:VEVENT
BEGIN:VEVENT
DTSTART;TZID=America/New_York:20260420T073000
DTEND;TZID=America/New_York:20260420T083000
DTSTAMP:20260421T042725
CREATED:20260414T191258Z
LAST-MODIFIED:20260420T122502Z
UID:10012610-1776670200-1776673800@calendar.adasisrael.org
SUMMARY:Morning Minyan
DESCRIPTION:
URL:https://calendar.adasisrael.org/event/morning-minyan-825/
LOCATION:Biran Beit Midrash
CATEGORIES:Daily Minyan
ATTACH;FMTTYPE=image/jpeg:https://calendar.adasisrael.org/wp-content/uploads/2023/07/Front-Professional.jpg
END:VEVENT
BEGIN:VEVENT
DTSTART;TZID=America/New_York:20260419T090000
DTEND;TZID=America/New_York:20260419T100000
DTSTAMP:20260421T042725
CREATED:20260414T191258Z
LAST-MODIFIED:20260419T135512Z
UID:10012603-1776589200-1776592800@calendar.adasisrael.org
SUMMARY:Morning Minyan
DESCRIPTION:
URL:https://calendar.adasisrael.org/event/morning-minyan-824/
LOCATION:Biran Beit Midrash
CATEGORIES:Daily Minyan
ATTACH;FMTTYPE=image/jpeg:https://calendar.adasisrael.org/wp-content/uploads/2023/07/Front-Professional.jpg
END:VEVENT
BEGIN:VEVENT
DTSTART;TZID=America/New_York:20260418T130000
DTEND;TZID=America/New_York:20260418T140000
DTSTAMP:20260421T042725
CREATED:20260414T191258Z
LAST-MODIFIED:20260418T175502Z
UID:10012600-1776517200-1776520800@calendar.adasisrael.org
SUMMARY:MakomDC: End of the Year Siyyum- Dr. Christine Hayes
DESCRIPTION:
URL:https://calendar.adasisrael.org/event/makomdc-end-of-the-year-siyyum-dr-christine-hayes-2/
LOCATION:Biran Beit Midrash
ATTACH;FMTTYPE=image/jpeg:https://calendar.adasisrael.org/wp-content/uploads/2023/07/Front-Professional.jpg
END:VEVENT
BEGIN:VEVENT
DTSTART;TZID=America/New_York:20260418T083000
DTEND;TZID=America/New_York:20260418T093000
DTSTAMP:20260421T042725
CREATED:20260414T191257Z
LAST-MODIFIED:20260418T132502Z
UID:10012593-1776501000-1776504600@calendar.adasisrael.org
SUMMARY:Boker Or
DESCRIPTION:
URL:https://calendar.adasisrael.org/event/boker-or-106/
LOCATION:Biran Beit Midrash
CATEGORIES:Shabbat
ATTACH;FMTTYPE=image/jpeg:https://calendar.adasisrael.org/wp-content/uploads/2023/07/Front-Professional.jpg
END:VEVENT
BEGIN:VEVENT
DTSTART;TZID=America/New_York:20260417T180000
DTEND;TZID=America/New_York:20260417T190000
DTSTAMP:20260421T042725
CREATED:20260414T191252Z
LAST-MODIFIED:20260417T225501Z
UID:10012590-1776448800-1776452400@calendar.adasisrael.org
SUMMARY:Kabbalat Shabbat Services
DESCRIPTION:
URL:https://calendar.adasisrael.org/event/kabbalat-shabbat-services-63/
LOCATION:Biran Beit Midrash
CATEGORIES:Shabbat
ATTACH;FMTTYPE=image/jpeg:https://calendar.adasisrael.org/wp-content/uploads/2023/07/Front-Professional.jpg
END:VEVENT
BEGIN:VEVENT
DTSTART;TZID=America/New_York:20260417T073000
DTEND;TZID=America/New_York:20260417T083000
DTSTAMP:20260421T042725
CREATED:20260414T191252Z
LAST-MODIFIED:20260417T122502Z
UID:10012587-1776411000-1776414600@calendar.adasisrael.org
SUMMARY:Morning Minyan
DESCRIPTION:
URL:https://calendar.adasisrael.org/event/morning-minyan-823/
LOCATION:Biran Beit Midrash
CATEGORIES:Daily Minyan
ATTACH;FMTTYPE=image/jpeg:https://calendar.adasisrael.org/wp-content/uploads/2023/07/Front-Professional.jpg
END:VEVENT
BEGIN:VEVENT
DTSTART;TZID=America/New_York:20260416T180000
DTEND;TZID=America/New_York:20260416T190000
DTSTAMP:20260421T042725
CREATED:20260414T191252Z
LAST-MODIFIED:20260416T225502Z
UID:10012586-1776362400-1776366000@calendar.adasisrael.org
SUMMARY:Evening Minyan
DESCRIPTION:
URL:https://calendar.adasisrael.org/event/evening-minyan-689/
LOCATION:Biran Beit Midrash
CATEGORIES:Daily Minyan
ATTACH;FMTTYPE=image/jpeg:https://calendar.adasisrael.org/wp-content/uploads/2023/07/Front-Professional.jpg
END:VEVENT
BEGIN:VEVENT
DTSTART;TZID=America/New_York:20260416T073000
DTEND;TZID=America/New_York:20260416T090000
DTSTAMP:20260421T042725
CREATED:20260414T191252Z
LAST-MODIFIED:20260416T123502Z
UID:10012583-1776324600-1776330000@calendar.adasisrael.org
SUMMARY:Morning Minyan
DESCRIPTION:
URL:https://calendar.adasisrael.org/event/morning-minyan-822/
LOCATION:Biran Beit Midrash
CATEGORIES:Daily Minyan
ATTACH;FMTTYPE=image/jpeg:https://calendar.adasisrael.org/wp-content/uploads/2023/07/Front-Professional.jpg
END:VEVENT
BEGIN:VEVENT
DTSTART;TZID=America/New_York:20260415T180000
DTEND;TZID=America/New_York:20260415T190000
DTSTAMP:20260421T042725
CREATED:20260414T191241Z
LAST-MODIFIED:20260415T222502Z
UID:10012579-1776276000-1776279600@calendar.adasisrael.org
SUMMARY:Evening Minyan
DESCRIPTION:
URL:https://calendar.adasisrael.org/event/evening-minyan-688/
LOCATION:Biran Beit Midrash
CATEGORIES:Daily Minyan
ATTACH;FMTTYPE=image/jpeg:https://calendar.adasisrael.org/wp-content/uploads/2023/07/Front-Professional.jpg
END:VEVENT
BEGIN:VEVENT
DTSTART;TZID=America/New_York:20260415T073000
DTEND;TZID=America/New_York:20260415T083000
DTSTAMP:20260421T042725
CREATED:20260414T191241Z
LAST-MODIFIED:20260415T122502Z
UID:10012577-1776238200-1776241800@calendar.adasisrael.org
SUMMARY:Morning Minyan
DESCRIPTION:
URL:https://calendar.adasisrael.org/event/morning-minyan-821/
LOCATION:Biran Beit Midrash
CATEGORIES:Daily Minyan
ATTACH;FMTTYPE=image/jpeg:https://calendar.adasisrael.org/wp-content/uploads/2023/07/Front-Professional.jpg
END:VEVENT
BEGIN:VEVENT
DTSTART;TZID=America/New_York:20260414T180000
DTEND;TZID=America/New_York:20260414T190000
DTSTAMP:20260421T042725
CREATED:20260414T191240Z
LAST-MODIFIED:20260414T222502Z
UID:10012573-1776189600-1776193200@calendar.adasisrael.org
SUMMARY:Evening Minyan
DESCRIPTION:
URL:https://calendar.adasisrael.org/event/evening-minyan-682/
LOCATION:Biran Beit Midrash
CATEGORIES:Daily Minyan
ATTACH;FMTTYPE=image/jpeg:https://calendar.adasisrael.org/wp-content/uploads/2023/07/Front-Professional.jpg
END:VEVENT
BEGIN:VEVENT
DTSTART;TZID=America/New_York:20260413T073000
DTEND;TZID=America/New_York:20260413T083000
DTSTAMP:20260421T042725
CREATED:20260330T162050Z
LAST-MODIFIED:20260413T120502Z
UID:10012160-1776065400-1776069000@calendar.adasisrael.org
SUMMARY:Morning Minyan
DESCRIPTION:Join us in-person or on Zoom: \nSundays and Federal Holidays at 9am\, Zoom Link Here \nMondays-Fridays at 7:30am\, Zoom Link Here \nClick Here For Shacharit Pages
URL:https://calendar.adasisrael.org/event/morning-minyan-820/
LOCATION:Biran Beit Midrash
CATEGORIES:Daily Minyan
ATTACH;FMTTYPE=image/jpeg:https://calendar.adasisrael.org/wp-content/uploads/2023/07/JThomas_20230521_0043-z8y1js.tmp_-scaled.jpg
END:VEVENT
BEGIN:VEVENT
DTSTART;TZID=America/New_York:20260412T090000
DTEND;TZID=America/New_York:20260412T100000
DTSTAMP:20260421T042725
CREATED:20260330T162049Z
LAST-MODIFIED:20260412T131002Z
UID:10012158-1775984400-1775988000@calendar.adasisrael.org
SUMMARY:Morning Minyan
DESCRIPTION:Join us in-person or on Zoom: \nSundays and Federal Holidays at 9am\, Zoom Link Here \nMondays-Fridays at 7:30am\, Zoom Link Here \nClick Here For Shacharit Pages
URL:https://calendar.adasisrael.org/event/morning-minyan-819/
LOCATION:Biran Beit Midrash
CATEGORIES:Daily Minyan
ATTACH;FMTTYPE=image/jpeg:https://calendar.adasisrael.org/wp-content/uploads/2023/07/JThomas_20230521_0043-z8y1js.tmp_-scaled.jpg
END:VEVENT
BEGIN:VEVENT
DTSTART;TZID=America/New_York:20260411T130000
DTEND;TZID=America/New_York:20260411T134500
DTSTAMP:20260421T042725
CREATED:20260330T162049Z
LAST-MODIFIED:20260411T171002Z
UID:10012157-1775912400-1775915100@calendar.adasisrael.org
SUMMARY:Shabbat Mincha Service
DESCRIPTION:Join us for a Saturday afternoon of prayer and Torah. The content of the mincha prayers reflects the essential goal of menucha (rest) on the Sabbath day.
URL:https://calendar.adasisrael.org/event/shabbat-mincha-service-142/
LOCATION:Biran Beit Midrash
CATEGORIES:Shabbat
ATTACH;FMTTYPE=image/jpeg:https://calendar.adasisrael.org/wp-content/uploads/2023/07/minchaservice600x400-sc8WO8.tmp_.jpg
END:VEVENT
BEGIN:VEVENT
DTSTART;TZID=America/New_York:20260411T083000
DTEND;TZID=America/New_York:20260411T093000
DTSTAMP:20260421T042725
CREATED:20260330T162049Z
LAST-MODIFIED:20260411T132502Z
UID:10012151-1775896200-1775899800@calendar.adasisrael.org
SUMMARY:Boker Or
DESCRIPTION:The Boker Or Torah study group meets Saturday mornings at 8:30 a.m. with the weekly portion as its focus. Join our clergy and community in person each week for an engaging\, text-based conversation on the week’s parsha\, before Shabbat services.
URL:https://calendar.adasisrael.org/event/boker-or-105/
LOCATION:Biran Beit Midrash
CATEGORIES:Shabbat
ATTACH;FMTTYPE=image/jpeg:https://calendar.adasisrael.org/wp-content/uploads/2023/07/makompic21-22-68hj8a.tmp_.jpg
END:VEVENT
BEGIN:VEVENT
DTSTART;TZID=America/New_York:20260410T180000
DTEND;TZID=America/New_York:20260410T190000
DTSTAMP:20260421T042725
CREATED:20260330T162037Z
LAST-MODIFIED:20260410T221002Z
UID:10012150-1775844000-1775847600@calendar.adasisrael.org
SUMMARY:Kabbalat Shabbat Services
DESCRIPTION:Community Kabbalat Shabbat \nThe tone of this service is traditional\, passionate\, joyful\, and spiritual. We will join together in rousing traditional melodies\, along with moments of depth and quiet contemplation. Our rabbis and other community members will share short divrei Torah (words of Torah). You will leave the service feeling renewed and in time to enjoy a wonderful Shabbat evening.
URL:https://calendar.adasisrael.org/event/kabbalat-shabbat-services-62/
LOCATION:Biran Beit Midrash
CATEGORIES:Shabbat
ATTACH;FMTTYPE=image/jpeg:https://calendar.adasisrael.org/wp-content/uploads/2024/01/253816_orig-kIYbWj.tmp_.jpg
END:VEVENT
BEGIN:VEVENT
DTSTART;TZID=America/New_York:20260410T073000
DTEND;TZID=America/New_York:20260410T090000
DTSTAMP:20260421T042725
CREATED:20260330T162037Z
LAST-MODIFIED:20260410T121026Z
UID:10012148-1775806200-1775811600@calendar.adasisrael.org
SUMMARY:Morning Minyan
DESCRIPTION:Join us in-person or on Zoom: \nSundays and Federal Holidays at 9am\, Zoom Link Here \nMondays-Fridays at 7:30am\, Zoom Link Here \nClick Here For Shacharit Pages
URL:https://calendar.adasisrael.org/event/morning-minyan-818/
LOCATION:Biran Beit Midrash
CATEGORIES:Daily Minyan
ATTACH;FMTTYPE=image/jpeg:https://calendar.adasisrael.org/wp-content/uploads/2023/07/JThomas_20230521_0043-z8y1js.tmp_-scaled.jpg
END:VEVENT
BEGIN:VEVENT
DTSTART;TZID=America/New_York:20260408T180000
DTEND;TZID=America/New_York:20260408T190000
DTSTAMP:20260421T042725
CREATED:20260330T162037Z
LAST-MODIFIED:20260408T225502Z
UID:10012146-1775671200-1775674800@calendar.adasisrael.org
SUMMARY:Evening Minyan
DESCRIPTION:Join In-Person on Mondays\, Tuesdays\, Wednesdays\, Thursdays and via Zoom every day (Sunday-Thursday).Siddur Pages: Mincha\, Maariv
URL:https://calendar.adasisrael.org/event/evening-minyan-686/
LOCATION:Biran Beit Midrash
CATEGORIES:Daily Minyan
ATTACH;FMTTYPE=image/jpeg:https://calendar.adasisrael.org/wp-content/uploads/2024/01/minyanheaderweb-XUfQxy.tmp_.jpg
END:VEVENT
BEGIN:VEVENT
DTSTART;TZID=America/New_York:20260407T180000
DTEND;TZID=America/New_York:20260407T190000
DTSTAMP:20260421T042725
CREATED:20260330T162037Z
LAST-MODIFIED:20260407T225501Z
UID:10012144-1775584800-1775588400@calendar.adasisrael.org
SUMMARY:Evening Minyan
DESCRIPTION:Join In-Person on Mondays\, Tuesdays\, Wednesdays\, Thursdays and via Zoom every day (Sunday-Thursday).Siddur Pages: Mincha\, Maariv
URL:https://calendar.adasisrael.org/event/evening-minyan-685/
LOCATION:Biran Beit Midrash
CATEGORIES:Daily Minyan
ATTACH;FMTTYPE=image/jpeg:https://calendar.adasisrael.org/wp-content/uploads/2024/01/minyanheaderweb-XUfQxy.tmp_.jpg
END:VEVENT
BEGIN:VEVENT
DTSTART;TZID=America/New_York:20260407T114500
DTEND;TZID=America/New_York:20260407T123000
DTSTAMP:20260421T042725
CREATED:20260330T162037Z
LAST-MODIFIED:20260407T163002Z
UID:10012143-1775562300-1775565000@calendar.adasisrael.org
SUMMARY:Talmud Study: From Cover to Cover
DESCRIPTION:From Cover to Cover \nExploring a Tractate of Talmud in its’ original is a deep dive into some of our tradition’s most important legal and narrative ponderings. Participants will engage with the daf (page) through traditional commentaries and guided discussion\, building both skills and confidence in navigating the Talmudic page. The class is designed for those with some prior experience in Talmud study and a desire to move toward independent learning. Over time\, we will make our way through an entire tractate—cover to cover. \nGrab your lunch and join Rabbi Yolkut as we explore the basics of Talmud study. This year we will be studying Tractate Brachot. \nTuesdays (11:45-12:30) (Begins September 2nd)
URL:https://calendar.adasisrael.org/event/talmud-study-from-cover-to-cover-23/
LOCATION:Biran Beit Midrash
ATTACH;FMTTYPE=image/jpeg:https://calendar.adasisrael.org/wp-content/uploads/2023/07/Front-Professional.jpg
END:VEVENT
BEGIN:VEVENT
DTSTART;TZID=America/New_York:20260407T083000
DTEND;TZID=America/New_York:20260407T090000
DTSTAMP:20260421T042725
CREATED:20260330T162037Z
LAST-MODIFIED:20260407T125515Z
UID:10012142-1775550600-1775552400@calendar.adasisrael.org
SUMMARY:Post Minyan Learning
DESCRIPTION:
URL:https://calendar.adasisrael.org/event/post-minyan-learning-11/
LOCATION:Biran Beit Midrash
ATTACH;FMTTYPE=image/jpeg:https://calendar.adasisrael.org/wp-content/uploads/2023/07/Front-Professional.jpg
END:VEVENT
BEGIN:VEVENT
DTSTART;TZID=America/New_York:20260407T071500
DTEND;TZID=America/New_York:20260407T083000
DTSTAMP:20260421T042725
CREATED:20260330T162037Z
LAST-MODIFIED:20260407T122002Z
UID:10012141-1775546100-1775550600@calendar.adasisrael.org
SUMMARY:Morning Minyan
DESCRIPTION:Join us in-person or on Zoom: \nSundays and Federal Holidays at 9am\, Zoom Link Here \nMondays-Fridays at 7:30am\, Zoom Link Here \nClick Here For Shacharit Pages
URL:https://calendar.adasisrael.org/event/morning-minyan-817/
LOCATION:Biran Beit Midrash
CATEGORIES:Daily Minyan
ATTACH;FMTTYPE=image/jpeg:https://calendar.adasisrael.org/wp-content/uploads/2023/07/JThomas_20230521_0043-z8y1js.tmp_-scaled.jpg
END:VEVENT
BEGIN:VEVENT
DTSTART;TZID=America/New_York:20260406T180000
DTEND;TZID=America/New_York:20260406T190000
DTSTAMP:20260421T042725
CREATED:20260330T162025Z
LAST-MODIFIED:20260406T225502Z
UID:10012140-1775498400-1775502000@calendar.adasisrael.org
SUMMARY:Evening Minyan
DESCRIPTION:Join In-Person on Mondays\, Tuesdays\, Wednesdays\, Thursdays and via Zoom every day (Sunday-Thursday).Siddur Pages: Mincha\, Maariv
URL:https://calendar.adasisrael.org/event/evening-minyan-684/
LOCATION:Biran Beit Midrash
CATEGORIES:Daily Minyan
ATTACH;FMTTYPE=image/jpeg:https://calendar.adasisrael.org/wp-content/uploads/2024/01/minyanheaderweb-XUfQxy.tmp_.jpg
END:VEVENT
BEGIN:VEVENT
DTSTART;TZID=America/New_York:20260406T071500
DTEND;TZID=America/New_York:20260406T090000
DTSTAMP:20260421T042725
CREATED:20260330T162025Z
LAST-MODIFIED:20260406T125502Z
UID:10012139-1775459700-1775466000@calendar.adasisrael.org
SUMMARY:Morning Minyan
DESCRIPTION:Join us in-person or on Zoom: \nSundays and Federal Holidays at 9am\, Zoom Link Here \nMondays-Fridays at 7:30am\, Zoom Link Here \nClick Here For Shacharit Pages
URL:https://calendar.adasisrael.org/event/morning-minyan-816/
LOCATION:Biran Beit Midrash
CATEGORIES:Daily Minyan
ATTACH;FMTTYPE=image/jpeg:https://calendar.adasisrael.org/wp-content/uploads/2023/07/JThomas_20230521_0043-z8y1js.tmp_-scaled.jpg
END:VEVENT
BEGIN:VEVENT
DTSTART;TZID=America/New_York:20260405T090000
DTEND;TZID=America/New_York:20260405T100000
DTSTAMP:20260421T042725
CREATED:20260330T162024Z
LAST-MODIFIED:20260405T135512Z
UID:10012137-1775379600-1775383200@calendar.adasisrael.org
SUMMARY:Morning Minyan
DESCRIPTION:Join us in-person or on Zoom: \nSundays and Federal Holidays at 9am\, Zoom Link Here \nMondays-Fridays at 7:30am\, Zoom Link Here \nClick Here For Shacharit Pages
URL:https://calendar.adasisrael.org/event/morning-minyan-815/
LOCATION:Biran Beit Midrash
CATEGORIES:Daily Minyan
ATTACH;FMTTYPE=image/jpeg:https://calendar.adasisrael.org/wp-content/uploads/2023/07/JThomas_20230521_0043-z8y1js.tmp_-scaled.jpg
END:VEVENT
BEGIN:VEVENT
DTSTART;TZID=America/New_York:20260404T130000
DTEND;TZID=America/New_York:20260404T134500
DTSTAMP:20260421T042725
CREATED:20260330T162024Z
LAST-MODIFIED:20260404T174502Z
UID:10012136-1775307600-1775310300@calendar.adasisrael.org
SUMMARY:Shabbat Mincha Service
DESCRIPTION:Join us for a Saturday afternoon of prayer and Torah. The content of the mincha prayers reflects the essential goal of menucha (rest) on the Sabbath day.
URL:https://calendar.adasisrael.org/event/shabbat-mincha-service-141/
LOCATION:Biran Beit Midrash
CATEGORIES:Shabbat
ATTACH;FMTTYPE=image/jpeg:https://calendar.adasisrael.org/wp-content/uploads/2023/07/minchaservice600x400-sc8WO8.tmp_.jpg
END:VEVENT
BEGIN:VEVENT
DTSTART;TZID=America/New_York:20260403T180000
DTEND;TZID=America/New_York:20260403T190000
DTSTAMP:20260421T042725
CREATED:20260330T162024Z
LAST-MODIFIED:20260403T225501Z
UID:10012132-1775239200-1775242800@calendar.adasisrael.org
SUMMARY:Kabbalat Shabbat Services
DESCRIPTION:Community Kabbalat Shabbat \nThe tone of this service is traditional\, passionate\, joyful\, and spiritual. We will join together in rousing traditional melodies\, along with moments of depth and quiet contemplation. Our rabbis and other community members will share short divrei Torah (words of Torah). You will leave the service feeling renewed and in time to enjoy a wonderful Shabbat evening.
URL:https://calendar.adasisrael.org/event/kabbalat-shabbat-services-61/
LOCATION:Biran Beit Midrash
CATEGORIES:Shabbat
ATTACH;FMTTYPE=image/jpeg:https://calendar.adasisrael.org/wp-content/uploads/2024/01/253816_orig-kIYbWj.tmp_.jpg
END:VEVENT
BEGIN:VEVENT
DTSTART;TZID=America/New_York:20260401T073000
DTEND;TZID=America/New_York:20260401T090000
DTSTAMP:20260421T042725
CREATED:20260330T162010Z
LAST-MODIFIED:20260401T125501Z
UID:10012126-1775028600-1775034000@calendar.adasisrael.org
SUMMARY:Morning Minyan and Siyyum  Lecture
DESCRIPTION:Join us in-person or on Zoom: \nSundays and Federal Holidays at 9am\, Zoom Link Here \nMondays-Fridays at 7:30am\, Zoom Link Here \nClick Here For Shacharit Pages
URL:https://calendar.adasisrael.org/event/morning-minyan-and-siyyum-lecture/
LOCATION:Biran Beit Midrash
CATEGORIES:Daily Minyan
ATTACH;FMTTYPE=image/jpeg:https://calendar.adasisrael.org/wp-content/uploads/2023/07/JThomas_20230521_0043-z8y1js.tmp_-scaled.jpg
END:VEVENT
BEGIN:VEVENT
DTSTART;TZID=America/New_York:20260331T180000
DTEND;TZID=America/New_York:20260331T190000
DTSTAMP:20260421T042725
CREATED:20260330T162010Z
LAST-MODIFIED:20260331T225501Z
UID:10012125-1774980000-1774983600@calendar.adasisrael.org
SUMMARY:Evening Minyan
DESCRIPTION:Join In-Person on Mondays\, Tuesdays\, Wednesdays\, Thursdays and via Zoom every day (Sunday-Thursday).Siddur Pages: Mincha\, Maariv
URL:https://calendar.adasisrael.org/event/evening-minyan-680/
LOCATION:Biran Beit Midrash
CATEGORIES:Daily Minyan
ATTACH;FMTTYPE=image/jpeg:https://calendar.adasisrael.org/wp-content/uploads/2024/01/minyanheaderweb-XUfQxy.tmp_.jpg
END:VEVENT
END:VCALENDAR