BEGIN:VCALENDAR
VERSION:2.0
PRODID:-//Adas Israel Congregation - ECPv6.2.9//NONSGML v1.0//EN
CALSCALE:GREGORIAN
METHOD:PUBLISH
X-ORIGINAL-URL:https://calendar.adasisrael.org
X-WR-CALDESC:Events for Adas Israel Congregation
REFRESH-INTERVAL;VALUE=DURATION:PT1H
X-Robots-Tag:noindex
X-PUBLISHED-TTL:PT1H
BEGIN:VTIMEZONE
TZID:America/New_York
BEGIN:DAYLIGHT
TZOFFSETFROM:-0500
TZOFFSETTO:-0400
TZNAME:EDT
DTSTART:20230312T070000
END:DAYLIGHT
BEGIN:STANDARD
TZOFFSETFROM:-0400
TZOFFSETTO:-0500
TZNAME:EST
DTSTART:20231105T060000
END:STANDARD
BEGIN:DAYLIGHT
TZOFFSETFROM:-0500
TZOFFSETTO:-0400
TZNAME:EDT
DTSTART:20240310T070000
END:DAYLIGHT
BEGIN:STANDARD
TZOFFSETFROM:-0400
TZOFFSETTO:-0500
TZNAME:EST
DTSTART:20241103T060000
END:STANDARD
BEGIN:DAYLIGHT
TZOFFSETFROM:-0500
TZOFFSETTO:-0400
TZNAME:EDT
DTSTART:20250309T070000
END:DAYLIGHT
BEGIN:STANDARD
TZOFFSETFROM:-0400
TZOFFSETTO:-0500
TZNAME:EST
DTSTART:20251102T060000
END:STANDARD
BEGIN:DAYLIGHT
TZOFFSETFROM:-0500
TZOFFSETTO:-0400
TZNAME:EDT
DTSTART:20260308T070000
END:DAYLIGHT
BEGIN:STANDARD
TZOFFSETFROM:-0400
TZOFFSETTO:-0500
TZNAME:EST
DTSTART:20261101T060000
END:STANDARD
END:VTIMEZONE
BEGIN:VEVENT
DTSTART;TZID=America/New_York:20260209T130000
DTEND;TZID=America/New_York:20260209T143000
DTSTAMP:20260421T145217
CREATED:20260113T234021Z
LAST-MODIFIED:20260209T191002Z
UID:10010459-1770642000-1770647400@calendar.adasisrael.org
SUMMARY:Sisterhood Knitting Group
DESCRIPTION:
URL:https://calendar.adasisrael.org/event/sisterhood-knitting-group-3/
LOCATION:3rd Floor Classrooms
ATTACH;FMTTYPE=image/jpeg:https://calendar.adasisrael.org/wp-content/uploads/2023/07/Front-Professional.jpg
END:VEVENT
BEGIN:VEVENT
DTSTART;TZID=America/New_York:20251214T120000
DTEND;TZID=America/New_York:20251214T133000
DTSTAMP:20260421T145217
CREATED:20251211T160543Z
LAST-MODIFIED:20251214T182505Z
UID:10010155-1765713600-1765719000@calendar.adasisrael.org
SUMMARY:Middle School Hanukkah Party
DESCRIPTION:
URL:https://calendar.adasisrael.org/event/middle-school-hanukkah-party-2/
LOCATION:3rd Floor Classrooms
ATTACH;FMTTYPE=image/jpeg:https://calendar.adasisrael.org/wp-content/uploads/2023/07/Front-Professional.jpg
END:VEVENT
BEGIN:VEVENT
DTSTART;TZID=America/New_York:20251206T130000
DTEND;TZID=America/New_York:20251206T164500
DTSTAMP:20260421T145217
CREATED:20251127T153004Z
LAST-MODIFIED:20251206T214003Z
UID:10009673-1765026000-1765039500@calendar.adasisrael.org
SUMMARY:Shabbat is Awesome Afternoon
DESCRIPTION:
URL:https://calendar.adasisrael.org/event/shabbat-is-awesome-afternoon-4/
LOCATION:3rd Floor Classrooms
CATEGORIES:Shabbat
ATTACH;FMTTYPE=image/jpeg:https://calendar.adasisrael.org/wp-content/uploads/2023/07/Front-Professional.jpg
END:VEVENT
BEGIN:VEVENT
DTSTART;TZID=America/New_York:20251115T174500
DTEND;TZID=America/New_York:20251115T200000
DTSTAMP:20260421T145217
CREATED:20251023T192236Z
LAST-MODIFIED:20251116T005506Z
UID:10009409-1763228700-1763236800@calendar.adasisrael.org
SUMMARY:Youth Movie Night & Havdalah
DESCRIPTION:
URL:https://calendar.adasisrael.org/event/youth-movie-night-havdalah-4/
LOCATION:3rd Floor Classrooms
ATTACH;FMTTYPE=image/jpeg:https://calendar.adasisrael.org/wp-content/uploads/2023/07/Front-Professional.jpg
END:VEVENT
BEGIN:VEVENT
DTSTART;TZID=America/New_York:20251002T080000
DTEND;TZID=America/New_York:20251002T140000
DTSTAMP:20260421T145217
CREATED:20250930T135007Z
LAST-MODIFIED:20251002T171002Z
UID:10009259-1759392000-1759413600@calendar.adasisrael.org
SUMMARY:Yom Kippur Youth Programming
DESCRIPTION:
URL:https://calendar.adasisrael.org/event/yom-kippur-youth-programming/
LOCATION:3rd Floor Classrooms
ATTACH;FMTTYPE=image/jpeg:https://calendar.adasisrael.org/wp-content/uploads/2023/07/Front-Professional.jpg
END:VEVENT
BEGIN:VEVENT
DTSTART;TZID=America/New_York:20250924T080000
DTEND;TZID=America/New_York:20250924T140000
DTSTAMP:20260421T145217
CREATED:20250919T152033Z
LAST-MODIFIED:20250924T174502Z
UID:10009220-1758700800-1758722400@calendar.adasisrael.org
SUMMARY:Rosh Hashanah Youth Programming
DESCRIPTION:
URL:https://calendar.adasisrael.org/event/rosh-hashanah-youth-programming-8/
LOCATION:3rd Floor Classrooms
ATTACH;FMTTYPE=image/jpeg:https://calendar.adasisrael.org/wp-content/uploads/2023/07/Front-Professional.jpg
END:VEVENT
BEGIN:VEVENT
DTSTART;TZID=America/New_York:20250923T080000
DTEND;TZID=America/New_York:20250923T140000
DTSTAMP:20260421T145217
CREATED:20250919T152021Z
LAST-MODIFIED:20250923T171502Z
UID:10009217-1758614400-1758636000@calendar.adasisrael.org
SUMMARY:Rosh Hashanah Youth Programming
DESCRIPTION:
URL:https://calendar.adasisrael.org/event/rosh-hashanah-youth-programming/
LOCATION:3rd Floor Classrooms
ATTACH;FMTTYPE=image/jpeg:https://calendar.adasisrael.org/wp-content/uploads/2023/07/Front-Professional.jpg
END:VEVENT
BEGIN:VEVENT
DTSTART;TZID=America/New_York:20230827T090000
DTEND;TZID=America/New_York:20230827T160000
DTSTAMP:20260421T145217
CREATED:20230712T211512Z
LAST-MODIFIED:20230827T185502Z
UID:10002057-1693126800-1693152000@calendar.adasisrael.org
SUMMARY:RS teacher orientation
DESCRIPTION:
URL:https://calendar.adasisrael.org/event/rs-teacher-orientation-7/
LOCATION:3rd Floor Classrooms
ATTACH;FMTTYPE=image/jpeg:https://calendar.adasisrael.org/wp-content/uploads/2023/07/Front-Professional.jpg
END:VEVENT
BEGIN:VEVENT
DTSTART;TZID=America/New_York:20230820T090000
DTEND;TZID=America/New_York:20230820T170000
DTSTAMP:20260421T145217
CREATED:20230712T211503Z
LAST-MODIFIED:20230820T201002Z
UID:10002020-1692522000-1692550800@calendar.adasisrael.org
SUMMARY:RS new teacher orientation
DESCRIPTION:
URL:https://calendar.adasisrael.org/event/rs-new-teacher-orientation-5/
LOCATION:3rd Floor Classrooms
ATTACH;FMTTYPE=image/jpeg:https://calendar.adasisrael.org/wp-content/uploads/2023/07/Front-Professional.jpg
END:VEVENT
END:VCALENDAR